BEGIN:VCALENDAR
VERSION:2.0
PRODID:-//Kultura Maribor - ECPv6.2.8.1//NONSGML v1.0//EN
CALSCALE:GREGORIAN
METHOD:PUBLISH
X-WR-CALNAME:Kultura Maribor
X-ORIGINAL-URL:https://kultura.maribor.si
X-WR-CALDESC:Events for Kultura Maribor
REFRESH-INTERVAL;VALUE=DURATION:PT1H
X-Robots-Tag:noindex
X-PUBLISHED-TTL:PT1H
BEGIN:VTIMEZONE
TZID:Europe/Paris
BEGIN:DAYLIGHT
TZOFFSETFROM:+0100
TZOFFSETTO:+0200
TZNAME:CEST
DTSTART:20240331T010000
END:DAYLIGHT
BEGIN:STANDARD
TZOFFSETFROM:+0200
TZOFFSETTO:+0100
TZNAME:CET
DTSTART:20241027T010000
END:STANDARD
END:VTIMEZONE
BEGIN:VEVENT
DTSTART;TZID=Europe/Paris:20240824T200000
DTEND;TZID=Europe/Paris:20240824T220000
DTSTAMP:20260423T183217
CREATED:20240820T054516Z
LAST-MODIFIED:20240821T091048Z
UID:75861-1724529600-1724536800@kultura.maribor.si
SUMMARY:Mario Pešić & CO.
DESCRIPTION:Mario Pešić bo nastopil na Grajskem trgu in vas zabaval z iitiranjem različnih glasbenikov.Mario Pešić; pevec\, ki se ponaša z izrazito karizmatično osebnostjo in igrivim pristopom\, bo to soboto\, 24. 𝙖𝙫𝙜𝙪𝙨𝙩𝙖\, 𝙣𝙖𝙨𝙩𝙤𝙥𝙞𝙡 𝙣𝙖 𝙂𝙧𝙖𝙟𝙨𝙠𝙚𝙢 𝙩𝙧𝙜𝙪. Mario je znan po svojem izjemnem talentu\, s katerim zna pripovedovati zgodbe na poseben\, doživeto slikovit način\, kar pritegne poslušalce vseh generacij. Njegovo sodelovanje v šovu 𝙕𝙣𝙖𝙣 𝙤𝙗𝙧𝙖𝙯 𝙞𝙢𝙖 𝙨𝙫𝙤𝙟 𝙜𝙡𝙖𝙨 je bilo zanj eden največjih izzivov\, ki mu je omogočil popolnoma predano ustvarjanje.\nZ glasbo si prizadeva navdihniti predvsem mlajše občinstvo\, da sledijo svojim sanjam in ostanejo zvesti sebi. Na koncertu bo prepeval pesmi legend\, kot so 𝙀𝙡𝙫𝙞𝙨 𝙋𝙧𝙚𝙨𝙡𝙚𝙮\, 𝙅𝙖𝙣 𝙋𝙡𝙚𝙨𝙩𝙚𝙣𝙟𝙖𝙠\, 𝙅𝙖𝙨𝙢𝙞𝙣 𝙎𝙩𝙖𝙫𝙧𝙤𝙨 𝙞𝙣 𝘽𝙖𝙟𝙖𝙜𝙖\, kar obeta čudovit glasbeni večer.\nVabljeni\, da se pridružite na naših terasah in uživate poletni večer v zanimivi glasbeni izkušnji. \n\nPovezava do originalnega članka
URL:https://kultura.maribor.si/dogodek/mario-pesi-co-2024-08-24-20-00-00-2024-08-24-22-00-00/
LOCATION:Maribor center / Grajski trg\, 2000 Maribor
CATEGORIES:Dogodki,Glasba
ATTACH;FMTTYPE=image/jpeg:https://kultura.maribor.si/wp-content/uploads/2024/08/1b78d2f4-d3c1-4a58-bd1a-652697bcaf9e.jpg
END:VEVENT
BEGIN:VEVENT
DTSTART;TZID=Europe/Paris:20240810T200000
DTEND;TZID=Europe/Paris:20240810T220000
DTSTAMP:20260423T183217
CREATED:20240803T172943Z
LAST-MODIFIED:20240806T082732Z
UID:75474-1723320000-1723327200@kultura.maribor.si
SUMMARY:Benjamin King in Klara Veteršek
DESCRIPTION:Benjamin King in Klara Veteršek bosta nastopila kot duet na Grajskem trgu. \n\nPovezava do originalnega članka
URL:https://kultura.maribor.si/dogodek/benjamin-king-in-klara-vetersek-2024-08-10-20-00-00-2024-08-10-22-00-00/
LOCATION:Maribor center / Grajski trg\, 2000 Maribor
CATEGORIES:Dogodki,Glasba
ATTACH;FMTTYPE=image/jpeg:https://kultura.maribor.si/wp-content/uploads/2024/08/37bf4554-ec88-4094-a68e-d50013f1388b.jpg
END:VEVENT
BEGIN:VEVENT
DTSTART;TZID=Europe/Paris:20240809T200000
DTEND;TZID=Europe/Paris:20240809T220000
DTSTAMP:20260423T183217
CREATED:20240802T085046Z
LAST-MODIFIED:20240806T082538Z
UID:75446-1723233600-1723240800@kultura.maribor.si
SUMMARY:Nuša Bezjak - koncert
DESCRIPTION:Na Grajskem trgu bo nastopila Nuša Bezjak\, ki bo navduševala s svojim očarljivim glasom. \nNa Grajskem trgu bo v petek\, 9. avgusta\, nastopila Nuša Bezjak s svojim očarljivim glasom. \nNuša je mlada nadobudnica\, ki je nastopila na Slovenija ima talent leta 2023. \nV Astoriji smo že poslušali njen izbor pesmi v hlasnejših dneh na notranjem odru\, tokrat pa bo zabavala celoten Grajski trg. \nVabljeni\, da se na poletni večer podružite na naših terasah ob odlični poletni ponudbi in živi glasbi. \n\nPovezava do originalnega članka
URL:https://kultura.maribor.si/dogodek/nusa-bezjak-koncert-2024-08-09-20-00-00-2024-08-09-22-00-00/
LOCATION:Maribor center / Grajski trg\, 2000 Maribor
CATEGORIES:Dogodki,Glasba
ATTACH;FMTTYPE=image/jpeg:https://kultura.maribor.si/wp-content/uploads/2024/08/5019fa18-51e4-4aa6-8579-639df9d48d96.jpg
END:VEVENT
END:VCALENDAR