BEGIN:VCALENDAR
VERSION:2.0
PRODID:-//Kultura Maribor - ECPv6.2.8.1//NONSGML v1.0//EN
CALSCALE:GREGORIAN
METHOD:PUBLISH
X-WR-CALNAME:Kultura Maribor
X-ORIGINAL-URL:https://kultura.maribor.si
X-WR-CALDESC:Events for Kultura Maribor
REFRESH-INTERVAL;VALUE=DURATION:PT1H
X-Robots-Tag:noindex
X-PUBLISHED-TTL:PT1H
BEGIN:VTIMEZONE
TZID:Europe/Paris
BEGIN:DAYLIGHT
TZOFFSETFROM:+0100
TZOFFSETTO:+0200
TZNAME:CEST
DTSTART:20260329T010000
END:DAYLIGHT
BEGIN:STANDARD
TZOFFSETFROM:+0200
TZOFFSETTO:+0100
TZNAME:CET
DTSTART:20261025T010000
END:STANDARD
END:VTIMEZONE
BEGIN:VEVENT
DTSTART;TZID=Europe/Paris:20260516T110000
DTEND;TZID=Europe/Paris:20260516T220000
DTSTAMP:20260423T170149
CREATED:20260417T020136Z
LAST-MODIFIED:20260421T123321Z
UID:120256-1778929200-1778968800@kultura.maribor.si
SUMMARY:Rap & Rampe
DESCRIPTION:Hip hop festival v Skate parku Maribor\nRAP & RAMPE\nSobota\, 16. maj 2026 // 11.00-22.00 // Skate park Maribor \nV soboto\, 16. maja 2026\, bo na Skate parku Maribor potekal celodnevni dogodek Rap & rampe\, sestavljen iz rap tekmovanja po modelu odprtega mikrofona\, in skate tekmovanja. Del spremljevalnega programa bosta delavnica zinov in predstavitev longboardov.  \nDogodek organizira Mladinski kulturni center Maribor in je bil izbran v sklopu Participativnega proračuna Mestne občine Maribor. Dogajanje bo trajalo med 11.00 in 22.00\, v tem času pa se bosta izmenjevali rap in skate tekmovanji. \nURNIK DOGODKA \n11.00-13.00: zbiranje \n13.00-14.00: cash 4 tricks \n15.30-17.00: rap \n17.00-18.00: cash 4 tricks \n18.30-20.00: rap \n20.00-22.00: chill\, skate muzika \n\n\n\n\n\n\nHip Hop maraton (open MIC)\nRepaš? Imaš zanimive komade\, ki jih nimaš možnosti nikjer predstaviti? Se ti zdi\, da bi lahko na odru zablestel\, če bi le dobil pravo priložnost? Si morda v kakšni skupini kjer redno izmenjujete rime in tudi kdaj kaj posnamete? Ali pa morda delaš to bolj doma\, zase? Če si na katero vprašanje pritrdil\, smo našli nekaj zate. \nNa izjemno sproščenem in živahnem dogodku\, kjer se bo sočasno z rap nastopi odvijal sk8 contest epskih razsežnosti\, si lahko tudi ti! Prijavi se na OPEN MIC in razturaj! Nastopaš lahko več svojih komadov\, zato se dobro pripravi! \nDogodek bo imel tudi tekmovalno noto\, a ne pozabi – važno je druženje\, mreženje s somišljeniki in ljudmi\, ki delajo hude zadeve! Najboljše čakajo zanimive nagrade! \nV tekmovalnem delu bodo odločali sodniki in publika\, tako da pripelji še svojo vojsko navijačev. Sodniki se bodo razkrivali sproti! Dogodek bo povezal legendarni Amo Socialec! \nŠtevilo mest je omejeno\, tako da pohiti s prijavo! \n\n\n\n\n\nPRIJAVA\n\n\n\n\n\nCASH 4 TRICKS: Skate tekmovanje\nPripravi se na akcijo\, kjer bodo skejterji pokazali najbolj nore trike in zanje takoj pobirali denarne nagrade. Vsak uspešen trik šteje\, zato pričakuj kreativnost\, tveganje in vrhunski stil. \nPridi navijat\, skejtat ali samo uživat v energiji prave skate scene! \n***\nSpremljevalni program\nDELAVNICA IZDELOVANJA ZINOV \nZine je majhna\, samostojno narejena publikacija – nekaj med mini revijo\, knjižico in umetniškim projektom. Pogosto je izdelana z namenom širjenje umetniških del\, kritik in ozaveščanja ljudi v družbi. V njej lahko izraziš svoje misli skozi poezijo\, prozo\, risbe\, v obliki stripa ali kolaža. \nČe bi se rad preizkusil v izdelavi svojega zinea\, je pred teboj super priložnost. Vse kar potrebuješ je ideja\, kanček umetniške žilice in veliko dobre volje. Starostne omejitve ni. Delavnico bo vodila Eva Rehbergar. \nPREDSTAVITEV LONGBOARD \nTekom dogodka se boste lahko preizkusili tudi v longboard dancingu. To je zvrst skejtanja\, kjer na približno meter dolgem longboardu izvajaš različne korake in trike ter jih med seboj povezuješ v tekoče gibanje. Šport vam bodo predstavili Longboard Slovenija\, ki iščejo nove privržence\, ki se jim bodo pridružili na njihovih nedeljskih sk8 sešnih. \nDogodek bo glasbeno povezoval DJ SHA. Je producent in DJ\, ki že od malih nog gradi svojo zgodbo skozi glasbo. Njegov stil temelji na pristnem hip hop zvoku – od klasičnega boom bapa do sodobnih interpretacij\, vse z močnim poudarkom na jazzy in groovy elementih. \n\n\n\n\n\n\n\n\n\nProjekt je bil izbran v sklopu Participativnega proračuna Mestne občine Maribor. \n\n\n\n\n\n\nPovezava do originalnega članka
URL:https://kultura.maribor.si/dogodek/rap-rampe-2026-05-16-11-00-00-2026-05-16-22-00-00/
LOCATION:RapNrampe_LEZECE_1b
CATEGORIES:Dogodki,Festivali
ATTACH;FMTTYPE=image/webp:https://kultura.maribor.si/wp-content/uploads/2026/04/RapNrampe_LEZECE_1b.webp
END:VEVENT
END:VCALENDAR