BEGIN:VCALENDAR
VERSION:2.0
PRODID:-//Kultura Maribor - ECPv6.2.8.1//NONSGML v1.0//EN
CALSCALE:GREGORIAN
METHOD:PUBLISH
X-WR-CALNAME:Kultura Maribor
X-ORIGINAL-URL:https://kultura.maribor.si
X-WR-CALDESC:Events for Kultura Maribor
REFRESH-INTERVAL;VALUE=DURATION:PT1H
X-Robots-Tag:noindex
X-PUBLISHED-TTL:PT1H
BEGIN:VTIMEZONE
TZID:Europe/Paris
BEGIN:DAYLIGHT
TZOFFSETFROM:+0100
TZOFFSETTO:+0200
TZNAME:CEST
DTSTART:20260329T010000
END:DAYLIGHT
BEGIN:STANDARD
TZOFFSETFROM:+0200
TZOFFSETTO:+0100
TZNAME:CET
DTSTART:20261025T010000
END:STANDARD
END:VTIMEZONE
BEGIN:VEVENT
DTSTART;TZID=Europe/Paris:20260608T180000
DTEND;TZID=Europe/Paris:20260608T180000
DTSTAMP:20260422T160040
CREATED:20260409T020153Z
LAST-MODIFIED:20260409T125550Z
UID:119245-1780941600-1780941600@kultura.maribor.si
SUMMARY:Knjige na Borštniku
DESCRIPTION:Gledališče je široko in poglobljeno polje znanja\, veščin in razmislekov\, utemeljeno na večtisočletni tradiciji. \nGledališka zgodovina\, teorija\, kritika\, analiza in refleksija se ohranjajo in razvijajo v strokovni literaturi. Slovenski gledališki inštitut\, Knjižnica MGL\, Festival Borštnikovo srečanje\, UL AGRFT\, Maska Ljubljana in Emanat – povezani pod skupno znamko Slovenski gledališki založniki – tudi letos v času festivala predstavljajo izbor najnovejših knjižnih izdaj\, strokovne periodike in referenčnih publikacij\, namenjenih tako gledališkim ustvarjalcem kot zainteresirani širši javnosti. \nPublikacije so na voljo po znižanih festivalskih cenah vsak dan pol ure pred začetkom predstav v SNG Maribor. \n\nPovezava do originalnega članka
URL:https://kultura.maribor.si/dogodek/knjige-na-borstniku-2026-06-08-18-00-00-2026-06-08-00-00-00/
LOCATION:Maribor center / SNG Maribor
CATEGORIES:Dogodki,Literatura
ATTACH;FMTTYPE=image/jpeg:https://kultura.maribor.si/wp-content/uploads/2026/04/knjige-na-borstniku-visit-maribor-pohorje-slovenia-slovenija-1.jpg
END:VEVENT
END:VCALENDAR