BEGIN:VCALENDAR
VERSION:2.0
PRODID:-//Kultura Maribor - ECPv6.2.8.1//NONSGML v1.0//EN
CALSCALE:GREGORIAN
METHOD:PUBLISH
X-ORIGINAL-URL:https://kultura.maribor.si
X-WR-CALDESC:Events for Kultura Maribor
REFRESH-INTERVAL;VALUE=DURATION:PT1H
X-Robots-Tag:noindex
X-PUBLISHED-TTL:PT1H
BEGIN:VTIMEZONE
TZID:Europe/Paris
BEGIN:DAYLIGHT
TZOFFSETFROM:+0100
TZOFFSETTO:+0200
TZNAME:CEST
DTSTART:20240331T010000
END:DAYLIGHT
BEGIN:STANDARD
TZOFFSETFROM:+0200
TZOFFSETTO:+0100
TZNAME:CET
DTSTART:20241027T010000
END:STANDARD
END:VTIMEZONE
BEGIN:VEVENT
DTSTART;TZID=Europe/Paris:20240901T110000
DTEND;TZID=Europe/Paris:20240901T110000
DTSTAMP:20260425T012003
CREATED:20240628T063913Z
LAST-MODIFIED:20240826T094110Z
UID:74154-1725188400-1725188400@kultura.maribor.si
SUMMARY:Princesa na zrnu graha 3+
DESCRIPTION:Po motivih H. C. Andersena / 40 min\n\nPravljice so stare kot svet in vedno znova mlade\, kot smo mladi njihovi bralci\, poslušalci ali gledalci. Spodobna in poštena pravljica mora imeti volka\, dobro vilo\, zmaja … ali pa vsaj princa in princeso. \nHans Christian Andersen je napisal táko\, v kateri nastopa celo več princes. Na našem odru postanejo malo sodobnejše: kraljica si želi na počitnice\, princ pa si noče izbrati princese in prevzeti prestola. Se bosta s princeso našla? Bo morebitna princesa sploh prava? Kaj je z zrnom graha v naši pravljici? \nOdgovore na vsa ta vprašanja boste našli v naši predstavi. \n\n\nNakup kart \n\n\nPovezava do originalnega članka
URL:https://kultura.maribor.si/dogodek/princesa-na-zrnu-graha-3-2024-09-01-11-00-00/
LOCATION:195A2663-Enhanced-NR_h
CATEGORIES:Dogodki,Gledališče,Kulturno-umetnostna vzgoja
ATTACH;FMTTYPE=image/jpeg:https://kultura.maribor.si/wp-content/uploads/2024/06/195A2663-Enhanced-NR_h-1.jpg
END:VEVENT
BEGIN:VEVENT
DTSTART;TZID=Europe/Paris:20240908T110000
DTEND;TZID=Europe/Paris:20240908T120000
DTSTAMP:20260425T012003
CREATED:20240827T100737Z
LAST-MODIFIED:20240830T062755Z
UID:76159-1725793200-1725796800@kultura.maribor.si
SUMMARY:Repki v Mariboru (Glasbena predstava za otroke in družine)
DESCRIPTION:Vabljeni na nepozabno zabavo\, kjer si tradicionalna otroška poezija in rap podata roko in zaplešeta! \n\nPovezava do originalnega članka
URL:https://kultura.maribor.si/dogodek/repki-v-mariboru-glasbena-predstava-za-otroke-in-druzine-2024-09-08-11-00-00-2024-09-08-12-00-00/
LOCATION:7ee031b2-2634-4113-a71e-90c9bede9bac
CATEGORIES:Dogodki,Glasba,Kulturno-umetnostna vzgoja
ATTACH;FMTTYPE=image/jpeg:https://kultura.maribor.si/wp-content/uploads/2024/08/7ee031b2-2634-4113-a71e-90c9bede9bac.jpg
END:VEVENT
END:VCALENDAR