BEGIN:VCALENDAR
VERSION:2.0
PRODID:-//Kultura Maribor - ECPv6.2.8.1//NONSGML v1.0//EN
CALSCALE:GREGORIAN
METHOD:PUBLISH
X-WR-CALNAME:Kultura Maribor
X-ORIGINAL-URL:https://kultura.maribor.si
X-WR-CALDESC:Events for Kultura Maribor
REFRESH-INTERVAL;VALUE=DURATION:PT1H
X-Robots-Tag:noindex
X-PUBLISHED-TTL:PT1H
BEGIN:VTIMEZONE
TZID:Europe/Paris
BEGIN:DAYLIGHT
TZOFFSETFROM:+0100
TZOFFSETTO:+0200
TZNAME:CEST
DTSTART:20240331T010000
END:DAYLIGHT
BEGIN:STANDARD
TZOFFSETFROM:+0200
TZOFFSETTO:+0100
TZNAME:CET
DTSTART:20241027T010000
END:STANDARD
END:VTIMEZONE
BEGIN:VEVENT
DTSTART;TZID=Europe/Paris:20240801T090000
DTEND;TZID=Europe/Paris:20240831T210000
DTSTAMP:20260424T165631
CREATED:20240415T111159Z
LAST-MODIFIED:20240708T060658Z
UID:71454-1722502800-1725138000@kultura.maribor.si
SUMMARY:35. Poletni lutkovni pristan
DESCRIPTION:Lutkovno gledališče Maribor prireja že 35. Poletni lutkovni pristan\, mednarodni lutkovni festival z najdaljšo tradicijo. \n\n\n\nNa festivalu bodo sodelovali priznani slovenski lutkovni ustvarjalci in gostje iz Finske\, Italije\, Slovaške\, Madžarske in Francije. Tudi letos se bomo povezali s številnimi organizacijami v mestu in organizirali predstave na Art kampu v Mestnem parku\, pred Umetnostno galerijo Maribor in na Mariborskem otoku. \nVstopnice za predstave Poletnega lutkovnega pristana v Lutkovnem gledališču Maribor so po ceni 3 eur na voljo na spletu; pri blagajni gledališča pa od 27. junija 2024 naprej. \nFestival financirata Mestna občina Maribor in Ministrstvo za kulturo RS. \n  \n\n\n\nPoletni lutkovni pristan 2024\n\n\n\nZloženka 35. PLP 2024PDF / 590 KB \n\n\n\n\nO PLP\n\n\nOd leta 1990 Lutkovno gledališče Maribor organizira mednarodni festival Poletni lutkovni pristan\, ki ostaja stalnica poletnega dogajanja v mestu. Meseca avgusta vsako leto si odličen program ogleda več tisoč obiskovalcev. V prvi vrsti seveda ponuja najboljše tuje in domače lutkovne predstave za otroke\, pa tudi predstave za odrasle\, delavnice\, razstave\, instalacije in druge spremljevalne dogodke. S podporo Mestne občine Maribor tako mariborski lutkarji vsako leto privabijo najboljše\, kar ponuja lutkovni svet. Od jubilejnega 30. Poletnega lutkovnega pristana prejme najboljša predstava po izboru otroške žirije nagrado zlata žirafa. \n\n\n\nPROGRAM \n\nPovezava do originalnega članka
URL:https://kultura.maribor.si/dogodek/35-poletni-lutkovni-pristan-2024-08-01-09-00-00-2024-08-31-21-00-00/
LOCATION:Maribor center / Lutkovno gledališče Maribor\, Vojašniški trg 2A\, 2000 Maribor
CATEGORIES:Delavnice,Dogodki,Festivali,Gledališče,Kulturno-umetnostna vzgoja
ATTACH;FMTTYPE=image/jpeg:https://kultura.maribor.si/wp-content/uploads/2024/04/509563a2-c1c0-45aa-a0c4-06bfb6392bad.jpg
END:VEVENT
BEGIN:VEVENT
DTSTART;TZID=Europe/Paris:20240812T170000
DTEND;TZID=Europe/Paris:20240812T170000
DTSTAMP:20260424T165631
CREATED:20240709T045409Z
LAST-MODIFIED:20240806T083041Z
UID:74764-1723482000-1723482000@kultura.maribor.si
SUMMARY:Letni oder Ruše: Alenka Spacal - Ptičje pravljice
DESCRIPTION:Pohorska pravljica \nAlenka Spacal bo najprej pripovedovala slovensko ljudsko pravljico Zlata orehova vejica. Sledile bodo ptičje zgodbe iz avtorske slikanice Modre ptičje misli (Bajalka\, 2018). \nAlenka Spacal je pisateljica\, ilustratorka in pravljičarka. Razstavlja na samostojnih in skupinskih razstavah ilustracij doma ter v tujini. \nNjene ilustracije so bile večkrat nagrajene. \n\nPovezava do originalnega članka
URL:https://kultura.maribor.si/dogodek/letni-oder-ruse-alenka-spacal-pticje-pravljice-2024-08-12-17-00-00-2024-08-12-00-00-00/
LOCATION:Okolica / Trg vstaje pred Občino Ruše
CATEGORIES:Dogodki,Kulturno-umetnostna vzgoja
ATTACH;FMTTYPE=image/jpeg:https://kultura.maribor.si/wp-content/uploads/2024/07/0ceae539-f012-4d6c-80b7-72383726d656.jpg
END:VEVENT
BEGIN:VEVENT
DTSTART;TZID=Europe/Paris:20240813T170000
DTEND;TZID=Europe/Paris:20240813T170000
DTSTAMP:20260424T165631
CREATED:20240709T045413Z
LAST-MODIFIED:20240806T083051Z
UID:74766-1723568400-1723568400@kultura.maribor.si
SUMMARY:Letni oder Ruše: Zdenka Gajser - Vodni mož Gestrin
DESCRIPTION:Pohorska pravljica \nZdenka Gajser bo v pripovedovani besedi oživela bajna bitja\, ki so stoletja burila domišljijo predvsem splavarjem\, ki so se spuščali po nevarni reki Dravi. \nZdenka Gajser je pravljičarka\, mladinska knjižničarka in pesnica. \nJe prejemnica nagrade Slovenske sekcije IBBY 2017 za izjemne dosežke na področju promocije mladinske književnosti in branja. \n\nPovezava do originalnega članka
URL:https://kultura.maribor.si/dogodek/letni-oder-ruse-zdenka-gajser-vodni-moz-gestrin-2024-08-13-17-00-00-2024-08-13-00-00-00/
LOCATION:Okolica / Trg vstaje pred Občino Ruše
CATEGORIES:Dogodki,Kulturno-umetnostna vzgoja,Literatura
ATTACH;FMTTYPE=image/jpeg:https://kultura.maribor.si/wp-content/uploads/2024/07/8f376138-d290-45b7-83a1-21d2e96a8369.jpg
END:VEVENT
BEGIN:VEVENT
DTSTART;TZID=Europe/Paris:20240817T000000
DTEND;TZID=Europe/Paris:20240901T000000
DTSTAMP:20260424T165631
CREATED:20240627T061126Z
LAST-MODIFIED:20240813T065851Z
UID:74102-1723852800-1725148800@kultura.maribor.si
SUMMARY:35. poletni lutkovni pristan
DESCRIPTION:Lutkovno gledališče Maribor prireja že 35. Poletni lutkovni pristan\, mednarodni lutkovni festival z najdaljšo tradicijo. \nNa festivalu bodo sodelovali priznani slovenski lutkovni ustvarjalci in gostje iz Finske\, Italije\, Slovaške\, Madžarske in Francije. Tudi letos se bomo povezali s številnimi organizacijami v mestu in organizirali predstave na Art kampu v Mestnem parku\, pred Umetnostno galerijo Maribor in na Mariborskem otoku. \nVstopnice za predstave Poletnega lutkovnega pristana v Lutkovnem gledališču Maribor so po ceni 3 eur na voljo na spletu; pri blagajni gledališča pa od 27. junija 2024 naprej. \nFestival financirata Mestna občina Maribor in Ministrstvo za kulturo RS. \n  \n\n\n\n\n\n\n\n\nZloženka 35. PLP 2024PDF / 590 KB\n\n\n\n\n\n\n\n  \n\n\n\n\nPovezava do originalnega članka
URL:https://kultura.maribor.si/dogodek/35-poletni-lutkovni-pristan-2024-08-17-00-00-00-2024-09-01-00-00-00/
LOCATION:Maribor center / Lutkovno gledališče Maribor\, Vojašniški trg 2A\, 2000 Maribor
CATEGORIES:Dogodki,Festivali,Gledališče,Kulturno-umetnostna vzgoja
ATTACH;FMTTYPE=image/jpeg:https://kultura.maribor.si/wp-content/uploads/2024/06/509563a2-c1c0-45aa-a0c4-06bfb6392bad-1.jpg
END:VEVENT
BEGIN:VEVENT
DTSTART;TZID=Europe/Paris:20240822T190000
DTEND;TZID=Europe/Paris:20240822T190000
DTSTAMP:20260424T165631
CREATED:20240627T083636Z
LAST-MODIFIED:20240813T070447Z
UID:74120-1724353200-1724353200@kultura.maribor.si
SUMMARY:Gluha republika 15+
DESCRIPTION:Ilya Kaminsky / 45 min\n\nGluha republika Ilye Kaminskega\, ameriškega avtorja ukrajinskega rodu\, je pesnitev o diktaturi\, uporu in poziciji človeka v svetu\, in sicer skozi zgodbo gluhega dečka\, ki postane žrtev represije in simbol upora. Je pripoved o mestu\, ki ga zasedejo tuji vojaki\, meščani pa se jim uprejo z gluhostjo\, ki je prispodoba za stanje v družbi\, ki v napačni komunikaciji in konfliktih vendarle upa na mir … in ne na tišino. Večplastnost zgodbe\, ki se razkriva v pesnitvi\, je pretresljiva … V sebi nosi\nljubezensko zgodbo\, elegijo in nujno prošnjo za mir in nas sooča z grozotami našega časa in z našim kolektivnim molkom pred njimi. \n\n\nNakup kart \n\n\nPovezava do originalnega članka
URL:https://kultura.maribor.si/dogodek/gluha-republika-15-2024-08-22-19-00-00/
LOCATION:Mala dvorana
CATEGORIES:Dogodki,Gledališče,Kulturno-umetnostna vzgoja
ATTACH;FMTTYPE=image/jpeg:https://kultura.maribor.si/wp-content/uploads/2024/06/0I6A0781-Edit_h-1.jpg
END:VEVENT
BEGIN:VEVENT
DTSTART;TZID=Europe/Paris:20240823T180000
DTEND;TZID=Europe/Paris:20240823T180000
DTSTAMP:20260424T165631
CREATED:20240627T083642Z
LAST-MODIFIED:20240819T104711Z
UID:74124-1724436000-1724436000@kultura.maribor.si
SUMMARY:Dobro jutro\, travnik 3+
DESCRIPTION:Anja Štefan / Moment\n\nPesniško raziskovanje življenja na travniku in ob travniških mlakah – od jutra do večera – z živo glasbo in lutkami. \n\n\nNakup kart \n\n\nPovezava do originalnega članka
URL:https://kultura.maribor.si/dogodek/dobro-jutro-travnik-3-2024-08-23-18-00-00/
LOCATION:Velika dvorana
CATEGORIES:Dogodki,Gledališče,Kulturno-umetnostna vzgoja
ATTACH;FMTTYPE=image/jpeg:https://kultura.maribor.si/wp-content/uploads/2024/06/travnik1.jpg
END:VEVENT
END:VCALENDAR