BEGIN:VCALENDAR
VERSION:2.0
PRODID:-//Kultura Maribor - ECPv6.2.8.1//NONSGML v1.0//EN
CALSCALE:GREGORIAN
METHOD:PUBLISH
X-ORIGINAL-URL:https://kultura.maribor.si
X-WR-CALDESC:Events for Kultura Maribor
REFRESH-INTERVAL;VALUE=DURATION:PT1H
X-Robots-Tag:noindex
X-PUBLISHED-TTL:PT1H
BEGIN:VTIMEZONE
TZID:Europe/Paris
BEGIN:DAYLIGHT
TZOFFSETFROM:+0100
TZOFFSETTO:+0200
TZNAME:CEST
DTSTART:20250330T010000
END:DAYLIGHT
BEGIN:STANDARD
TZOFFSETFROM:+0200
TZOFFSETTO:+0100
TZNAME:CET
DTSTART:20251026T010000
END:STANDARD
END:VTIMEZONE
BEGIN:VEVENT
DTSTART;TZID=Europe/Paris:20250415T190000
DTEND;TZID=Europe/Paris:20250415T190000
DTSTAMP:20260425T221608
CREATED:20250312T020121Z
LAST-MODIFIED:20250328T082458Z
UID:85876-1744743600-1744743600@kultura.maribor.si
SUMMARY:Glasbena komedija: Nune v akciji
DESCRIPTION:Po 100. ponovitvah se neutrudljive Nune vračajo v Selnico\, da v duhu velike noči z dobrodelno akcijo pomagajo svojim častnim sestram\, ki so se znašle v težavah.Po 100. ponovitvah se neutrudljive Nune vračajo v Selnico\, da v duhu velike noči z dobrodelno akcijo pomagajo svojim častnim sestram\, ki so se znašle v težavah. \nIgrajo: Gojmir Lešnjak-Gojc\, Simona Vodopivec-Franko\, Alenka Godec\, Marjan Bunič in Lea Bartha Pesek. Kot glasbeni vodja in instrumentalist pri predstavi sodeluje Miran Juvan. \n»Pričakujete lahko vrhunsko predstavo\, saj drugačnih v naši produkcijski hiši niti ne znamo … niti nočemo delati!« \n\nPovezava do originalnega članka
URL:https://kultura.maribor.si/dogodek/glasbena-komedija-nune-v-akciji-2025-04-15-19-00-00-2025-04-15-00-00-00-2/
LOCATION:Okolica / Mariborska cesta 26\, 2352 Selnica ob Dravi
CATEGORIES:Dogodki,Gledališče
ATTACH;FMTTYPE=image/jpeg:https://kultura.maribor.si/wp-content/uploads/2025/03/cb318dc4-f562-40f3-bee0-db2ea928e981.jpg
END:VEVENT
BEGIN:VEVENT
DTSTART;TZID=Europe/Paris:20250416T100000
DTEND;TZID=Europe/Paris:20250416T120000
DTSTAMP:20260425T221608
CREATED:20250403T020002Z
LAST-MODIFIED:20250407T092020Z
UID:87663-1744797600-1744804800@kultura.maribor.si
SUMMARY:Sijaj\, sijaj sončece 3+
DESCRIPTION:Ana Duša po motivih ljudskih pesmih\n\nDrobne ljudske pesmi\, izštevanke in uganke večno nagovarjajo otroke v vseh nas. Kratke in slikovite kar kličejo po lutkovni upodobitvi. \n\n\nNakup kart \n\n\nPovezava do originalnega članka
URL:https://kultura.maribor.si/dogodek/sijaj-sijaj-soncece-3-2025-05-16-17-00-00-2/
LOCATION:Maribor center / Muzej NO
CATEGORIES:Dogodki,Gledališče
ATTACH;FMTTYPE=image/jpeg:https://kultura.maribor.si/wp-content/uploads/2025/04/2024-04-03-kako-so-nekoc-ziveli-mariborcani-in-mariborcanke-foto-janez-klenovsek-2-scaled-jpg-20250130081948.jpg
END:VEVENT
BEGIN:VEVENT
DTSTART;TZID=Europe/Paris:20250416T200000
DTEND;TZID=Europe/Paris:20250416T200000
DTSTAMP:20260425T221608
CREATED:20250410T020205Z
LAST-MODIFIED:20250410T081716Z
UID:88236-1744833600-1744833600@kultura.maribor.si
SUMMARY:KGB - Črni humor
DESCRIPTION:Smo za črno? \n28. novembra bo v KGB-ju prava norija! Na odru se bodo zvrstili štirje mojstri črnega humorja\, Sašo Stare\, Marko Žerjal\, Alen Borišek in Aljaž Poredoš\, ki bodo brez zavor razkrili najtemnejše in najbolj politično nekorektne teme. \nČe ste tisti tip človeka\, ki ne more brez smeha ob šalah\, ki kršijo vse norme\, potem ne smete zamuditi tega večera! Smejite se na lastno odgovornost – pravijo\, da je smeh pol zdravja\, ampak če boste smejali njihovim foram\, bo zdravje že skoraj izgubljeno. \nPridružite se nam\, če ste starejši od 16 let\, in se pripravite na večer\, poln temnega humorja\, ki ne bo nikogar pustil ravnodušnega! \n\nPovezava do originalnega članka
URL:https://kultura.maribor.si/dogodek/kgb-crni-humor-2025-04-16-20-00-00-2025-04-16-00-00-00-2/
LOCATION:Klub KGB
CATEGORIES:Dogodki,Gledališče
ATTACH;FMTTYPE=image/png:https://kultura.maribor.si/wp-content/uploads/2025/04/crni-humor-visit-maribor-pohorjeslovenia-slovenija.png
END:VEVENT
BEGIN:VEVENT
DTSTART;TZID=Europe/Paris:20250418T170000
DTEND;TZID=Europe/Paris:20250418T170000
DTSTAMP:20260425T221608
CREATED:20250304T020013Z
LAST-MODIFIED:20250407T092120Z
UID:85270-1744995600-1744995600@kultura.maribor.si
SUMMARY:Dobro jutro\, travnik 3+
DESCRIPTION:Lutkovni koncert\n\n\nAnja Štefan / Koprodukcija z Moment / 30 min\n\n\nPesniško raziskovanje življenja na travniku in ob travniških mlakah – od jutra do večera – z živo glasbo in lutkami. \nV predstavi lahko prisluhnemo prvič uglasbenim pesmim iz znanih zbirk Anje Štefan. Druščina godcev otrokom predstavi življenje na travniku: bogat nabor cvetlic in žuželk ter majhnih živali\, ki bivajo v luknjah\, med travo in ločjem ter ob travniških mlakah. Z igro ugank otroci sodelujejo pri spoznavanju od jutra do večera migotajoče in žvrgoleče narave. Rastlinje se sramežljivo razpira v jutranji rosi\, čez dan bogato razpre svoje cvetove in na malico vabi roje žuželk\, ki jih\nspremljajo marljive miške\, pogumni polži in lene žabice. Dobro jutro\, travnik! \n\n\nNakup kart \n\n\nPovezava do originalnega članka
URL:https://kultura.maribor.si/dogodek/dobro-jutro-travnik-3-2025-04-18-17-00-00/
LOCATION:Velika dvorana
CATEGORIES:Dogodki,Gledališče,Kulturno-umetnostna vzgoja
ATTACH;FMTTYPE=image/jpeg:https://kultura.maribor.si/wp-content/uploads/2025/03/Dobro-jutro-travnik-_LGM.-B.-Lah-10_h-1.jpg
END:VEVENT
BEGIN:VEVENT
DTSTART;TZID=Europe/Paris:20250418T193100
DTEND;TZID=Europe/Paris:20250418T193100
DTSTAMP:20260425T221608
CREATED:20250311T020044Z
LAST-MODIFIED:20250411T061526Z
UID:85775-1745004660-1745004660@kultura.maribor.si
SUMMARY:Faust
DESCRIPTION:Koprodukcija s Cankarjevim domom Ljubljana\,V sodelovanju z Opernhaus Zürich. \nKot se je večkrat pokazalo v bogatem toku zgodovine gledališča\, so se adaptacije literarnih klasikov izkazale za različno uspešne – od popolnih fiaskov\, zvestih reinterpretacij pa vse do brezhibnih spektaklov\, ki popolnoma samozadostno učinkujejo v okviru lastnega medija. Podobno velja za Goethejevo filozofsko dramo oziroma tragedijo Faust\, ki pa je kljub velikemu številu glasbenih inscenacij še vedno ostaja velik izziv v domeni plesne umetnosti.\n\nSvojevrstno interpretacijo in edinstveno vizijo tega dela prinaša Edward Clug v svoji plesni manifestaciji\, ki ne spaja le glasbeni misticizem Milka Lazarja z nenavadno atletsko energijo in z lastno poetiko giba\, ampak s kombinacijo vseh treh elementov zgradi spektakel\, ki zna tudi z ironijo in s parodijo razkriti preštevilne disonance in paradokse človeškega bivanja.\n\nFaust v koreografiji Edwarda Cluga na glasbo Milka Lazarja pod taktirko Simona Krečiča.\n\n\n\nPovezava do originalnega članka
URL:https://kultura.maribor.si/dogodek/faust-2025-04-18-19-31-00-2025-04-18-00-00-00/
LOCATION:Maribor center / Slovenska ulica 27\, 2000 Maribor
CATEGORIES:Dogodki,Gledališče
ATTACH;FMTTYPE=image/jpeg:https://kultura.maribor.si/wp-content/uploads/2025/03/faust-visit-maribor-pohorje-slovenia-slovenija-1.jpg
END:VEVENT
BEGIN:VEVENT
DTSTART;TZID=Europe/Paris:20250418T200000
DTEND;TZID=Europe/Paris:20250418T213000
DTSTAMP:20260425T221608
CREATED:20250411T020105Z
LAST-MODIFIED:20250411T061547Z
UID:88445-1745006400-1745011800@kultura.maribor.si
SUMMARY:Đurologija
DESCRIPTION:Nakup vstopnic ni mogoč na blagajni Narodnega doma. Za več informacij se obrnite na organizatorja:  MEŽNAR & MEŽNAR \nS svojo karizmo\, prepoznavnim bosanskim šarmom in igralskimi izkušnjami\, ki smo jih lahko spremljali v kultnih projektih Top lista nadrealista in Audicija\, Đurologija prinaša znanega\, a vendarle Đura\, ki v 90-minutnem šovu duhovito pritegne in nasmeji občinstvo. \nTa (anti)stand up šov\, kot ga tudi označuje Đuro\, je pravzaprav izbor njegovih razmišljanj\, v katerem svojstveno predstavlja\, kaj ga v življenju zabava in kaj moti. Ali kot pravi sam: »Na vsaki predstavi se ljudje prepoznajo v situacijah\, ki jih obravnavam. Pa če se dotaknem jutranjega tuširanja ali pa\, denimo\, vožnje z mestnim prometom … S tem ko ljudem pripovedujem o svojih občutjih\, razmišljanjih\, čustvih in opisujem\, kar me nervira\, na odru demistificiram sebe … \nOtrokom do 16 leta starosti odsvetujemo ogled predstave. Predstava bo v bosanščini. \nProdaja vstopnic: Eventim \n\nPovezava do originalnega članka
URL:https://kultura.maribor.si/dogodek/urologija-2025-04-18-20-00-00-2025-04-18-21-30-00-2/
LOCATION:Maribor center / Dvorana generala Maistra
CATEGORIES:Dogodki,Gledališče
ATTACH;FMTTYPE=image/jpeg:https://kultura.maribor.si/wp-content/uploads/2025/04/2024-04-25-tadej-tos-abrahmm-foto-janez-klenovsek-22-scaled-jpg-20250410030006-1.jpg
END:VEVENT
BEGIN:VEVENT
DTSTART;TZID=Europe/Paris:20250418T200000
DTEND;TZID=Europe/Paris:20250418T220000
DTSTAMP:20260425T221608
CREATED:20250321T020111Z
LAST-MODIFIED:20250411T061555Z
UID:86432-1745006400-1745013600@kultura.maribor.si
SUMMARY:Stand Up večer z Avtmigeci
DESCRIPTION:DAN KOMEDIJE\nSTAND UP VEČER Z AVTMIGECI\nPetek\, 18. april 2025 // 20:00 // Kulturni inkubator \nAvtmigeci se vračajo v Kulturni inkubator. Nov material bodo preizkušali Jan Kreuzer\, Blaž Curk in Dejan Ikovic Bushi. Med nastopajočimi bo manevriral in povezoval Marko Žerjal. Brezplačni Stand up večer bo v petek\, 18. aprila 2025\, ob 20. uri v Kulturnem inkubatorju. \nPridi na stand up večer. Ne\, ne boste vi tisti\, ki boste stali\, pripravili bomo stole\, kjer se boste udobno namestili in se prepustili zabavnim nastopom stand up komikov\, ki bodo premierno preizkušali na novo pripravljene materiale. \n\n\n\n\n\n\n\n\n\n\n\n\n\n\n\n\n\nNastopila bosta Jan Kreuzer\, komik brez dlake na jeziku\, ki svoj humor opisuje kot črn\, observacijski\, ciničen\, družbeno kritičen in brezkompromisen do tabujev ter Dejan Ikovic Bushi\, Savinjčan\, ki se tem loteva iz zornega kota\, katerega mu nudi odročno domovanje. Na odru jima bosta družbo delala dva Primorca\, Blaž Curk in Marko Žerjal\, stand up komik in youtuber\, ki dober stand up po slovenskih odrih širi že od leta 2014. \nNastop Avtmigecev se v Kulturnem inkubatorju začne ob 20. uri in je brezplačen. \n\n\n\n\n\n\n\n\n\n\n\n\n\n\n\n\n\nJAN KREUZER je stand-up komik\, ki publiki na svojih nastopih podaja svojevrstno videnje tematik kot so medosebni odnosi\, odraščanje\, človeška neumnost in seks. Predvsem seks. V polnem sijaju zasije pred svobodomiselno študentsko publiko\, z veseljem pa nasmeji tudi zrelejše ljudi ter otroke in njihove mamice. Predvsem mamice. S komedijo se ukvarja od leta 2013. \n  \n\n\n\n\n\n\n\n\n\n\n\n\n\n\n\n\n\nBLAŽ CURK je Primorec\, ki je\, kot pravi\, sam sebi najhujši sovražnik. Besede\, ki ga opišejo? Ambicije\, lenoba in paranoja zavito v eno\, z zdravim dotikom depresije in domačega šnopca. \n  \n  \n\n\n\n\n\n\n\n\n\n\n\n\n\n\n\n\n\nDEJAN IKOVIC BUSHI je Savinjčan\, ki v svojih nastopih največ govori o sebi in svojem odročnem domačem kraju. K sreči se mu ob pogosti menjavi vozil\, rednih služb in boljših polovic vedno dogaja kaj zanimivega. Kakšni problemi pestijo občane najredkeje poseljene občine v Sloveniji\, pa je hecno že samo po sebi. Vse skupaj začini še z nekaj družbene kritike. V prostem času dela kot mlinar in v mlinu premleva šale za stand up. \n\n\n\n\n\n\n\n\nMARKO ŽERJAL je stand up komik in youtuber. Od leta 2014 nastopa na številnih slovenskih odrih\, med drugim tudi na Festivalu stand up komedije Panč. Koprčan je po izobrazbi inženir računalništva\, sodeloval pa je tudi kot pisec za televizijsko oddajo Ta teden z Juretom Godlerjem. Vice je oboževal že v osnovni šoli\, kjer je nanj bistveno vplivala serija Simpsonovi\, s katero se mu je\, kot pravi »odprl svet«. Njegov humor je analitičen\, svoje nastope ter videoposnetke\, kjer analizira vse od politike\, religije\, feminizma do športa in spolnih odnosov. \n\n\n\n\n\n\n\n\n\n\n\n\n\n\n\n\n\n\n\n\nPovezava do originalnega članka
URL:https://kultura.maribor.si/dogodek/stand-up-vecer-z-avtmigeci-2025-04-18-20-00-00-2025-04-18-22-00-00/
LOCATION:Kulturni inkubator
CATEGORIES:Dogodki,Gledališče
ATTACH;FMTTYPE=image/jpeg:https://kultura.maribor.si/wp-content/uploads/2025/03/HIC5A0ASTRAHOV28YourStory2928129.jpg
END:VEVENT
BEGIN:VEVENT
DTSTART;TZID=Europe/Paris:20250419T100000
DTEND;TZID=Europe/Paris:20250419T100000
DTSTAMP:20260425T221608
CREATED:20250304T020015Z
LAST-MODIFIED:20250414T124117Z
UID:85274-1745056800-1745056800@kultura.maribor.si
SUMMARY:Dobro jutro\, travnik 3+
DESCRIPTION:Lutkovni koncert\n\nAnja Štefan / Koprodukcija z Moment / 30 min\n\n\nPesniško raziskovanje življenja na travniku in ob travniških mlakah – od jutra do večera – z živo glasbo in lutkami. \nV predstavi lahko prisluhnemo prvič uglasbenim pesmim iz znanih zbirk Anje Štefan. Druščina godcev otrokom predstavi življenje na travniku: bogat nabor cvetlic in žuželk ter majhnih živali\, ki bivajo v luknjah\, med travo in ločjem ter ob travniških mlakah. Z igro ugank otroci sodelujejo pri spoznavanju od jutra do večera migotajoče in žvrgoleče narave. Rastlinje se sramežljivo razpira v jutranji rosi\, čez dan bogato razpre svoje cvetove in na malico vabi roje žuželk\, ki jih\nspremljajo marljive miške\, pogumni polži in lene žabice. Dobro jutro\, travnik! \n\n\nNakup kart \n\n\nPovezava do originalnega članka
URL:https://kultura.maribor.si/dogodek/dobro-jutro-travnik-3-2025-04-19-10-00-00/
LOCATION:Velika dvorana
CATEGORIES:Dogodki,Gledališče,Kulturno-umetnostna vzgoja
ATTACH;FMTTYPE=image/jpeg:https://kultura.maribor.si/wp-content/uploads/2025/03/Dobro-jutro-travnik-_LGM.-B.-Lah-10_h-3.jpg
END:VEVENT
END:VCALENDAR