BEGIN:VCALENDAR
VERSION:2.0
PRODID:-//Kultura Maribor - ECPv6.2.8.1//NONSGML v1.0//EN
CALSCALE:GREGORIAN
METHOD:PUBLISH
X-WR-CALNAME:Kultura Maribor
X-ORIGINAL-URL:https://kultura.maribor.si
X-WR-CALDESC:Events for Kultura Maribor
REFRESH-INTERVAL;VALUE=DURATION:PT1H
X-Robots-Tag:noindex
X-PUBLISHED-TTL:PT1H
BEGIN:VTIMEZONE
TZID:Europe/Paris
BEGIN:DAYLIGHT
TZOFFSETFROM:+0100
TZOFFSETTO:+0200
TZNAME:CEST
DTSTART:20250330T010000
END:DAYLIGHT
BEGIN:STANDARD
TZOFFSETFROM:+0200
TZOFFSETTO:+0100
TZNAME:CET
DTSTART:20251026T010000
END:STANDARD
END:VTIMEZONE
BEGIN:VEVENT
DTSTART;TZID=Europe/Paris:20250408T200000
DTEND;TZID=Europe/Paris:20250408T213000
DTSTAMP:20260422T160137
CREATED:20250109T020149Z
LAST-MODIFIED:20250328T081953Z
UID:82186-1744142400-1744147800@kultura.maribor.si
SUMMARY:MOŠKA PAMET
DESCRIPTION:Komedija za izven\, Dvorana generala Maistra\, Narodni dom Maribor \nNova avtorska Stand-up predstava Vida Valiča! \nZakaj smo moški prepričani\, da imamo prav\, ženske pa nam govorite\, da se motimo? Moški smo zelo pametni\, vsaj tako mi mislimo\, kljub temu da nam ženske redno govorite\, da nismo. Ampak mi vztrajamo pri svojem. Naša pamet je bolj racionalna kot ženska pamet. S tem se tolažimo\, ko ugotovimo\, da smo vas prizadeli ali spravili v neroden položaj. \nVendar vztrajamo\, ker samo to imamo. Moško pamet! Je posebna\, ima svoje pomanjkljivosti in prednosti in pomanjkljivosti\, vendar vam je ženskam zelo všeč. Razen takrat\, ko vam ni. \nPredstava »Moška pamet« je komedija o moškem in ženskem razmišljanju o vsakdanjem življenju\, odnosih\, ljubezni\, otrocih\, družini in seveda o seksu. \nNastopajoči: Vid Valič\, Alen Mastnak\, Dino Kapetanović\, Alen Borišek \nTrajanje predstave: 1 ura in 30 minut \nCena vstopnice: od 17.00€ do 21.00€ \n  \n\nPovezava do originalnega članka
URL:https://kultura.maribor.si/dogodek/moska-pamet-2025-04-08-20-00-00-2025-04-08-21-30-00/
LOCATION:Maribor center / Dvorana generala Maistra
CATEGORIES:Dogodki,Gledališče
ATTACH;FMTTYPE=image/jpeg:https://kultura.maribor.si/wp-content/uploads/2025/01/vid-valic-moska-pamet-visit-maribor.jpg
END:VEVENT
BEGIN:VEVENT
DTSTART;TZID=Europe/Paris:20250409T180000
DTEND;TZID=Europe/Paris:20250409T180000
DTSTAMP:20260422T160137
CREATED:20250306T020002Z
LAST-MODIFIED:20250328T082105Z
UID:85417-1744221600-1744221600@kultura.maribor.si
SUMMARY:#ROBIKAPUCA​​​WASHERE 10+
DESCRIPTION:Jera Ivanc / 60 min\n\nSe bo morala sedemčlanska družina Doroteje in Marka res izseliti iz dotrajanega najemniškega stanovanja na Lentu? Kaj pomeni grafit “Znanje osvobaja” na šolskem zidu? Kdo je vdrl v spletno redovalnico in vse ocene spremenil v petke? Od kod vsako noč novi grafiti\, ki se začnejo s šolskega pročelja širiti po Mariboru? Kdo je Robi Kapuca\, ki se podnje podpisuje? Kakšno vlogo ima pri vsem tem Zoranova mama\, humanitarka in prostovoljka\, kakšno Almin brat\,\npodjetni preprodajalec pametnih telefonov na črno in novopečeni upravnik stanovanja na Lentu … \nRazdori\, pretresi\, nova spoznanja\, drugačna vprašanja. Ne več\, kdo je napisal prvi grafit in vdrl v šolsko redovalnico\, temveč kako povzdigniti glas proti krivicam. Robi Kapuca\, mariborski\, štajerski\, slovenski Robin Hood\, združi mlade\, jih aktivira in postane metafora za upor. \n*** Z mladimi smo ob pripravi predstave govorili o različnih temah\, ki se navezujejo na predstavo #ROBIKAPUCAWASHERE. Posnetke si lahko ogledate tukaj. \n\n\nNakup kart \n\n\nPovezava do originalnega članka
URL:https://kultura.maribor.si/dogodek/robikapuca-washere-10-2025-04-09-18-00-00/
LOCATION:Mala dvorana
CATEGORIES:Dogodki,Gledališče,Kulturno-umetnostna vzgoja
ATTACH;FMTTYPE=image/jpeg:https://kultura.maribor.si/wp-content/uploads/2025/03/195A2731_h.jpg
END:VEVENT
BEGIN:VEVENT
DTSTART;TZID=Europe/Paris:20250409T180000
DTEND;TZID=Europe/Paris:20250409T193000
DTSTAMP:20260422T160137
CREATED:20250402T020209Z
LAST-MODIFIED:20250402T062217Z
UID:87512-1744221600-1744227000@kultura.maribor.si
SUMMARY:ESENCA S TADEJEM TOŠEM - Pogovor
DESCRIPTION:Izhodišče pogovora z igralcem Tadejem Tošem bo znana pesnitev Bhadavad Gita. Pogovor bo vodila Mojca Simonič.Izhodišče pogovora z igralcem Tadejem Tošem bo znana pesnitev Bhadavad Gita\, zato bo beseda tekla o temeljnih vprašanjih življenja\, o bistvu bivanja in izzivih\, ki jih prinaša življenje. Pogovor\, ki bo segal globo pod površino površnega vsakdana\, bo vodila Mojca Simonič. \n\nPovezava do originalnega članka
URL:https://kultura.maribor.si/dogodek/esenca-s-tadejem-tosem-pogovor-2025-04-09-18-00-00-2025-04-09-19-30-00-2/
LOCATION:Maribor center / Grajska kavarna\, vhod s Trga svobode
CATEGORIES:Dogodki,Gledališče
ATTACH;FMTTYPE=image/jpeg:https://kultura.maribor.si/wp-content/uploads/2025/04/6902aed8-93d4-4467-af01-76e582e70b78.jpg
END:VEVENT
BEGIN:VEVENT
DTSTART;TZID=Europe/Paris:20250411T170000
DTEND;TZID=Europe/Paris:20250411T170000
DTSTAMP:20260422T160137
CREATED:20250304T020009Z
LAST-MODIFIED:20250328T082117Z
UID:85262-1744390800-1744390800@kultura.maribor.si
SUMMARY:Možiček žebljiček 4+
DESCRIPTION:Lojze Kovačič / Koproducent Hiša otrok in umetnosti / 45 min\n\nOče je imel dva sinova\, Darka in Janka. Bratca sta najraje na svetu poslušala pravljice\, ki jima jih je pripovedoval njun očka. Pa ne samo poslušala\, tudi zaigrala sta jih rada. Kajti v pravljicah je vse dovoljeno. Otrok lahko postane najmočnejši fantek na svetu\, ki samo z enim prstom na roki zaustavi vse avtomobile in avtobuse na cesti … Dva žebljička na okenski polici se v soju svita spremenita v prijazna črna gospodka … Nerodni otroci padejo skozi luknjo na drugi konec sveta\, kjer jih\npreganjata ponev in pošvedran čevelj … Ampak v pravljicah se vedno vse srečno konča\, čeprav na pol raztrgaš celo mesto\, na potepu po ulicah izgubiš svojo obleko … in celo\, če se sredi noči v tvoji sobi pojavi volk. \nPredstava Možiček žebljiček je kolaž kratkih zgodb\, ki jih je za otroke napisal pisatelj Lojze Kovačič. V predstavi je uprizorjenih sedem pravljic iz njegove zbirke Zgodbe iz mesta Rič-Rač. \nPredstava je primerna tudi za prvo in drugo triado OŠ \n\n\nNakup kart \n\n\nPovezava do originalnega članka
URL:https://kultura.maribor.si/dogodek/mozicek-zebljicek-4-2025-04-11-17-00-00/
LOCATION:Velika dvorana
CATEGORIES:Dogodki,Gledališče,Kulturno-umetnostna vzgoja
ATTACH;FMTTYPE=image/jpeg:https://kultura.maribor.si/wp-content/uploads/2025/03/1N1A0631_h.jpg
END:VEVENT
BEGIN:VEVENT
DTSTART;TZID=Europe/Paris:20250411T200000
DTEND;TZID=Europe/Paris:20250411T220000
DTSTAMP:20260422T160137
CREATED:20250204T182844Z
LAST-MODIFIED:20250328T082135Z
UID:83487-1744401600-1744408800@kultura.maribor.si
SUMMARY:Šećer je sitan osim kad je kocka
DESCRIPTION:Komedija v Narodnem domu \nKomedija Šećer je sitan\, osim kad je kocka Nikole Pejakovića\, premierno uprizorjena leta 2018\, je humorna študija zakonskih odnosov. Sledi zakonskemu paru iz Banovega brda\, ujetemu v burne odnose s prijatelji\, botri in sosedi. \nPredstava prinaša lahkoten\, a prefinjen humor\, poln igralskih bravur in detajlov\, ki vas bodo nasmejali do solz. \nIgrajo: Andrija Milošević\, Aleksandra Tomić\, Viktor Savić\, Sloboda Micalović. \n  \n\nPovezava do originalnega članka
URL:https://kultura.maribor.si/dogodek/se-er-je-sitan-osim-kad-je-kocka-2025-04-11-20-00-00-2025-04-11-22-00-00/
LOCATION:Maribor center / Narodni dom Maribor
CATEGORIES:Gledališče
ATTACH;FMTTYPE=image/jpeg:https://kultura.maribor.si/wp-content/uploads/2025/02/secer-je-sitan-osim-kad-je-kocka128-2-scaled-jpg.jpg
END:VEVENT
BEGIN:VEVENT
DTSTART;TZID=Europe/Paris:20250412T100000
DTEND;TZID=Europe/Paris:20250412T100000
DTSTAMP:20260422T160137
CREATED:20250304T020011Z
LAST-MODIFIED:20250328T082206Z
UID:85266-1744452000-1744452000@kultura.maribor.si
SUMMARY:Možiček žebljiček 4+
DESCRIPTION:Lojze Kovačič / Koproducent Hiša otrok in umetnosti / 45 min\n\nOče je imel dva sinova\, Darka in Janka. Bratca sta najraje na svetu poslušala pravljice\, ki jima jih je pripovedoval njun očka. Pa ne samo poslušala\, tudi zaigrala sta jih rada. Kajti v pravljicah je vse dovoljeno. Otrok lahko postane najmočnejši fantek na svetu\, ki samo z enim prstom na roki zaustavi vse avtomobile in avtobuse na cesti … Dva žebljička na okenski polici se v soju svita spremenita v prijazna črna gospodka … Nerodni otroci padejo skozi luknjo na drugi konec sveta\, kjer jih\npreganjata ponev in pošvedran čevelj … Ampak v pravljicah se vedno vse srečno konča\, čeprav na pol raztrgaš celo mesto\, na potepu po ulicah izgubiš svojo obleko … in celo\, če se sredi noči v tvoji sobi pojavi volk. \nPredstava Možiček žebljiček je kolaž kratkih zgodb\, ki jih je za otroke napisal pisatelj Lojze Kovačič. V predstavi je uprizorjenih sedem pravljic iz njegove zbirke Zgodbe iz mesta Rič-Rač. \nPredstava je primerna tudi za prvo in drugo triado OŠ \n\n\nNakup kart \n\n\nPovezava do originalnega članka
URL:https://kultura.maribor.si/dogodek/mozicek-zebljicek-4-2025-04-12-10-00-00/
LOCATION:Velika dvorana
CATEGORIES:Dogodki,Gledališče,Kulturno-umetnostna vzgoja
ATTACH;FMTTYPE=image/jpeg:https://kultura.maribor.si/wp-content/uploads/2025/03/1N1A0631_h-2.jpg
END:VEVENT
BEGIN:VEVENT
DTSTART;TZID=Europe/Paris:20250412T110000
DTEND;TZID=Europe/Paris:20250412T110000
DTSTAMP:20260422T160137
CREATED:20250408T020236Z
LAST-MODIFIED:20250410T081235Z
UID:88046-1744455600-1744455600@kultura.maribor.si
SUMMARY:Otroška predstava Zajček Sladko in čarobna kuhinja
DESCRIPTION:Vabljeni na čarobno otroško predstavo in ustvarjalno delavnico. \nMama Zajklja si zelo želi\, da bi njen radovedni sinček Sladko spoznal\, kako zdrava in okusna je hrana z domačega vrta. Zato mu z veseljem poje in zapleše\, a mali zajček ima svoje načrte – na skrivaj še vedno pričara sladkarije! \nPridružite se nam na čarobni otroški predstavi “Zajček Sladko in čarobna kuhinja”\, ki bo na sporedu v soboto\, 12. aprila 2025\, ob 11. uri pred lokalom Ginger. \nPo predstavi sledi še zabavna velikonočna ustvarjalna delavnica\, kjer bodo otroci lahko ustvarjali in se igrali. \nVeselimo se vašega obiska! \n\nPovezava do originalnega članka
URL:https://kultura.maribor.si/dogodek/otroska-predstava-zajcek-sladko-in-carobna-kuhinja-2025-04-12-11-00-00-2025-04-12-00-00-00-2/
LOCATION:Pohorje / Pot med krošnjami
CATEGORIES:Dogodki,Gledališče,Kulturno-umetnostna vzgoja
ATTACH;FMTTYPE=image/jpeg:https://kultura.maribor.si/wp-content/uploads/2025/04/zajcek-sladko-visit-maribor-pohorje-slovenia-slovenija.jpg
END:VEVENT
BEGIN:VEVENT
DTSTART;TZID=Europe/Paris:20250413T110000
DTEND;TZID=Europe/Paris:20250413T120000
DTSTAMP:20260422T160137
CREATED:20250227T020054Z
LAST-MODIFIED:20250328T082339Z
UID:85024-1744542000-1744545600@kultura.maribor.si
SUMMARY:Tai in mala čarovnica
DESCRIPTION:6. predstava abonmaja Kekec 2024/2025 \nČudežna zgodba o prijateljstvu\, zaupanju vase ter o strahu in pogumu. \nMala Čarovnica nehote v svojo sobo pričara malega Taia. Skozi serijo hudomušnih igrarij\, neuspelih poskusov čaranja in veliko smeha skupaj najdeta tisto\, kar jima manjka v sebi in kar drugi nosi v sebi. Pomagata si pri domačih nalogah in se z nasveti zoperstavita ustrahovanju v šoli. Med drugim se naučita tudi to\, da kar človeka dela drugačnega\, naredi tudi edinstvenega. \nPo rajanju bodo na sporedu Kekčeve poustvarjalnice z otroškimi kreativnimi pustnimi delavnicami. \nOPOZORILO: OD 1. DO 10. VRSTE SEDIJO OTROCI\, OD 11. DO 17. VRSTE SEDIJO SPREMLJEVALCI. OTROCI LAHKO SEDIJO SKUPAJ S SPREMLJEVALCI OD 11. DO 17. VRSTE ALI NA BALKONU. \nKer želimo otrokom omogočiti nemoteno spremljanje predstave\, smo prvih deset vrst v dvorani rezervirali zanje. Spremljevalci lahko sedite od 11. vrste nazaj ali na balkonu\, enako velja za spremljevalce\, ki želijo sedeti skupaj z otroki. Vljudno prosimo za upoštevanje sedežnega reda in se vam zahvaljujemo za razumevanje. \n\nPovezava do originalnega članka
URL:https://kultura.maribor.si/dogodek/tai-in-mala-carovnica-2025-04-13-11-00-00-2025-04-13-12-00-00/
LOCATION:Maribor center / Dvorana generala Maistra
CATEGORIES:Dogodki,Gledališče
ATTACH;FMTTYPE=image/jpeg:https://kultura.maribor.si/wp-content/uploads/2025/02/20220930-mv-0023-1-jpg.jpg
END:VEVENT
END:VCALENDAR