BEGIN:VCALENDAR
VERSION:2.0
PRODID:-//Kultura Maribor - ECPv6.2.8.1//NONSGML v1.0//EN
CALSCALE:GREGORIAN
METHOD:PUBLISH
X-WR-CALNAME:Kultura Maribor
X-ORIGINAL-URL:https://kultura.maribor.si
X-WR-CALDESC:Events for Kultura Maribor
REFRESH-INTERVAL;VALUE=DURATION:PT1H
X-Robots-Tag:noindex
X-PUBLISHED-TTL:PT1H
BEGIN:VTIMEZONE
TZID:Europe/Paris
BEGIN:DAYLIGHT
TZOFFSETFROM:+0100
TZOFFSETTO:+0200
TZNAME:CEST
DTSTART:20260329T010000
END:DAYLIGHT
BEGIN:STANDARD
TZOFFSETFROM:+0200
TZOFFSETTO:+0100
TZNAME:CET
DTSTART:20261025T010000
END:STANDARD
END:VTIMEZONE
BEGIN:VEVENT
DTSTART;TZID=Europe/Paris:20260627T210000
DTEND;TZID=Europe/Paris:20260627T210000
DTSTAMP:20260421T111945
CREATED:20260403T020650Z
LAST-MODIFIED:20260407T083221Z
UID:118483-1782594000-1782594000@kultura.maribor.si
SUMMARY:Sem to rekel na glas ali samo pomislil?
DESCRIPTION:Tri glave. Brez filtra. Brez varnih tem. \nSem to rekel ali samo pomislil? je živ\, surov in nepredvidljiv pogovorni šov\, v katerem Srki\, Sergej in Mare počnejo nekaj\, kar danes redko vidimo — razmišljajo na glas. \nBrez vnaprej napisanega besedila. \nBrez ponavljanja. \nBrez varnih tem. \nVsak večer je drugačen. \nVse\, kar je izrečeno\, ostane v tistem večeru. \nTeme so vsakdanje\, osebne in družbene\, z neizogibnim dotikom politike\, medijev ter sistema — takšne\, kot se o njih res govori\, in ne takšne\, kot jih zapakiramo za javnost. Pogovor se giblje med humorjem\, cinizmom\, absurdom in brutalno iskrenostjo. \nObčinstvo ne gleda predstave\, temveč sodeluje v pogovoru. \nTo ni klasičen stand-up. \nNi podcast. \nNi oddaja. \nTo je pogovor\, ki običajno ostane v glavi\, tokrat pa je izrečen na glas. Če imaš rad humor\, ki ne prosi za dovoljenje\, in misli\, ki niso filtrirane\, je to večer zate. \n\nVstopnice: 25 € sedišče (do 24. 6.) / 30 € sedišče (od 25. 6.);\nza študente in dijake: 5 € popusta na posamezno vstopnico. \nPaket Tri plus\nPri nakupu vstopnic za vsaj tri različne dogodke iz sklopa StandUpLent vam podarimo 20% popust na celotno vrednost nakupa. \nImetniki osebnih kartic Visa OTP lahko vstopnice za Festival Lent 2026 kupite 10 % ceneje. Popust velja za nakupe do vključno 30. aprila. \n\n\nPopusti in druge ugodnosti se ne seštevajo. \n\n\nVeč o ugodnostih in nakupu vstopnic. \n*Prireditev bo izvedena v vsakem vremenu. Ker želimo vsem obiskovalcem omogočiti prijetno spremljanje dogodka in dobro vidljivost na oder\, odpiranje dežnikov na prizorišču ni dovoljeno. Svetujemo vremenu primerno obutev in oblačila. \n\nPovezava do originalnega članka
URL:https://kultura.maribor.si/dogodek/sem-to-rekel-na-glas-ali-samo-pomislil-2026-06-27-21-00-00-2026-06-27-00-00-00-2/
LOCATION:Maribor center / Vetrinjski dvor
CATEGORIES:Dogodki,Gledališče
ATTACH;FMTTYPE=image/jpeg:https://kultura.maribor.si/wp-content/uploads/2026/04/sem-to-rekel-na-glas-ali-samo-pomislil-visit-maribor-pohorje-slovenia-slovenija-1.jpg
END:VEVENT
BEGIN:VEVENT
DTSTART;TZID=Europe/Paris:20260627T210000
DTEND;TZID=Europe/Paris:20260627T230000
DTSTAMP:20260421T111945
CREATED:20260402T020317Z
LAST-MODIFIED:20260407T083838Z
UID:118315-1782594000-1782601200@kultura.maribor.si
SUMMARY:We will\, we will rakija
DESCRIPTION:Britanija išče Balkanca \nČe vprašate njega\, London z vsem svojim ginom\, viskijem in pivom proti rakiji nima za burek. Grlo in srce Fahra\, begunca z dvajsetletnim stažem življenja na Otoku\, greje strastna ljubezen do tradicionalne balkanske žganice. Rakija je tista\, ki njegovo življenje na »gnilem zahodu« dela znosno. Zato je odločen: hčeri\, rojeni Londončanki\, mora najti ženina\, ki jo bo cenil vsaj tako kot on. Kajti – kaj ti bo zet\, če z njim ne moreš zvrniti kozarčka rakije in se po moško podružiti? Načrt je torej britanska poroka z balkanskim ženinom. Kombinacija\, ki obeta … vrhunsko komedijo! \n\nVstopnice: 24 € sedišče (do 24. 6.) / 26 € sedišče (25. 6.);\nza študente in dijake: 5 € popusta na posamezno vstopnico. \nImetniki osebnih kartic Visa OTP lahko vstopnice za Festival Lent 2026 kupite 10 % ceneje. Popust velja za nakupe do vključno 30. aprila.\nPopusti in druge ugodnosti se ne seštevajo. \nVeč o ugodnostih in nakupu vstopnic. \n\nPovezava do originalnega članka
URL:https://kultura.maribor.si/dogodek/we-will-we-will-rakija-2026-06-27-21-00-00-2026-06-27-23-00-00/
LOCATION:Maribor center / Minoriti – Avditorij LGM
CATEGORIES:Dogodki,Festivali,Gledališče
ATTACH;FMTTYPE=image/jpeg:https://kultura.maribor.si/wp-content/uploads/2026/04/we-will-we-will-rakija-zala-in-branko-djuric-foto-answear-2-jpg.jpg
END:VEVENT
END:VCALENDAR