BEGIN:VCALENDAR
VERSION:2.0
PRODID:-//Kultura Maribor - ECPv6.2.8.1//NONSGML v1.0//EN
CALSCALE:GREGORIAN
METHOD:PUBLISH
X-WR-CALNAME:Kultura Maribor
X-ORIGINAL-URL:https://kultura.maribor.si
X-WR-CALDESC:Events for Kultura Maribor
REFRESH-INTERVAL;VALUE=DURATION:PT1H
X-Robots-Tag:noindex
X-PUBLISHED-TTL:PT1H
BEGIN:VTIMEZONE
TZID:Europe/Paris
BEGIN:DAYLIGHT
TZOFFSETFROM:+0100
TZOFFSETTO:+0200
TZNAME:CEST
DTSTART:20250330T010000
END:DAYLIGHT
BEGIN:STANDARD
TZOFFSETFROM:+0200
TZOFFSETTO:+0100
TZNAME:CET
DTSTART:20251026T010000
END:STANDARD
END:VTIMEZONE
BEGIN:VEVENT
DTSTART;TZID=Europe/Paris:20250725T190000
DTEND;TZID=Europe/Paris:20250823T140000
DTSTAMP:20260423T122933
CREATED:20250718T020038Z
LAST-MODIFIED:20250718T060921Z
UID:96616-1753470000-1755957600@kultura.maribor.si
SUMMARY:Obraz na obrazu\, skupinska razstava
DESCRIPTION:odprtje skupinske razstave Obraz na obrazuRazstavljajo: Blaž Gutman\, Đejmi Hadrović\, Luka Hernet\, Klara Kracina\, Keiko Miyazaki\, Tejka Pezdirc\, Lucija Rosc in Matej Zupan\nKuratorka: Sara Nuša Golob Grabner\nVljudno vabljeni na odprtje skupinske razstave Obraz na obrazu\, ki bo v petek\, 25. 7. 2025\, ob 19. uri v prostoru za umetnost KiBela.\nSkupinska razstava Obraz na obrazu je družbeno angažiran projekt na področju vizualne umetnosti\, ki predstavlja umetnike mlajše in srednje generacije\, ki v svojih individualnih projektih poglobljeno razmišljajo o družbenem odnosu do staranja ter prek svojih projektov vabijo h kritični refleksiji o medgeneracijskih razlikah\, podobnostih in izzivih. Razstava cilja k vzpodbujanju konstruktivnih pogovorov o temah\, kot so vpliv demence na posameznika in družino\, tradicije\, minljivost\, prijateljstvo v starejšem starostnem obdobju\, vzpostavljanje in vzdrževanje odnosov s starejšimi družinskimi člani\, (trans)generacijske travme\, nesnovna zapuščina in premostitev generacijskih razlik. \n\nPovezava do originalnega članka
URL:https://kultura.maribor.si/dogodek/obraz-na-obrazu-skupinska-razstava-2025-07-25-19-00-00-2025-08-23-14-00-00/
LOCATION:Maribor center / MMC KIBLA\, Ulica kneza Koclja 9\, Maribor
CATEGORIES:Dogodki,Glasba
ATTACH;FMTTYPE=image/jpeg:https://kultura.maribor.si/wp-content/uploads/2025/07/acdf469d-aaa5-4d35-ba57-c194475a2946.jpg
END:VEVENT
BEGIN:VEVENT
DTSTART;TZID=Europe/Paris:20250808T000000
DTEND;TZID=Europe/Paris:20250830T000000
DTSTAMP:20260423T122933
CREATED:20250805T020039Z
LAST-MODIFIED:20250806T062930Z
UID:97168-1754611200-1756512000@kultura.maribor.si
SUMMARY:32. Jezernikovi dnevi
DESCRIPTION:Vabljeni\, da se pridružite praznovanju poletja v Lovrencu na Pohorju! \nV avgustu se bo Lovrenc na Pohorju znova prebudil v utripu raznolikih kulturnih prireditev\, športnih dogodkov\, pohodov\, otroških delavnic\, gledaliških predstav in seveda glasbenih nastopov\, ki bodo obogatili poletje za vse generacije. \nV bogatem programu se boste lahko med drugim udeležili: \n\nv soboto\, 9. 8.: pohod na Lovrenška jezera\nv petek\, 15. 8.: tradicionalne Golažijade\nv soboto\, 16. 8.: koncerta skupine TABU\nv četrtek\, 21. 8.: pogovora s Tonetom Partljičem\nv petek\, 22. 8.: Harmonikarjade\nv soboto\, 23. 8.: koncerta Klape Dalmar\nv petek\, 29. 8.: Muzikarjade\nv soboto\, 30. 8.: zaključne veselice s Skupino Calypso\n\nDogajanje bo pestro\, živahno in primerno za vso družino! \nVstop na vse dogodke je brezplačen. \n\nPovezava do originalnega članka
URL:https://kultura.maribor.si/dogodek/32-jezernikovi-dnevi-2025-08-08-00-00-00-2025-08-30-00-00-00/
LOCATION:Maribor center / Občina Lovrenc na Pohorju
CATEGORIES:Dogodki,Glasba
ATTACH;FMTTYPE=image/jpeg:https://kultura.maribor.si/wp-content/uploads/2025/08/jezernikovi-dnevi.jpg
END:VEVENT
BEGIN:VEVENT
DTSTART;TZID=Europe/Paris:20250822T200000
DTEND;TZID=Europe/Paris:20250822T200000
DTSTAMP:20260423T122933
CREATED:20250619T020140Z
LAST-MODIFIED:20250821T105830Z
UID:94653-1755892800-1755892800@kultura.maribor.si
SUMMARY:VEČER MJUZIKLA
DESCRIPTION:Poletje v Minoritih \nGlasbeni večer v organizaciji II. gimanzije Maribor. \n\nPovezava do originalnega članka
URL:https://kultura.maribor.si/dogodek/vecer-mjuzikla-2025-08-22-20-00-00-2025-08-22-00-00-00-2/
LOCATION:Maribor center / Minoriti
CATEGORIES:Dogodki,Glasba
ATTACH;FMTTYPE=image/jpeg:https://kultura.maribor.si/wp-content/uploads/2025/06/98224e50-4ed8-4525-9b31-8db6d10bc5b5-1.jpg
END:VEVENT
BEGIN:VEVENT
DTSTART;TZID=Europe/Paris:20250822T200000
DTEND;TZID=Europe/Paris:20250822T200000
DTSTAMP:20260423T122933
CREATED:20250709T020112Z
LAST-MODIFIED:20250714T084810Z
UID:95997-1755892800-1755892800@kultura.maribor.si
SUMMARY:Večer muzikala z only jams
DESCRIPTION:Kulturno umetniško društvo Only Jams predstavlja svoj debitantski projekt Večer muzikala\, spektakularen koncertni dogodek\, na katerem skupina enajstih pevcev in petnajstih inštrumentalistov izvaja glasbene točke iz priljubljenih muzikalov\, kot so Fantom iz opere\, Mamma Mia!\, Briljantina\, Nesrečniki\, Levji kralj in mnogi drugi. Skozi večer gledalce popelje povezovalec\, ki predstavi vsebino in nastanek muzikalov ter jih umesti v širši kulturni in družbeni kontekst. \nVSTOPNICE\npredprodajna cena (do 1. julija 2025) • 12 EUR\nredna cena (po 1. juliju 2025) • 15 EUR\nZa dijake\, študente\, upokojence in osebe nad 60 let velja predprodajna cena. \n\nPovezava do originalnega članka
URL:https://kultura.maribor.si/dogodek/vecer-muzikala-z-only-jams-2025-08-22-20-00-00-2025-08-22-00-00-00/
LOCATION:Maribor center / Vojašniški trg 2A\, 2000 Maribor
CATEGORIES:Dogodki,Glasba,Gledališče
ATTACH;FMTTYPE=image/jpeg:https://kultura.maribor.si/wp-content/uploads/2025/07/vecer-muzikala-visit-maribor-pohorje-slovenia-slovenija-1.jpg
END:VEVENT
BEGIN:VEVENT
DTSTART;TZID=Europe/Paris:20250823T180000
DTEND;TZID=Europe/Paris:20250824T120000
DTSTAMP:20260423T122933
CREATED:20250711T020049Z
LAST-MODIFIED:20250822T060246Z
UID:96107-1755972000-1756036800@kultura.maribor.si
SUMMARY:ENTER THE SOUND
DESCRIPTION:18 urni poletni glasbeni festival \nMAIN STAGE | Industrial – Hardtechno\nJOWI | Jin | Germany\nMARCO GINELLI | DSR Digital\, RAWE | Hungary\nCENSURE | Echo Audio\, POTS | Hungary\nRENZ b2b VØLT | Druck Zone | Germany\nKAYN | Anubis Underground | Slovenia\nMELANIFLORES | Tryp collective | Slovenia\nKOSOWSKY | Anubis Underground | Slovenia\nTERROR | Anubis Underground | Slovenia\nGIGI b2b SKERLI | Factory of Sound | Slovenia\nBORISSAN | Factory of Sound | Slovenia \n—– \nTECHNO FREQUENCEIS STAGE | Hosted by Rave Frequencies | Techno – Hardgroove\nDU’ART | Orbit | Portugal\nPUSMUS | Underground d.o.o. | Croatia\nMARK YOUNG | Techno Pulse\, The Void\, Timeless events | England\nLILSON vs. REPIC | Techsturbation | Slovenia\nREBECA | Tryp collective | Slovenia\nCRISMAN WORTEX | Štanc collective\, Paranoid | Slovenia\nTHE FROG b2b MENTIS | Factory of Sound | Slovenia\nZOXXAN | Closing time | Slovenia\nMVD | HDM| Slovenia\nTOMAS JERRYX | Opening time | Slovenia \n\nPovezava do originalnega članka
URL:https://kultura.maribor.si/dogodek/enter-the-sound-2025-08-23-18-00-00-2025-08-24-12-00-00/
LOCATION:dogodki-57
CATEGORIES:Dogodki,Glasba
ATTACH;FMTTYPE=image/png:https://kultura.maribor.si/wp-content/uploads/2025/07/dogodki-57-1.png
END:VEVENT
BEGIN:VEVENT
DTSTART;TZID=Europe/Paris:20250824T103000
DTEND;TZID=Europe/Paris:20250824T113000
DTSTAMP:20260423T122933
CREATED:20250430T020055Z
LAST-MODIFIED:20250822T060537Z
UID:90375-1756031400-1756035000@kultura.maribor.si
SUMMARY:Kontra kvartet
DESCRIPTION:Tradicionalni nedeljski koncerti v paviljonu Mestnega parka Maribor. \nPrirejanje koncertov v Mestnem parku ima bogato tradicijo. Njeni začetki segajo v leto 1890\, ko so ob priljubljeni in vselej dobro obiskani promenadi postavili glasbeni paviljon ter v njem po zgledu številnih evropskih središč pričeli s prirejanjem koncertov na prostem. Ti so bili na prelomu devetnajstega stoletja\nizjemno priljubljeni in so predstavljali pomemben del družabnega življenja. Tako je ostalo vse do danes\, ko to tradicijo nadaljujemo z nedeljskimi matinejskimi koncerti. \n\nKoncerte v parku je podprla Mestna občina Maribor.\nOb slabem vremenu prireditev odpade.\nOrganizator si pridržuje pravico do spremembe programa. \n\nPovezava do originalnega članka
URL:https://kultura.maribor.si/dogodek/kontra-kvartet-2025-08-24-10-30-00-2025-08-24-11-30-00/
LOCATION:Maribor center / Paviljon Mestnega parka
CATEGORIES:Dogodki,Glasba
ATTACH;FMTTYPE=image/jpeg:https://kultura.maribor.si/wp-content/uploads/2025/04/kk-scaled-jpg.jpg
END:VEVENT
BEGIN:VEVENT
DTSTART;TZID=Europe/Paris:20250824T103000
DTEND;TZID=Europe/Paris:20250824T113000
DTSTAMP:20260423T122933
CREATED:20250819T020109Z
LAST-MODIFIED:20250822T060612Z
UID:97909-1756031400-1756035000@kultura.maribor.si
SUMMARY:Tamburaški orkester KUD Majšperk
DESCRIPTION:Tradicionalni nedeljski koncerti v paviljonu Mestnega parka Maribor. \nTamburaški orkester KUD Majšperk je začel delovati leta 2002. Leta 2004 pa jih je začel voditi dirigent Drago Klein. Udeležujejo se vsakoletnih regijskih srečanj in državnih tekmovanj. Tako so leta 2006\, 2007 in 2008 dobili srebrna priznanja ter leta 2009 dobili zlato priznanje na državnem srečanju tamburaških orkestrov v Semiču. Nastopajo na občinskih prireditvah v domači občini. Že nekaj let zapored so vabljeni v Rogaško Slatino\, kjer igrajo vsako leto v začetku januarja v Kristalni dvorani in avgusta v zunanjem avditoriju. Tam so sodelovali tudi s Tamburaškim orkestrom KUD Varteks iz Varaždina\, ki jih je povabil v gostovanje na sosednjo Hrvaško. Njihove tamburice so zazvenele tudi že v SNG Maribor in na festivalu Lent\, ko so spremljali priznano folklorno skupino KUD Študent iz Maribora. Posneli so tudi svojo 1. zgoščenko\, ki je izšla leta 2011. V orkestru je 19 aktivnih članov. Na nastopih jih včasih spremlja tudi pevka Ana Karneža in bobnar Miran Krstičić. Sodelujejo tudi s priznanima opernima pevcema Petro Turk Rupreht in Sergejem Ruprehtom. \nPrirejanje koncertov v Mestnem parku ima bogato tradicijo. Njeni začetki segajo v leto 1890\, ko so ob priljubljeni in vselej dobro obiskani promenadi postavili glasbeni paviljon ter v njem po zgledu številnih evropskih središč pričeli s prirejanjem koncertov na prostem. Ti so bili na prelomu devetnajstega stoletja izjemno priljubljeni in so predstavljali pomemben del družabnega življenja. Tako je ostalo vse do danes\, ko to tradicijo nadaljujemo z nedeljskimi matinejskimi koncerti. \n\nKoncerte v parku je podprla Mestna občina Maribor.\nOb slabem vremenu prireditev odpade.\nOrganizator si pridržuje pravico do spremembe programa. \n\nPovezava do originalnega članka
URL:https://kultura.maribor.si/dogodek/tamburaski-orkester-kud-majsperk-2025-08-24-10-30-00-2025-08-24-11-30-00-2/
LOCATION:Maribor center / Mestni park
CATEGORIES:Dogodki,Glasba
ATTACH;FMTTYPE=image/jpeg:https://kultura.maribor.si/wp-content/uploads/2025/08/tamburaski-orkester-majsperk-jpg.jpg
END:VEVENT
END:VCALENDAR