BEGIN:VCALENDAR
VERSION:2.0
PRODID:-//Kultura Maribor - ECPv6.2.8.1//NONSGML v1.0//EN
CALSCALE:GREGORIAN
METHOD:PUBLISH
X-WR-CALNAME:Kultura Maribor
X-ORIGINAL-URL:https://kultura.maribor.si
X-WR-CALDESC:Events for Kultura Maribor
REFRESH-INTERVAL;VALUE=DURATION:PT1H
X-Robots-Tag:noindex
X-PUBLISHED-TTL:PT1H
BEGIN:VTIMEZONE
TZID:Europe/Paris
BEGIN:DAYLIGHT
TZOFFSETFROM:+0100
TZOFFSETTO:+0200
TZNAME:CEST
DTSTART:20240331T010000
END:DAYLIGHT
BEGIN:STANDARD
TZOFFSETFROM:+0200
TZOFFSETTO:+0100
TZNAME:CET
DTSTART:20241027T010000
END:STANDARD
END:VTIMEZONE
BEGIN:VEVENT
DTSTART;TZID=Europe/Paris:20241126T160000
DTEND;TZID=Europe/Paris:20241126T230000
DTSTAMP:20260425T195125
CREATED:20241125T131839Z
LAST-MODIFIED:20241126T081702Z
UID:80039-1732636800-1732662000@kultura.maribor.si
SUMMARY:TACO TUESDAY
DESCRIPTION:Taco popoldan vsak torek na Luftarci \nGlasbeno kulinarični dogodek s pridihom Mehike v čarobnem ambientu najvišje terase v mestu! \nPridruži se nam na zeleni oazi z najlepšim razgledom na Maribor\, vsak torek od 16. ure naprej! \nUživaj v avtentičnih mehiških tacosih\, osvežilnih margaritah in tequilla koktejlih ob ritmih afro in latino house glasbe. \n*V primeru slabega vremena se bo dogodek preselil v restavracijo. \n\nPovezava do originalnega članka
URL:https://kultura.maribor.si/dogodek/taco-tuesday-2024-11-26-16-00-00-2024-11-26-23-00-00/
LOCATION:Maribor center / Ulica Vita Kraigherje 3; Poslovni center Slavija; 11. nadstropje
CATEGORIES:Dogodki,Glasba
ATTACH;FMTTYPE=image/jpeg:https://kultura.maribor.si/wp-content/uploads/2024/11/1a620376-594b-4b30-b35f-0584a1cde621-5.jpg
END:VEVENT
BEGIN:VEVENT
DTSTART;TZID=Europe/Paris:20241127T200000
DTEND;TZID=Europe/Paris:20241127T220000
DTSTAMP:20260425T195125
CREATED:20241125T131927Z
LAST-MODIFIED:20241126T082012Z
UID:80079-1732737600-1732744800@kultura.maribor.si
SUMMARY:Cadlag
DESCRIPTION:Glasbeni cikel MIGAV: Cadlag \nVabimo vas na četrti dogodek cikla MIGAV v tej sezoni\, na nastop kolektiva Cadlag\, ki se bo odvil v sredo\, 27. novembra 2024\, ob 20. uri v MMC KIBLA. Eksperimentalni elektronski kolektiv snovalcev PureH\, Extreme Smoke\, Dodecahedragraph in TGWFYTD je živa entiteta masivnih avdiovizualnih struktur. \nEden najbolj osvežujočih slovenskih projektov na področju noisa in drona je nepopustljiv\, brutalen in eleganten. Čista improvizacija kontrabasovskega drona\, moduliranih kitar\, elektronike ter monokromnih vizualij v trenutku performansa tvori vedno nepredvidljivo zvočno instalacijo. \nCadlag na svojem zadnjem albumu Integral (2023) “ustvarijo nekaj\, kar presega vsoto posameznih delov in stkejo zvočno tapiserijo z drugega sveta\, ki se brez vsakega dvoma nečemu približuje\, kar koli ta nekaj je\, vsekakor pa gre bolj za vertikalen spust kot za horizontalen premik. \n\nPovezava do originalnega članka
URL:https://kultura.maribor.si/dogodek/cadlag-2024-11-27-20-00-00-2024-11-27-22-00-00-2/
LOCATION:Maribor center / MMC KIBLA\, Ulica kneza Koclja 9\, Maribor
CATEGORIES:Dogodki,Glasba
ATTACH;FMTTYPE=image/jpeg:https://kultura.maribor.si/wp-content/uploads/2024/11/6c912f1e-fab1-4f10-be26-a78e08fa3f07.jpg
END:VEVENT
BEGIN:VEVENT
DTSTART;TZID=Europe/Paris:20241128T000000
DTEND;TZID=Europe/Paris:20241231T000000
DTSTAMP:20260425T195125
CREATED:20240909T074357Z
LAST-MODIFIED:20241122T092243Z
UID:76835-1732752000-1735603200@kultura.maribor.si
SUMMARY:Čarobni Maribor 2024
DESCRIPTION:Od koncertov do božične tržnice\n\n\n\nOd 28. novembra do 31. decembra 2024 bo Maribor zaživel v prazničnem duhu\, saj bo program čarobnega decembra poskrbel za številne zanimive vsebine za vse okuse. \nNa Trgu Leona Štuklja bo za odlično vzdušje in Silvestrovanje poskrbela živa glasba\, medtem ko vas bo na Glavnem trgu čakala prava kulinarična poslastica. Božična tržnica bo s svojimi vonjavami\, okusi in čarobno osvetlitvijo ustvarila popolno praznično vzdušje. Veliko panoramsko kolo vas bo popeljalo na nepozaben razgled nad mestom\, kjer se bo razprostrla pravljična panorama osvetljenih ulic in zgradb. \nOgledali si boste lahko predstave v Slovenskem narodnem gledališču Maribor\, uličnem in Lutkovnem gledališču ter razstave v kulturnih ustanovah in na mestnih ulicah. Vilinsko mesto bo tudi letos navdušilo najmlajše in vse tiste\, ki še vedno verjamejo v čarovnijo. \n\n\n\nŠe več čarobnosti za dodatno božično veselje\n\n\n\nProgramu Čarobnega adventa v Mariboru se letos pridružuje novo prizorišče Minoriti\, kjer bodo obiskovalci lahko uživali v razstavah. \nPraznično druženje pa se ne bo omejilo le na središče mesta\, saj se bodo veseli decembrski dogodki odvijali tudi v Dvorani Tabor\, zabava na ledu pa v sosednji praznično okrašeni Ledni dvorani. Na drsališču bodo organizirani disco večeri\, družinsko drsanje in tečaji drsanja za vse starostne skupine. \n\n\n\nPovezava do originalnega članka
URL:https://kultura.maribor.si/dogodek/carobni-maribor-2024-2024-11-28-00-00-00-2024-12-31-00-00-00/
LOCATION:Maribor center
CATEGORIES:Delavnice,Dogodki,Glasba,Gledališče,Kulturno-umetnostna vzgoja,Razstave
ATTACH;FMTTYPE=image/jpeg:https://kultura.maribor.si/wp-content/uploads/2024/09/carobni-december-2019_prizig-luck_maribor_pohorje_slovenia_slovenija_milos-vujinovic-sportida-48.jpg
END:VEVENT
BEGIN:VEVENT
DTSTART;TZID=Europe/Paris:20241128T100000
DTEND;TZID=Europe/Paris:20241231T000000
DTSTAMP:20260425T195125
CREATED:20241125T131945Z
LAST-MODIFIED:20241126T082020Z
UID:80102-1732788000-1735603200@kultura.maribor.si
SUMMARY:Čarobno dogajanje na Glavnem trgu
DESCRIPTION:Vabljeni na Glavni trg\, kjer vas bo pričakal bogat čarobni program adventa v Mariboru. \n\nPovezava do originalnega članka
URL:https://kultura.maribor.si/dogodek/carobno-dogajanje-na-glavnem-trgu-2024-11-28-10-00-00-2024-12-31-00-00-00-2/
LOCATION:Maribor center / Glavni trg\, 2000 Maribor
CATEGORIES:Dogodki,Glasba
ATTACH;FMTTYPE=image/png:https://kultura.maribor.si/wp-content/uploads/2024/11/glavni-trg-carobni-maribor-2024-visot-maribor-pohorje-slovenia8.png
END:VEVENT
BEGIN:VEVENT
DTSTART;TZID=Europe/Paris:20241128T180000
DTEND;TZID=Europe/Paris:20241128T180000
DTSTAMP:20260425T195125
CREATED:20241125T132201Z
LAST-MODIFIED:20241126T082052Z
UID:80237-1732816800-1732816800@kultura.maribor.si
SUMMARY:Otvoritvena zabava na Glavnem trgu
DESCRIPTION:Otvoritev božične tržnice z zabavo \nVabljeni\, da 28. novembra skupaj otvorimo čarobno sezono adventa na Božični tržnici\, kjer se bo Glavni trg prelevil v pravljično zimsko idilo. \nOd 18.00 dalje vas pričakuje nepozabna zabava s priznanim DJ-jem Maynamic-om\, ki bo pod zvezdnatim nebom poskrbel za vrhunsko glasbeno vzdušje. V edinstvenem ambientu\, navdihnjenem z evropskimi božičnimi tržnicami\, boste uživali v prazničnem razkošju\, ki združuje tradicijo in trajnost. \nPosebej ponosni smo\, da je Mariborski božični sejem letos uvrščen med najboljše trajnostne božične sejme v Evropi\, kar potrjuje njegov okolju prijazen značaj. \nRazvajajte se ob bogati izbiri izvrstne hrane in pijače na lokalnih stojnicah ter uživajte v trenutkih\, ki bodo Maribor spremenili v čarobno praznično destinacijo. \nPridružite se nam na četrtkovi zabavi\, da skupaj vstopimo v adventni čas\, doživimo čarobnost prižiga prazničnih luči in uživamo v prazničnem vzdušju\, kakršnega še nismo doživeli! \n\nPovezava do originalnega članka
URL:https://kultura.maribor.si/dogodek/otvoritvena-zabava-na-glavnem-trgu-2024-11-28-18-00-00-2024-11-28-00-00-00/
LOCATION:Maribor center / Glavni trg\, 2000 Maribor
CATEGORIES:Dogodki,Glasba
ATTACH;FMTTYPE=image/jpeg:https://kultura.maribor.si/wp-content/uploads/2024/11/otvoritvena-zabava.jpeg
END:VEVENT
BEGIN:VEVENT
DTSTART;TZID=Europe/Paris:20241129T000000
DTEND;TZID=Europe/Paris:20241227T000000
DTSTAMP:20260425T195125
CREATED:20241125T132014Z
LAST-MODIFIED:20241126T082217Z
UID:80115-1732838400-1735257600@kultura.maribor.si
SUMMARY:Še več decembrskih koncertov v Mariboru
DESCRIPTION:Raziščite koncertni program meseca decembra in se nam pridružite. \n\nPovezava do originalnega članka
URL:https://kultura.maribor.si/dogodek/se-vec-decembrskih-koncertov-v-mariboru-2024-11-29-00-00-00-2024-12-27-00-00-00-2/
LOCATION:Maribor in okolica
CATEGORIES:Dogodki,Glasba
ATTACH;FMTTYPE=image/png:https://kultura.maribor.si/wp-content/uploads/2024/11/koncerti-carobni-maribor-2024-visot-maribor-pohorje-slovenia8.png
END:VEVENT
BEGIN:VEVENT
DTSTART;TZID=Europe/Paris:20241130T190000
DTEND;TZID=Europe/Paris:20241130T190000
DTSTAMP:20260425T195125
CREATED:20241023T160401Z
LAST-MODIFIED:20241125T140930Z
UID:78672-1732993200-1732993200@kultura.maribor.si
SUMMARY:NA PRAGU NEVIDNEGA
DESCRIPTION:Zvoki in podobe v preseku časa in prostora \nNa pragu nevidnega se zvoki in podobe prepletajo v preseku časa in prostora. Vznemirljive čutne impresije dveh ustvarjalcev iz različnih svetov se združujejo\, ko vsak s svojega oddaljenega balkona strmita proti skupni samoti. \nNjuni spomini\, doživetja\, misli in hotenja se zlivajo v gib in zvok\, da bi izražala nekaj lepega\, bistvenega in osvobajajočega. Ustvarjalca gradita prostor\, kjer je v teh nemirnih časih mogoče prisluhniti tišini ter se kratkočasiti z iskanjem sočloveka v lastnem odsevu. \n\nPovezava do originalnega članka
URL:https://kultura.maribor.si/dogodek/na-pragu-nevidnega-2024-11-30-19-00-00-2024-11-30-00-00-00/
LOCATION:Maribor center / Sodni stolp
CATEGORIES:Dogodki,Glasba
ATTACH;FMTTYPE=image/jpeg:https://kultura.maribor.si/wp-content/uploads/2024/10/303201da-3669-4bb1-844f-61a34fe4783a-1.jpg
END:VEVENT
END:VCALENDAR