BEGIN:VCALENDAR
VERSION:2.0
PRODID:-//Kultura Maribor - ECPv6.2.8.1//NONSGML v1.0//EN
CALSCALE:GREGORIAN
METHOD:PUBLISH
X-ORIGINAL-URL:https://kultura.maribor.si
X-WR-CALDESC:Events for Kultura Maribor
REFRESH-INTERVAL;VALUE=DURATION:PT1H
X-Robots-Tag:noindex
X-PUBLISHED-TTL:PT1H
BEGIN:VTIMEZONE
TZID:Europe/Paris
BEGIN:DAYLIGHT
TZOFFSETFROM:+0100
TZOFFSETTO:+0200
TZNAME:CEST
DTSTART:20230326T010000
END:DAYLIGHT
BEGIN:STANDARD
TZOFFSETFROM:+0200
TZOFFSETTO:+0100
TZNAME:CET
DTSTART:20231029T010000
END:STANDARD
END:VTIMEZONE
BEGIN:VEVENT
DTSTART;TZID=Europe/Paris:20230531T100000
DTEND;TZID=Europe/Paris:20230531T230000
DTSTAMP:20260425T205703
CREATED:20230516T120425Z
LAST-MODIFIED:20230522T063255Z
UID:36869-1685527200-1685574000@kultura.maribor.si
SUMMARY:Slovenski dnevi knjige v MB - 2. dan
DESCRIPTION:10.00–13.00 in 16.00–19.00\, GRAJSKI TRG \nLE KORAK DO KNJIGE: KNJIŽNI SEJEM\nDo knjižnega sejma na Grajskem trgu je le korak! Spremljevalni program knjižnega sejma bo povezovala Petra Bauman. \nProdukcija in izvedba: MKC Maribor. \n\n\n\n\n\n\n\n\n\n\n\n10.00\, ODER KNJIŽNEGA SEJMA\, GRAJSKI TRG \n1000 KRAV\, OBISK FRANCOSKE PISATELJICE ADÈLE TARIEL\nKmet je srečno živel v družbi treh krav\, ki jih je imel rad kot svoje otroke. Nekega dne ga obišče možakar s kravato in mu pravi\, da bi moral imeti več krav in prodati več mleka. Kmet se ukloni in življenje se mu spremeni — vendar ne tako\, kot si je predstavljal. Poučna zgodba o tem\, kako nas želja po uspehu in denarju ne vodi nujno do sreče. Adèle Tariel je francoska novinarka in avtorica knjig za otroke. V svojih delih se ukvarja z enakostjo spolov\, s potrošništvom in z ekologijo. Leta 2016 je prejela literarno nagrado Michela Tourniera. To bo njen prvi obisk v Sloveniji. \nOrganizira: Založba Pivec. Izvedba: Založba Pivec in MKC Maribor. \n\n\n\n\n\n\n\n\n\n\n\n10.00–19.00\, GRAJSKI TRG IN 20.00–22.00\, VETRINJSKI DVOR\, ATRIJ VETRINJCA – BARCODA \nPESMOMAT – INTERAKTIVNA PESNIŠKA INSTALACIJA \nPesmomat je prvi slovenski avtomat s poezijo na kovanec\, ki za en evrski kovanec v zameno natisne\, prebere in na telefon prenese izbrano pesem. \nProdukcija: Društvo slovenskih pisateljev. Izvedba: MKC Maribor in DSP. \n\n\n\n\n\n\n\n\n\n\n\n10.00–13.00 in 16.00–19.00\, STOJNICA ZAVODA KALEJDOSKOP\, GRAJSKI TRG \nČLOVEK NE JEZI SE EVOLUCIJA \nZaigrajte novo zabavno različico igre Človek ne jezi se evolucija! Igro je ilustriral Ivan Mitrevski. \nOrganizira: zavod Kalejdoskop. \n\n\n\n\n\n\n\n\n\n\n\n11.00\, ODER KNJIŽNEGA SEJMA\, GRAJSKI TRG \nPLASTELINČICA IN ČASOPIS\nPravljičarka Alenka Spacal bo pripovedovala iz svoje najnovejše avtorske slikanice Plastelinčica in časopis (Bajalka\, 2022). Plastelinčica iz družine Plastelinkovih spoznava kulturo ob časopisu in metafori ure. Mama Plastelema ji odgovarja na vprašanje: »Kaj je to kultura?«. S prijateljico Plastelinkico pa iz časopisnega papirja ustvarjata igrače\, ki so prave umetnine. Njun bajni svet predstavlja poklon časopisni kulturi. Avtorica je vse naslikane figurice predhodno oblikovala iz plastelina. \nOrganizira: MKC Maribor v sodelovanju z Bajalko. \n\n\n\n\n\n\n\n\n\n\n\n12.00\, ODER KNJIŽNEGA SEJMA\, GRAJSKI TRG \nSREDNJEŠOLSKI LITERARNO-GLASBENI MARATON: GIMNAZIJA RAVNE NA KOROŠKEM \nFlegmatiki (Jan Penec\, Lucija Fortin\, Nuša Jehart\, Zala Špoljar Slivnik\, Tamara Rožej\, Tadej Gosak\, Maruša Vollmaier in Žana Lorenci) bodo ob ambientni glasbeni spremljavi poslušalce popeljali skozi svoje izjemno raznolike pesniške svetove\, ki so jih razodeli v zadnjih številkah ravenskega literarnega glasila Flegma. Glasbeno kuliso ustvarja njihova mentorica Lucija Mirkac. \nOrganizira: MKC Maribor v sodelovanju z Gimnazijo Ravne na Koroškem. \n\n\n\n\n\n\n\n\n\n\n\n16.00\, ODER KNJIŽNEGA SEJMA\, GRAJSKI TRG \nKNJIGA NA OKNU: MILOST IVE JEVTIĆ\nS književnico Ivo Jevtić\, avtorico knjige Milost (KUD AAC Zrakogled\, 2023)\, se bo pogovarjala kritičarka in pesnica Petra Koršič. »Skozi niz kratkih poetičnih oblik besedilo išče razpoke\, prostore praznine\, kjer deluje milost. Pri tem ga vodi star hindujski pregovor\, ki pravi\, da so sanje sedanjost\, vsakdanje življenje preteklost in brezno brez sanj naša prihodnost. Meja med posameznikom in kolektivno preteklostjo je zabrisana\, saj ju vodijo isti impulzi\, preživljamo skupne travme\, naše najbolj intimne sanje zrcalijo obče.« \nOrganizirata: MKC Maribor in KUD AAC Zrakogled. \n\n\n\n\n\n\n\n\n\n\n\n17.00\, ODER KNJIŽNEGA SEJMA\, GRAJSKI TRG \nAD HOC – V ŽIVO: NASELI ME\, ZNOVA\n»Pesem je telo. Glasba razpira prostor. Pesem je naseljevanje. Pesem je tempelj\, ko se duh osvobodi\, se iz njega pokadi beli dim – glasba\, ki se širi koncentrično.« Pesnica in kritičarka Petra Koršič od leta 2005 spodbuja bližine in stike poezije ter glasbe\, leta 2013 je v avtorskem ciklu AD HOC raziskave razširila še na tretjo umetniško govorico – likovno podobo. V 55-ih edicijah je poleg številnih drugih odličnih umetnikov večkrat gostila tudi skladateljico in pianistko Ingrid Mačus. Tokrat se poezija Petre Koršič naseljuje v prostoru glasbe Ingrid Mačus. \nOrganizirata: MKC Maribor in KUD AAC Zrakogled. \n\n\n\n\n\n\n\n\n\n\n\n17.00\, DOŽIVLJAJSKO IGRIŠČE V MALEM BETNAVSKEM GOZDU \nV DEŽELI TRNIPARUM (PRAVLJIČNI NEVSAKDAN)\nV deželi Trnimparum se je dan začel nadvse čudno. Trniparumci so se prebudili oblečeni v velika\, prevelika oblačila\, a to še ni vse! Namesto nogavic so imeli obute rokavice\, majice so bile njihove hlače in hlač niso našli nikjer. Ob tem je veter vseskozi pihal z močno sapo in začel odnašati stvari iz njihovih hiš. Ojoj\, le kako se je končal dan v deželi Trniparum? Pravljičarski dogodek iz serije AH seveda! Pravljična sreda! DOŽijeva pravljica s Simono (in čižekimižeki). \nNastopa pesnica\, pisateljica in pravljičarka Simona Kopinšek. \nProdukcija: MKC Maribor – Slovenski dnevi knjige in DOŽI. \n\n\n\n\n\n\n\n\n\n\n\n18.00\, ODER KNJIŽNEGA SEJMA\, GRAJSKI TRG \nTEATER NA GRADU\, UGLASBENA POEZIJA\nSkupina Teater na gradu je vzniknila\, ko so se Martin Blodnik (kitara)\, Primož Štern (kitara\, vokali) in Lucija Mirkac (klaviature\, vokali) nekega poznoseptembrskega popoldneva dobili na čaju. Skupaj so pričeli igrati že leta 2014 in nikoli zares prenehali\, potem pa so jih tistega popoldneva znova zasrbeli prsti. Martin je odprl usta iiin … Z željo\, da bi vsakemu besedilu dodali izviren pečat\, se spogledujejo z različnimi glasbenimi žanri. Besedila večinoma prispeva Lucija\, nekaj tudi Primož\, uglasbitve pripravljajo skupaj\, pri čemer taktirko vsakič vihti kdo drug – v želji povedati zgodbo. \nOrganizira: MKC Maribor v sodelovanju s KD Prežihovega Voranca Ravne na Koroškem. \n\n\n\n\n\n\n\n\n\n\n\n18.00\, LITERARNA HIŠA MARIBOR \nMESEČEVA HČI\nPredstavitev pesniške zbirke pesnice in vsestranske ustvarjalke z Hrvaške\, Milke Knežević. Z avtorico se bo pogovarjal Marjan Pungartnik. \nOrganizacija in izvedba: Kulturno društvo Mariborska literarna družba\, JSKD – OI Maribor\, in ZKD Maribor. \n\n\n\n\n\n\n\n\n\n\n\n20.00\, VETRINJSKI DVOR\, ATRIJ VETRINJCA – BARCODA \nKRASNI NOVI SVET? – VELIKO PROZNO BRANJE\nNa literarnem dogodku bodo nastopili Boštjan Videmšek\, ki je po osmih odmevnih družbeno angažiranih knjižnih izdajah letos izdal svoj romaneskni prvenec z naslovom Vojni dnevnik\, Dijana Matković\, aktualna nominiranka za nagrado kresnik za delo Zakaj ne pišem\, glasbenik in pisatelj Jernej Dirnbek\, ki je nedavno izdal svoj tretji roman z naslovom Ledena kraljica\, ter pisec detektivk Avgust Demšar\, ki bo premierno bral iz prihajajočega\, še neobjavljenega romana Estonia. Pisatelji in pisateljica bodo brali izbrane odlomke iz svojih najnovejših del in spregovorili o svetovih\, ki jih raziskujejo v svojih romanih\, o pomembnosti pogumne in brezkompromisne pokončne drže ter o etiki in človečnosti v obdobju radikalno spolarizirane družbe. Dogodek bo povezovala Petra Vidali. \nV primeru dežja bo prireditev potekala v zgornji dvorani Vetrinjskega dvora. \nProdukcija: MKC Maribor. Izvedba: MKC Maribor v sodelovanju s KUD Coda in z Narodnim domom Maribor. \n\n\n\n\n\n\nPovezava do originalnega članka
URL:https://kultura.maribor.si/dogodek/slovenski-dnevi-knjige-v-mb-2-dan-2023-05-31-10-00-00-2023-05-31-23-00-00/
LOCATION:Maribor
CATEGORIES:Delavnice,Dogodki,Festivali,Glasba,Literatura,Razstave
ATTACH;FMTTYPE=image/jpeg:https://kultura.maribor.si/wp-content/uploads/2023/05/p.jpg
END:VEVENT
BEGIN:VEVENT
DTSTART;TZID=Europe/Paris:20230601T193000
DTEND;TZID=Europe/Paris:20230601T204500
DTSTAMP:20260425T205703
CREATED:20230601T065701Z
LAST-MODIFIED:20230601T084622Z
UID:37614-1685647800-1685652300@kultura.maribor.si
SUMMARY:Gala operni večer na Gaju nad Mariborom
DESCRIPTION:Simfonični orkester SNG Maribor \nZbor Opere SNG Maribor\nDirigent Simon Krečič\nZborovodkinja: Zsuzsa Budavari Novak\nSolistke in solista Sabina Cvilak\, Rebeka Lokar\, Petya Ivanova\, Andreja Zakonjšek Krt\, Valentina Čuden\, Irena Petkova\, Martin Sušnik\, Tim Ribič\, Jaki Jurgec \nProgram \n\nGaetano Donizetti: Uvertura k operi Don Pasquale\nGaetano Donizetti: Udite\, udite\, o rustici\, arija Dulcamare iz prvega dejanja opere Ljubezenski napoj (solist Jaki Jurgec\, zbor)\nGaetano Donizetti: Che interminabile andirivieni\, zbor služinčadi iz tretjega dejanja opere Don Pasquale \nRadovan Gobec: Tvoj srček bi rada imela\, duet Katje in Mirana iz operete Planinska roža (solista Valentina Čuden\, Martin Sušnik)\nRadovan Gobec: Kadar sonce gre za gore\, zbor iz operete Planinska roža (solistka Valentina Čuden\, zbor)\nAntonín Dvořák: Slovanski ples št. 2 v e-molu\, op. 72\nSalvatore Cardillo: Core ‘ngrato (solistka Irena Petkova)\nGioacchini Rossini: La Danza (solistka Petya Ivanova)\nErnesto de Curtis: Non ti scordar di me (solistka Andreja Zakonjšek Krt)\nErnesto de Curtis: Torna a Surriento (solist Jaki Jurgec)\nLucio Dalla\, prir. Robert Mraček: Caruso (solistka Petya Ivanova)\nAgustín Lara: Granada (solist Tim Ribič)\nNino Rota\, prir. Robert Mraček: Parla più piano\, ljubezenska tema iz filma Boter (solistka Sabina Cvilak\, zbor)\nPaolo Tosti: Serenata (solist Martin Sušnik)\nRuggero Leoncavallo: Mattinata (solistka Rebeka Lokar)\nLuigi Denza: Funiculì\, funiculà (solist Martin Sušnik)\n\nPrireditev je brezplačna. Organizirana bo posebna linija avtobusnega prevoza iz Kamnice (ob 17.45) in Bresternice (on 17.45 in 18.30)\nCena povratne karte je 2 €. \nV primeru slabega vremena prireditev odpade. \n\nPovezava do originalnega članka
URL:https://kultura.maribor.si/dogodek/gala-operni-vecer-na-gaju-nad-mariborom-2023-06-01-19-30-00-2023-06-01-20-45-00/
LOCATION:Okolica / Gaj nad Mariborom
CATEGORIES:Glasba
ATTACH;FMTTYPE=image/jpeg:https://kultura.maribor.si/wp-content/uploads/2023/06/img_1149.jpg
END:VEVENT
BEGIN:VEVENT
DTSTART;TZID=Europe/Paris:20230602T200000
DTEND;TZID=Europe/Paris:20230602T200000
DTSTAMP:20260425T205703
CREATED:20230526T211103Z
LAST-MODIFIED:20230529T062637Z
UID:37458-1685736000-1685736000@kultura.maribor.si
SUMMARY:LITERARNI VEČER LGBTQ+ Z GOSTJO NATAŠO VELIKONJA IN ODPRTIM LITERARNIM MIKROFONOM
DESCRIPTION:Na literarnem večeru bodo nastopili Nataša Velikonja\, Vesna Lemaić\, Sara Nuša Golob Grabner in Tom Veber. Po prvem sklopu branja sledi pogovor s pesnico in Jenkovo nagrajenko Natašo Velikonja\, ki bo predstavila pesmi iz nagrajene pesniške zbirke Prostor sred križišč. Dogodek bo povezovala Tonja Jelen. Dogodek je del programa Maribor skozi rožnata očala. \n\n\nProdukcija: MKC Maribor.\nIzvedba: MKC Maribor v sodelovanju s KUD Coda in z Narodnim domom Maribor. \n\n\n\nPovezava do originalnega članka
URL:https://kultura.maribor.si/dogodek/literarni-vecer-lgbtq-z-gostjo-nataso-velikonja-in-odprtim-literarnim-mikrofonom-2023-06-02-20-00-00/
LOCATION:Vetrinjc – BarCoda
CATEGORIES:Dogodki,Glasba
ATTACH;FMTTYPE=image/jpeg:https://kultura.maribor.si/wp-content/uploads/2023/05/kolazi2-2_b.jpg
END:VEVENT
BEGIN:VEVENT
DTSTART;TZID=Europe/Paris:20230603T000000
DTEND;TZID=Europe/Paris:20230610T000000
DTSTAMP:20260425T205703
CREATED:20230603T210651Z
LAST-MODIFIED:20230605T064122Z
UID:37701-1685750400-1686355200@kultura.maribor.si
SUMMARY:Dnevi veselja v Kamnici
DESCRIPTION:Končno prihaja najbolj veseli teden v letu v KS Kamnica – I-Vent DNEVI VESELJA 2023. \nIzjemno veseli in ponosni smo\, da bomo leto v Kamnici gostili Polkaholike\, Gajaša in Tanjo Žagar. \nProgram: \n\n3. 6.:  VESELICA – POLKAHOLIKI (šotor odpiramo ob 18.00\, zabava z DJ-jem\, Polkaholiki nastopajo ob 21h.)\n5. 6.: Otvoritev razstave na prostem KAMNICA\n5. 6.\, ob 17.00:Lutkovna predstava ČRTEK V MESTU\n7. 6.\, ob 17.00 Otovoritev likovne razstave MOJA KAMNICA\n7. 6.\, ob 18.00: Svečana seja KS Kamnica in podelitev nagrad Srce Kamnice\n8. 6.\, ob 20.00: Komedija GAJAŠ BREZ MASKE\n9. 6.\, ob 18.00: Dalmatinski večer s klapami in tamburaši\n10. 6.\, ob 10.00: športne igre\, nogometni turnir\, kuhanje kamniškega lonca\, …\n10. 6:  VESELICA – TANJA ŽAGAR (šotor odpiramo ob 18.00\, zabava z DJ-jem\, Tanja Žagar nastopa ob 21h.)\n\nVSTOPNICE: vse prireditve\, razen veselice s Polkaholiki in komedije Gajaš brez Maske so brezplačne. Vstopnice za Polkaholike v predprodaji stanejo 5€\, za komedijo Gajaš brez maske pa 17\,50€.\nVSTOPNICE SO NA VOLJO V KAVARNI ART V KULTURNEM DOMU KAMNICA. \nPomembno! Število mest na vseh prireditvah je omejeno\, zato bodo prednost pri vstopu na veselico s Tanjo Žagar imeli lastniki stopnic za Polkaholike in Gajaša.\nZa otroke do 14 let je vstop na Polkaholike brezplačen. Za komedijo potrebujejo vstopnico vsi obiskovalci. \n\nPovezava do originalnega članka
URL:https://kultura.maribor.si/dogodek/dnevi-veselja-v-kamnici-2023-06-05-00-00-00-2023-06-05-00-00-00/
LOCATION:Okolica / Kamnica\, Maribor
CATEGORIES:Delavnice,Dogodki,Glasba,Gledališče,Razstave
ATTACH;FMTTYPE=image/jpeg:https://kultura.maribor.si/wp-content/uploads/2023/06/plakat-dnevi-veselja-1.jpg
END:VEVENT
BEGIN:VEVENT
DTSTART;TZID=Europe/Paris:20230603T120000
DTEND;TZID=Europe/Paris:20230603T120000
DTSTAMP:20260425T205703
CREATED:20230523T055410Z
LAST-MODIFIED:20230529T062811Z
UID:37245-1685793600-1685793600@kultura.maribor.si
SUMMARY:Bunker Fest 2023
DESCRIPTION:Zakaj doma poslušali bi viže\, če veš\, da ti je rock bližje? Pridi na Bunker Fest! \nBOBNARSKA IN KITARSKA DELAVNICA\n(s pričetkom ob 12h)\nVabljeni vsi\, ki bi se želeli naučiti osnov igranja bobnov in kitare.\nStarostne omejitve ni. Predhodna najava ni potrebna. Bodite le tocni. \nSEJEM RABLJENE GLASBENE OPREME\n(med 13h in 18h)\nZa vse\, ki bi želeli menjati\, prodati ali kupiti kos (dva ali več) rabljene glasbene opreme.\nZa prodajo na sejmu ni potrebna predhodna najava. \nDRUŽENJE Z BENDI in SREČELOV\n(cel čas festivala)\nNa festivalu lahko kupite srečko v enotni vrednosti in jo zamenjate za praktično darilo naših sponzorjev.\nDenar od prodanih sreck bo namenjen izkljucno pokrivanju stroškov festivala. \nKONCERTI\n(s pričetkom ob 19h)\nZ vami bo 7 glasbenih skupin različnih glasbenih zvrsti\, ki jim je skupna strast do glasbe in prostor\, v katerem ta nastaja. \nVse dejavnosti v sklopu BUNKER FEST-a so brezplačne. \n\nPovezava do originalnega članka
URL:https://kultura.maribor.si/dogodek/bunker-fest-2023-2023-06-03-12-00-00-2023-06-03-00-00-00/
LOCATION:Maribor center / MC Pekarna (Ob železnici 16\, Maribor)
CATEGORIES:Dogodki,Glasba
ATTACH;FMTTYPE=image/png:https://kultura.maribor.si/wp-content/uploads/2023/05/bunker-fest.png
END:VEVENT
BEGIN:VEVENT
DTSTART;TZID=Europe/Paris:20230604T103000
DTEND;TZID=Europe/Paris:20230604T103000
DTSTAMP:20260425T205703
CREATED:20230528T210602Z
LAST-MODIFIED:20230530T061216Z
UID:37471-1685874600-1685874600@kultura.maribor.si
SUMMARY:Koncerti v parku
DESCRIPTION:Tradicionalni koncerti v Mestnem parku \n\nPovezava do originalnega članka
URL:https://kultura.maribor.si/dogodek/koncerti-v-parku-2023-06-04-10-30-00-2023-06-04-00-00-00/
LOCATION:Maribor center / Paviljon Mestnega parka
CATEGORIES:Glasba
ATTACH;FMTTYPE=image/jpeg:https://kultura.maribor.si/wp-content/uploads/2023/05/koncerti-v-parku-1.jpg
END:VEVENT
END:VCALENDAR