BEGIN:VCALENDAR
VERSION:2.0
PRODID:-//Kultura Maribor - ECPv6.2.8.1//NONSGML v1.0//EN
CALSCALE:GREGORIAN
METHOD:PUBLISH
X-WR-CALNAME:Kultura Maribor
X-ORIGINAL-URL:https://kultura.maribor.si
X-WR-CALDESC:Events for Kultura Maribor
REFRESH-INTERVAL;VALUE=DURATION:PT1H
X-Robots-Tag:noindex
X-PUBLISHED-TTL:PT1H
BEGIN:VTIMEZONE
TZID:Europe/Paris
BEGIN:DAYLIGHT
TZOFFSETFROM:+0100
TZOFFSETTO:+0200
TZNAME:CEST
DTSTART:20230326T010000
END:DAYLIGHT
BEGIN:STANDARD
TZOFFSETFROM:+0200
TZOFFSETTO:+0100
TZNAME:CET
DTSTART:20231029T010000
END:STANDARD
END:VTIMEZONE
BEGIN:VEVENT
DTSTART;TZID=Europe/Paris:20230519T200000
DTEND;TZID=Europe/Paris:20230519T200000
DTSTAMP:20260426T003406
CREATED:20230518T211050Z
LAST-MODIFIED:20230519T093014Z
UID:36983-1684526400-1684526400@kultura.maribor.si
SUMMARY:Obisk iz Marburga: Apewards
DESCRIPTION:Glasbeni cikel OBISK je nov mariborski prispevek k prijateljstvu med pobratenimi mesti Maribora. Je poglobitev sodelovanja\, kakršnega so sposobni umetniki\, glasbeniki\, ustvarjalci\, ki nam ponujajo novo\, lepo\, globoko\, vznemirljivo\, človeško\, empatično\, veselo in napoved širšega druženja. \n“Iz velikega zrase večje\, vedno več nas bo” je slogan\, ki bo cikel bogatil. Vsako leto se mu bodo pridružili ustvarjalci iz pobratenih in partnerskih mest Maribora\, več bo glasbe in spremljajočih dogodkov\, postal bo praznik kulture in subkulture\, tudi športno in kulinarično se bomo podrobneje spoznavali. \nTokrat dobimo OBISK iz Marburga\, predstavljamo vam Apewards: \nApewards je stoner/blues rock power trio iz Marburga v Nemčiji. Skupina je znana po svojih tesnih nastopih v živo\, ustvarjalnem mešanju žanrov in so najglasnejša glasbena skupina v mestu. Poleti 2022 so se Apewards zaklenili v edinstven studio Red Roof LoftSound za snemanje novega\, celega analognega albuma “direct-to tape” s producentom Mattom Korrjem (Tiamat\, Daily Thompson\, Knights of the Realm). \nRezultat je zvok\, ki brni in živi – kjer lahko dobesedno slišite škripanje tramov snemalne sobe in začutite toploto žarečih cevi. Glasbeno se skupina ne pusti omejiti z žanrskimi mejami. Tako je vsaka pesem ločena in posamezni del sestavljanke\, ki ima za posledico skladno in večplastno umetniško delo. Album “Akrasia” bo izšel 5. maja 2023 na CD-ju in vinilki. \n\n\nVetrinjc – BarCoda \n\n\n\nPovezava do originalnega članka
URL:https://kultura.maribor.si/dogodek/obisk-iz-marburga-apewards-2023-05-19-20-00-00/
LOCATION:Studio
CATEGORIES:Dogodki,Glasba
ATTACH;FMTTYPE=image/jpeg:https://kultura.maribor.si/wp-content/uploads/2023/05/apewards_b.jpg
END:VEVENT
BEGIN:VEVENT
DTSTART;TZID=Europe/Paris:20230519T200000
DTEND;TZID=Europe/Paris:20230519T220000
DTSTAMP:20260426T003406
CREATED:20230419T082540Z
LAST-MODIFIED:20230508T123214Z
UID:35722-1684526400-1684533600@kultura.maribor.si
SUMMARY:PUNK EXPLOSION vol. 2
DESCRIPTION:PUNK EXPLOSION V MC PEKARNI\, V DRUGO! \nNASTOPAJO: \nPOTATO MUSHROOM\nNa odru pustijo zadnje atome energije\, punk norija zagotovljena\, poganje obvezno prisotno – vse to dajejo\nPOTATO MUSHROOM\, punkrock band iz Radencev\, ki panka že vse od leta 2016.\nOdštekani\, brezkompromisni in predvsem energični na polno.\nRepertoar sestavljajo avtorske pesmi kot tudi priredbe\, ki zvenijo originalno. \nFB: https://www.facebook.com/potatomushroom\nYT: https://www.youtube.com/watch?v=x60sKNYd7Ik… \nBREZ VPRAŠANJ\nV začetku 4-članska\, kasneje 3-članska zasedba in sedaj dvojica Jeza in Puta\, ki ostajata zvesta sebi in poti\, ki jo pelje\nskupina BREZ VPRAŠANJ skozi celotni obstoj. Zaprisežena punk rocku\, ustvarjata in izvajata predvsem avtorske komade. Bomo pa priča nečemu kar je redkost tudi na celotni slovenski sceni – pri’ite pa vi’ite! \nFB: https://www.facebook.com/BrezVprasanj\nYT: https://www.youtube.com/watch?v=onaHwdnmELA… \n_____________________________________\nSkupna lastnost vseh bandov je ustvarjanje avtorske glasbe. \n  \n\nPovezava do originalnega članka
URL:https://kultura.maribor.si/dogodek/punk-explosion-vol-2-2023-05-19-20-00-00-2023-05-19-22-00-00/
LOCATION:Mc pekarna
CATEGORIES:Glasba
ATTACH;FMTTYPE=image/jpeg:https://kultura.maribor.si/wp-content/uploads/2023/04/punkxplosion.jpg
END:VEVENT
BEGIN:VEVENT
DTSTART;TZID=Europe/Paris:20230520T210000
DTEND;TZID=Europe/Paris:20230520T210000
DTSTAMP:20260426T003406
CREATED:20230508T121639Z
LAST-MODIFIED:20230508T121639Z
UID:36408-1684616400-1684616400@kultura.maribor.si
SUMMARY:Funk Fu
DESCRIPTION:Funk Fu je slovenska glasbena skupina\, ki jo na odru raznese kot glasbeno eksplozijo funka\, popa in jazza. Osemčlanska zasedba že nekaj let skrbi za večerno sprostitev ob odlični glasbi. Skupina Funk Fu nas bo na koncertu premierno popeljala skozi pesmi prihajajočega albuma. \nVstop prost. \nO zasedbi:\nSkupina je bila ustanovljena leta 2017\, sprva z željo po skupnem glasbenem razvijanju\, kasneje pa s poudarkom na ustvarjanju avtorske glasbe. Od takrat so izdali štiri single\, od tega tri v slovenskem in enega v angleškem jeziku. Pomladi 2023 zaključujejo svoj prvi album It’s all fun and games. \nZasedba: Klara Veteršek – vokal\, Tilen Gavranovič – kitara\, Blaž Avsenik – klaviature\, Luka Dobnikar – bas\, Luka Taler – bobni\, Žan Cesar – trobenta\, Tibor Pernarčič – saksofon\, Matthias Bernsteiner – pozavna
URL:https://kultura.maribor.si/dogodek/funk-fu/
LOCATION:Maribor center / Vetrinjski dvor\, center mesta
CATEGORIES:Dogodki,Glasba
ATTACH;FMTTYPE=image/jpeg:https://kultura.maribor.si/wp-content/uploads/2023/05/Funk-Fu-Photo-1_2.jpg
END:VEVENT
END:VCALENDAR