BEGIN:VCALENDAR
VERSION:2.0
PRODID:-//Kultura Maribor - ECPv6.2.8.1//NONSGML v1.0//EN
CALSCALE:GREGORIAN
METHOD:PUBLISH
X-WR-CALNAME:Kultura Maribor
X-ORIGINAL-URL:https://kultura.maribor.si
X-WR-CALDESC:Events for Kultura Maribor
REFRESH-INTERVAL;VALUE=DURATION:PT1H
X-Robots-Tag:noindex
X-PUBLISHED-TTL:PT1H
BEGIN:VTIMEZONE
TZID:Europe/Paris
BEGIN:DAYLIGHT
TZOFFSETFROM:+0100
TZOFFSETTO:+0200
TZNAME:CEST
DTSTART:20240331T010000
END:DAYLIGHT
BEGIN:STANDARD
TZOFFSETFROM:+0200
TZOFFSETTO:+0100
TZNAME:CET
DTSTART:20241027T010000
END:STANDARD
END:VTIMEZONE
BEGIN:VEVENT
DTSTART;TZID=Europe/Paris:20241026T170000
DTEND;TZID=Europe/Paris:20241029T180000
DTSTAMP:20260423T180210
CREATED:20241021T140458Z
LAST-MODIFIED:20241025T062545Z
UID:78558-1729962000-1730224800@kultura.maribor.si
SUMMARY:Mokumatsuri Halloween Special: HIŠA STRAHOV
DESCRIPTION:Mokumatsuri Halloween Special\nHIŠA STRAHOV\n26. – 29. oktober 2024 // Kulturni inkubator \nVsak dan od 11. do 18. ure. \nKulturni inkubator\, ki deluje pod okriljem MKC Maribor\, se bo s pomočjo članov društva Animoku spremenil v Hišo strahov\, iz katere se bodo rešili le tisti\, ki bodo uspešno rešili uganke\, ki jih skriva strašna soba pobega. Hiša strahov bo stala v sklopu dogodka Mokumatsuri Halloween Special\, ki bo potekal v soboto in nedeljo\, 26. in 27. oktobra\, soba pobega pa bo na voljo tudi 28. in 29. oktobra. Se vidimo? \nV soboto\, 26. oktobra 2024\, od 11. do 21. ure in v nedeljo\, 27. oktobra 2024\, od 11. do 18. ure se bo Kulturni inkubator na Koroški cesti 18 v Mariboru prelevil v hišo strahov oz. v hišo pobega s številnimi skrivnostmi\, ki jih boste obiskovalci morali razrešiti\, saj bo takrat potekal poseben dogodek za noč čarovnic v soorganizaciji Društva Animoku in MKC Maribor\, ki preprosto nosi naslov MOKUMATSURI HALLOWEEN SPECIAL. Vstop nanj je kakopak brezplačen. Da boste obiskovalci dobili majhen vtis\, kaj vas pričakuje v hiši strahov oz. kakšne uganke in strašljive zadeve vas utegnejo v njej pričakati\, sledi v nadaljevanju kratka zgodba\, ki vas bo popeljala v samo osrčje groze\, ki se skriva pod Mariborom: \nNinja Kekec in Mojca sta se tokrat odpravila raziskati skrivnostno hišo\, ki pod sabo skriva skrivnostne in še neraziskane prehode pod Vinagovo kletjo\, kjer je leta 1942\, v času druge svetovne vojne\, skupina okultistov odkrila starodavna besedila\, zapisana v pozabljenih lokalnih narečjih\, in nenavadne artefakte\, ki bi naj služili priklicu entitet iz druge dimenzije. Ker so to nadnaravno moč želeli izkoristiti za osebno bogastvo in oblast\, so na osnovi teh najdb izvedli ritual\, ne vedoč\, da so s tem odprli portal v pekel\, ki so ga sicer hitro zaprli\, a žal je medtem v naš svet že vstopilo pet demonov\, ki so se naselili v zapuščeni hiši ter vse do danes kovali načrt\, kako ponovno odpreti duri v onstranstvo brez človeške pomoči\, da bi na Zemlji lahko zavladala kaos in trpljenje. Ninja Kekec in Mojca sta se tako znašla v zagati\, ki je ne znata razrešiti sama\, tako da potrebujeta vašo pomoč\, saj so demoni ponovno uspeli odpreti duri v pekel. Vaša naloga je\, da jima pomagate razrešiti uganke\, s katerimi bo mogoče zapreti te duri in poslati demone nazaj\, od koder so prišli. Ampak pazljivo\, časa za to ni več veliko. \nVaša naloga\, če se jo odločite sprejeti\, bo torej razrešiti pet različnih ugank\, s katerimi se boste dokopali do ključa\, ki vam bo pomagal zapreti portal v onostranstvo ter pregnati teh pet strašnih demonov nazaj\, od koder so prišli. Ampak nikar ne podcenjujte teh pretkanih starodavnih entitet\, saj so demoni Vinožer\, Krvavec\, Mrakobes\, Prasledek in Kamnikar zelo vešči v starodavnih metodah mučenja in pozabljenih veščinah alkimije. Poleg tega boste uganke morali rešiti v določenem času\, saj so demoni že skoraj dokončali vse potrebno\, da bodo peklenske duri ostale za večno odprte in bo na Zemlji zavladal sam gospodar pekla\, ki bo po našem svetu sejal kaos\, norost in neskončne muke. \nPoleg hiše strahov bo na voljo tudi spremljevalni program\, ki vključuje bazar za noč čarovnic\, igranje video iger\, tematske namiznice\, filmski kviz za poznavalce filmov na tematiko noči čarovnic in grozljivk\, različne projekcije in seveda okroglo mizo\, na kateri bo Društvo Animoku razkrilo nekaj svojih nadaljnjih načrtov in kjer boste obiskovalci lahko izrazili želje o geekovskih dogodkih\, ki bi jih v bodoče želeli videti v našem mestu. \nSe vidimo v preddverju peklenskega portala. \n\n\n\n\n\n\nPovezava do originalnega članka
URL:https://kultura.maribor.si/dogodek/mokumatsuri-halloween-special-hisa-strahov-2024-10-26-17-00-00-2024-10-29-18-00-00/
LOCATION:Kulturni inkubator
CATEGORIES:Dogodki,Glasba
ATTACH;FMTTYPE=image/jpeg:https://kultura.maribor.si/wp-content/uploads/2024/10/MokuMatsuriHalloweenSpecial.jpg
END:VEVENT
END:VCALENDAR