BEGIN:VCALENDAR
VERSION:2.0
PRODID:-//Kultura Maribor - ECPv6.2.8.1//NONSGML v1.0//EN
CALSCALE:GREGORIAN
METHOD:PUBLISH
X-ORIGINAL-URL:https://kultura.maribor.si
X-WR-CALDESC:Events for Kultura Maribor
REFRESH-INTERVAL;VALUE=DURATION:PT1H
X-Robots-Tag:noindex
X-PUBLISHED-TTL:PT1H
BEGIN:VTIMEZONE
TZID:Europe/Paris
BEGIN:DAYLIGHT
TZOFFSETFROM:+0100
TZOFFSETTO:+0200
TZNAME:CEST
DTSTART:20240331T010000
END:DAYLIGHT
BEGIN:STANDARD
TZOFFSETFROM:+0200
TZOFFSETTO:+0100
TZNAME:CET
DTSTART:20241027T010000
END:STANDARD
END:VTIMEZONE
BEGIN:VEVENT
DTSTART;TZID=Europe/Paris:20241020T190000
DTEND;TZID=Europe/Paris:20241020T190000
DTSTAMP:20260424T193807
CREATED:20241010T090222Z
LAST-MODIFIED:20241018T064140Z
UID:78192-1729450800-1729450800@kultura.maribor.si
SUMMARY:Dan Maribora 2024: Pet koncertov na petih gričih
DESCRIPTION:Brezplačni koncerti na petih lokacijah\n\n\n\nPridružite se nam na nepozabnih glasbenih dogodkih\, kjer boste lahko uživali v brezplačnih koncertih na čudovitih lokacijah po Mariboru. \nVsi koncerti so brezplačni\, avtobusni promet po Mestni občini Maribor pa bo ves dan\, 20. oktobra\, prav tako brezplačen. \nZbiranje obiskovalcev bo potekalo med 18:00 in 18:30 na izhodiščnih lokacijah\, kjer boste prejeli naglavne lučke za boljšo orientacijo. Od tam se boste sami odpravili na koncerte\, ki se pričnejo ob 19:00. \nUživajte v nepozabnem večeru glasbe in druženja v osrčju narave! \n\n\n\nPiramida: Emkej\, Leopold I. in Žan Hauptman z bendom\n\n\n\nIzhodiščna točka: Mestni park pri paviljonu \nKončna lokacija: Piramida \n\n\n\nTrikotna jasa: Karneval Band\n\n\n\nIzhodiščna točka I: spodnja postaja vzpenjače \nIzhodiščna točka II: Razvanje\, gasilski dom \nKončna točka: Trikotna jasa \n\n\n\nMeranovo: Polkaholiki\n\n\n\nIzhodiščna točka: obračališče Meranovo \nKončna točka: Posestvo Meranovo\, Vrhov Dol 14 \n\n\n\nFontana vin Vodole: Til Čeh in Petelini\n\n\n\nIzhodiščna točka: pred stavbo KS Malečnik \nKončna točka: Posestvo Sončni raj \n\n\n\nOkrepčevalnica Panorama: Daša in Bend za Užent\n\n\n\nIzhodiščna točka: pred stavbo KS Kamnica \nKončna točka: Okrepčevalnica Panorama \n\n\nPovezava do originalnega članka
URL:https://kultura.maribor.si/dogodek/dan-maribora-2024-pet-koncertov-na-petih-gricih-2024-10-20-19-00-00-2024-10-20-00-00-00/
LOCATION:Maribor center / Piramida\, Trikotna jasa\, Meranovo\, Fontana vin Vodole\, Okrepčevalnica Panorama
CATEGORIES:Dogodki,Glasba
ATTACH;FMTTYPE=image/jpeg:https://kultura.maribor.si/wp-content/uploads/2024/10/mom_dan_mb_2021_10_20_piramida_mp7_5907_pigac_si.jpg
END:VEVENT
BEGIN:VEVENT
DTSTART;TZID=Europe/Paris:20241020T200000
DTEND;TZID=Europe/Paris:20241020T200000
DTSTAMP:20260424T193807
CREATED:20241011T064623Z
LAST-MODIFIED:20241018T064157Z
UID:78227-1729454400-1729454400@kultura.maribor.si
SUMMARY:Koncert za mir - Beethovnova 9. simfonija
DESCRIPTION:Mariborski koncertni zbor vabi na KONCERT ZA MIR ob 200. obletnici prve izvedbe Beethovnove Devete simfonije \n\nKoncert za mir ni zgolj glasbeno doživetje\, ampak tudi opomin na pomen dialoga in miru. Zbrana sredstva bodo namenjena družinam\, ki so bile prizadete zaradi vojnega nasilja\, s čimer bomo pomagali vsaj delno olajšati njihovo trpljenje. \nBeethovnova 9. simfonija z nepozabnim epilogom “Vsi ljudje bodo bratje” nas spodbuja k temu\, da verjamemo v moč sprave in notranji mir\, ki je osnova za globalni mir in blagostanje. \n\nProgram:\n\nPeter Iljič Čajkovski: 1. klavirski koncert v b-molu\, op. 23\nValentin Silvestrov: Molitev za Ukrajino za mešani zbor\n\n*** \n\nLudwig van Beethoven: Simfonija št. 9 v d-molu\, op. 125 s Schillerjevo Odo radosti\nI. Allegro ma non troppo\, un poco maestoso\nII. Molto vivace\nIII. Adagio molto e cantabile\nIV. Finale: Presto-Allegro ma non troppo\n\nIzvajalci:\n\nSlovenski simfonični orkester\nDirigent: Valentin Egel\nMariborski koncertni zbor\nZborovodja: Aleš Marčič\nNejc Kamplet\, klavir\nSabina Cvilak\, sopran\nMonika Bohinec\, mezzosopran\nTim Ribič\, tenor\nKlemen Gorenšek\, bas\n\n\nPovezava do originalnega članka
URL:https://kultura.maribor.si/dogodek/koncert-za-mir-beethovnova-9-simfonija-2024-10-20-20-00-00-2024-10-20-00-00-00/
LOCATION:Maribor center / Dvorana Union\, 2000 Maribor
CATEGORIES:Dogodki,Glasba
ATTACH;FMTTYPE=image/jpeg:https://kultura.maribor.si/wp-content/uploads/2024/10/koncert-za-mir-visit-maribor-pohorje-slovenia.jpg
END:VEVENT
END:VCALENDAR