BEGIN:VCALENDAR
VERSION:2.0
PRODID:-//Kultura Maribor - ECPv6.2.8.1//NONSGML v1.0//EN
CALSCALE:GREGORIAN
METHOD:PUBLISH
X-WR-CALNAME:Kultura Maribor
X-ORIGINAL-URL:https://kultura.maribor.si
X-WR-CALDESC:Events for Kultura Maribor
REFRESH-INTERVAL;VALUE=DURATION:PT1H
X-Robots-Tag:noindex
X-PUBLISHED-TTL:PT1H
BEGIN:VTIMEZONE
TZID:Europe/Paris
BEGIN:DAYLIGHT
TZOFFSETFROM:+0100
TZOFFSETTO:+0200
TZNAME:CEST
DTSTART:20240331T010000
END:DAYLIGHT
BEGIN:STANDARD
TZOFFSETFROM:+0200
TZOFFSETTO:+0100
TZNAME:CET
DTSTART:20241027T010000
END:STANDARD
END:VTIMEZONE
BEGIN:VEVENT
DTSTART;TZID=Europe/Paris:20241004T200000
DTEND;TZID=Europe/Paris:20241004T220000
DTSTAMP:20260424T204225
CREATED:20240930T090712Z
LAST-MODIFIED:20240930T101304Z
UID:77566-1728072000-1728079200@kultura.maribor.si
SUMMARY:Liamere
DESCRIPTION:Glasbeni cikel JUTRI: Liamere \nVljudno vabljeni\, da sem nam v petek\, 4. oktobra 2024\, ob 20. uri pridružite v MMC KIBLA na koncertu dua Liamere\, ki bo potekal v okviru Glasbenega cikla JUTRI. Liamere je skupni projekt pevke in tekstopiske Kaje Skrbinšek ter aranžerja in producenta Andija Koglota\, ki je nastal v iskanju edinstvenih hibridov med elektronskimi žanri in klasično “pop” strukturo. \nNjuna glasba predstavlja zvočno mešanico urbanih atmosfer in zlomljenih ritmov ter melanholični ženski vokal. \n\nPovezava do originalnega članka
URL:https://kultura.maribor.si/dogodek/liamere-2024-10-04-20-00-00-2024-10-04-22-00-00/
LOCATION:Maribor center / MMC KIBLA\, Ulica kneza Koclja 9\, Maribor
CATEGORIES:Dogodki,Glasba
ATTACH;FMTTYPE=image/png:https://kultura.maribor.si/wp-content/uploads/2024/09/liamere-duo-koncert-visit-maribor.png
END:VEVENT
END:VCALENDAR