BEGIN:VCALENDAR
VERSION:2.0
PRODID:-//Kultura Maribor - ECPv6.2.8.1//NONSGML v1.0//EN
CALSCALE:GREGORIAN
METHOD:PUBLISH
X-WR-CALNAME:Kultura Maribor
X-ORIGINAL-URL:https://kultura.maribor.si
X-WR-CALDESC:Events for Kultura Maribor
REFRESH-INTERVAL;VALUE=DURATION:PT1H
X-Robots-Tag:noindex
X-PUBLISHED-TTL:PT1H
BEGIN:VTIMEZONE
TZID:Europe/Paris
BEGIN:DAYLIGHT
TZOFFSETFROM:+0100
TZOFFSETTO:+0200
TZNAME:CEST
DTSTART:20230326T010000
END:DAYLIGHT
BEGIN:STANDARD
TZOFFSETFROM:+0200
TZOFFSETTO:+0100
TZNAME:CET
DTSTART:20231029T010000
END:STANDARD
END:VTIMEZONE
BEGIN:VEVENT
DTSTART;TZID=Europe/Paris:20230610T210000
DTEND;TZID=Europe/Paris:20230610T230000
DTSTAMP:20260426T002511
CREATED:20230524T063935Z
LAST-MODIFIED:20230605T064407Z
UID:37342-1686430800-1686438000@kultura.maribor.si
SUMMARY:GHOST B.C.E.
DESCRIPTION:Zasedba je nastala v Mariboru v začetku leta 2017\, ko se je sedem izkušenih glasbenikov združilo z namenom preigravanja skladb svetovno znane švedske glasbene skupine Ghost. Od vsega začetka se Ghost B.C.E. trudijo ostati zvesti zasedbi Ghost tako po zvoku\, kot po izgledu\, kot po objavah v javnosti. Skratka celoten švedski paket v slovenski preobleki. \nKdo so člani banda?\nV švedski zasedbi Ghost je za mikrofonom pevec Papa Emeritus I.\, II.\, III.\, … v slovenski enačici je to Papa Emeritus XL.\, oba pa zavzemata podobo nekakšnega anti-papeža. V švedskem bandu na inštrumente igrajo bitja imenovana Nameless Ghoul (brezímni zli duh)\, v slovenskem pa Unnamed Ghoul (neimenovani zli duh). Razlika je le v tem\, da se je Ghost B.C.E. pridružila še Satanova sestra\, ki Papi Emeritusu XL. pomaga na vokalih ustvariti kompleksne harmonije\, po katerih so Ghost tako znani. \nOd kod ime?\nŠvedska zasedba je bila nekaj časa v ZDA znana kot Ghost B.C. (Before Christ – pred Kristusom)\, Slovenska pa se je poimenovala Ghost B.C.E. (Before Common Era – pred našim štetjem). \nKakšno zvrst glasbe igrajo?\nGhost B.C.E. pravijo\, da igrajo Ghost metal\, saj so cover band zasedbe Ghost. Vprašanje je torej\, kaj igrajo Ghost? Njihovo glasbo so opredelili z mnogimi stili\, med drugim hard rock\, heavy metal\, doom metal\, pop rock\, progresivni rock\, psihedelični rock\, okultni rock\, … Najbolje bo\, da si Ghost B.C.E. ogledate na koncertu in se sami odločite\, kateri stil bi jim pripisali. \nPrispevek: 5€+ \n\nPovezava do originalnega članka
URL:https://kultura.maribor.si/dogodek/ghost-b-c-e-2023-06-10-21-00-00-2023-06-10-23-00-00/
LOCATION:Mc pekarna
CATEGORIES:Alternativa,Dogodki,Glasba
ATTACH;FMTTYPE=image/jpeg:https://kultura.maribor.si/wp-content/uploads/2023/05/ghost-bce.jpg
END:VEVENT
END:VCALENDAR