BEGIN:VCALENDAR
VERSION:2.0
PRODID:-//Kultura Maribor - ECPv6.2.8.1//NONSGML v1.0//EN
CALSCALE:GREGORIAN
METHOD:PUBLISH
X-ORIGINAL-URL:https://kultura.maribor.si
X-WR-CALDESC:Events for Kultura Maribor
REFRESH-INTERVAL;VALUE=DURATION:PT1H
X-Robots-Tag:noindex
X-PUBLISHED-TTL:PT1H
BEGIN:VTIMEZONE
TZID:Europe/Paris
BEGIN:DAYLIGHT
TZOFFSETFROM:+0100
TZOFFSETTO:+0200
TZNAME:CEST
DTSTART:20250330T010000
END:DAYLIGHT
BEGIN:STANDARD
TZOFFSETFROM:+0200
TZOFFSETTO:+0100
TZNAME:CET
DTSTART:20251026T010000
END:STANDARD
END:VTIMEZONE
BEGIN:VEVENT
DTSTART;TZID=Europe/Paris:20250815T000000
DTEND;TZID=Europe/Paris:20250831T000000
DTSTAMP:20260421T170931
CREATED:20250808T020037Z
LAST-MODIFIED:20250808T093710Z
UID:97399-1755216000-1756598400@kultura.maribor.si
SUMMARY:Festival Letni oder Ruše
DESCRIPTION:Festival Letni oder Ruše\, že 26. po vrsti\, bo potekal med 15. in 24. avgustom 2023\n\n\n\nSkrit v zelenem zavetju pohorskih gozdov\, Letni oder Ruše že 25 let navdušuje obiskovalce s svojo naravno lepoto\, kulturnim bogastvom in nepozabnimi doživetji. \nTudi tokrat bodo z nami vrhunski glasbeniki in igralci\, ki bodo pričarali enkratno doživetje v osrčju narave\, na gledališču Pod goroj v Rušah. \n\n\nPROGRAM festivala letni oder ruše 2025\n\nPovezava do originalnega članka
URL:https://kultura.maribor.si/dogodek/festival-letni-oder-ruse-2025-08-15-00-00-00-2025-08-31-00-00-00-2/
LOCATION:Okolica / Glavni oder – Letno gledališče Pod goroj
CATEGORIES:Dogodki,Festivali,Gledališče
ATTACH;FMTTYPE=image/jpeg:https://kultura.maribor.si/wp-content/uploads/2025/08/letni-oder-ruse-visit-maribor-pohorje-slovenia-slovenija.jpg
END:VEVENT
BEGIN:VEVENT
DTSTART;TZID=Europe/Paris:20250829T190000
DTEND;TZID=Europe/Paris:20250829T220000
DTSTAMP:20260421T170931
CREATED:20250812T020226Z
LAST-MODIFIED:20250827T064114Z
UID:97532-1756494000-1756504800@kultura.maribor.si
SUMMARY:3. koncert JMM 2025: J. J. A. Jazz Trio
DESCRIPTION:TRETJI KONCERT FESTIVALA JAZZ ‘MA MLADE\nJ. J. A. JAZZ TRIO\nPetek\, 29. avgust 2025 // 19:00 // Kulturni inkubator \n\n\n\n\n\n\n\n\n\n\n\n\n\n\n\n\n\nV petek\, 29. avgusta 2025 se v Kulturni inkubator vrača festival Jazz ‘ma mlade 2025\, ki ga organizira Mladinski kulturni center Maribor. Na tretjem koncertnem večeru v letu 2025 bo nastopila mlada zasedba J. J. A. JAZZ TRIO. \nPROGRAM 29. avgusta 2025 | Kulturni inkubator\n\n19:00 – ustvarjalna delavnica \n20:00 – koncert J. J. A. JAZZ TRIO\nprvi obiskovalci bodo dobili tudi pijačo dobrodošlice\, na voljo bo brezplačna pogostitev (količina je omejena)\n\nJ. J. A. Jazz Trio sestavljajo bobnar Aleksander Črtalič (2006) in kitarist Julij Ogulin (2008)\, ki obiskujeta Konservatorij za glasbo in balet v Ljubljani\, ter organist Jakob Jon Doblekar (2011)\, ki poleg klavirja igra tudi orgle. Pod vodstvom mentorja Braca J. Doblekarja so leta 2021 sestavili J. J. A. Jazz Trio. Nastopajo na različnih kulturnih prireditvah. Izvajajo jazz standarde\, avtorsko in moderno jazz glasbo. \n\n\n\n\n\nPovezava do originalnega članka
URL:https://kultura.maribor.si/dogodek/3-koncert-jmm-2025-j-j-a-jazz-trio-2025-08-29-19-00-00-2025-08-29-22-00-00/
LOCATION:Kulturni inkubator
CATEGORIES:Dogodki,Festivali,Glasba
ATTACH;FMTTYPE=image/webp:https://kultura.maribor.si/wp-content/uploads/2025/08/JMM202528129.webp
END:VEVENT
END:VCALENDAR