BEGIN:VCALENDAR
VERSION:2.0
PRODID:-//Kultura Maribor - ECPv6.2.8.1//NONSGML v1.0//EN
CALSCALE:GREGORIAN
METHOD:PUBLISH
X-WR-CALNAME:Kultura Maribor
X-ORIGINAL-URL:https://kultura.maribor.si
X-WR-CALDESC:Events for Kultura Maribor
REFRESH-INTERVAL;VALUE=DURATION:PT1H
X-Robots-Tag:noindex
X-PUBLISHED-TTL:PT1H
BEGIN:VTIMEZONE
TZID:Europe/Paris
BEGIN:DAYLIGHT
TZOFFSETFROM:+0100
TZOFFSETTO:+0200
TZNAME:CEST
DTSTART:20250330T010000
END:DAYLIGHT
BEGIN:STANDARD
TZOFFSETFROM:+0200
TZOFFSETTO:+0100
TZNAME:CET
DTSTART:20251026T010000
END:STANDARD
END:VTIMEZONE
BEGIN:VEVENT
DTSTART;TZID=Europe/Paris:20250516T190000
DTEND;TZID=Europe/Paris:20250523T235900
DTSTAMP:20260424T091646
CREATED:20250419T020110Z
LAST-MODIFIED:20250505T095438Z
UID:89227-1747422000-1748044740@kultura.maribor.si
SUMMARY:7. Mednarodni festival uprizoritvenih umetnosti Prestopi
DESCRIPTION:7. Mednarodni festival uprizoritvenih umetnosti Prestopi nima rdeče niti\, nima kuratorskega podpisa in nima enotne teme. Ni žanrsko opredeljen\, nima tekmovalnega programa in nima spremljevalnega programa. \nFestival bo potekal od 16. do 23. maja\, torej osem dni. Predstave ne bodo na sporedu vsak dan\, kak dan pa bosta dve. \nVabimo vas\, da si rezervirate večere v tem tednu – prepričani smo\, da vam ne bo žal. \n𝙇𝙖 𝙇𝙚𝙩𝙩𝙚𝙧𝙖 (𝙋𝙞𝙨𝙢𝙤) je recimo legendarna klovnovska predstava\, 𝙊𝙧𝙖𝙩𝙤𝙧𝙞𝙖 je pa majhna neodvisna bolgarska produkcija. 𝘾𝙪𝙧𝙚 (𝙋𝙪𝙣𝙘𝙚) so reško spogledovanje z angažiranim gledališčem\, 𝙈𝙖𝙯𝙚 (𝘽𝙡𝙤𝙙𝙣𝙟𝙖𝙠) je rimsko senčno življenjsko popotovanje. 𝙎𝙡𝙤𝙫𝙚𝙣𝙨𝙠𝙖 𝙩𝙧𝙖𝙣𝙨𝙫𝙚𝙧𝙯𝙖𝙡𝙖 ljubi Slovenijo\, 𝙃𝙚𝙧𝙤𝙟 4.0 – 𝘽𝙪𝙨𝙞𝙣𝙚𝙨𝙨 𝙖𝙨 𝙐𝙨𝙪𝙖𝙡 sesa kri gledališču. \n𝙒𝙝𝙖𝙩 𝙩𝙤 𝙙𝙤 𝙞𝙣 𝙖 𝙋𝙪𝙥𝙥𝙚𝙩 𝙀𝙢𝙚𝙧𝙜𝙚𝙣𝙘𝙮 (𝙊𝙨𝙣𝙤𝙫𝙚 𝙤ž𝙞𝙫𝙡𝙟𝙖𝙣𝙟𝙖 𝙡𝙪𝙩𝙠𝙚) je predavanje\, ki je predstava. 𝙐𝙢𝙚𝙩𝙣𝙤𝙨𝙩 𝙟𝙚 𝙤𝙢𝙖𝙧𝙖 nam na široko odpira vrata poezije in 𝙃𝙖𝙧𝙢𝙨 𝙟𝙚 𝙠𝙧𝙞𝙫! ne diha s pljuči\, ampak z mehom in to ne enim. Predstave so fascinantne\, srčne\, politične\, smešne\, duhovite\, zabavne\, pronicljive\, kritične … \n\nPovezava do originalnega članka
URL:https://kultura.maribor.si/dogodek/7-mednarodni-festival-uprizoritvenih-umetnosti-prestopi-2025-05-16-19-00-00-2025-05-23-23-59-00/
LOCATION:139255fe-5699-478a-ae6c-fe314809d145
CATEGORIES:Dogodki,Festivali
ATTACH;FMTTYPE=image/jpeg:https://kultura.maribor.si/wp-content/uploads/2025/04/139255fe-5699-478a-ae6c-fe314809d145-1.jpg
END:VEVENT
BEGIN:VEVENT
DTSTART;TZID=Europe/Paris:20250520T190000
DTEND;TZID=Europe/Paris:20250520T203000
DTSTAMP:20260424T091646
CREATED:20250419T020128Z
LAST-MODIFIED:20250512T081204Z
UID:89257-1747767600-1747773000@kultura.maribor.si
SUMMARY:Umetnost je omara
DESCRIPTION:Predstava\, ki nas spomni\, da je smisel skrit v absurdu. Veselje do gledališča pa skrito v omari. \nGlobalni svet dosega vrtoglave vrhove človeške neumnosti\, nesmisla in etičnega razkroja. Razkroj vrednot je samoumeven in banalnost naših dni je postala navada. Temelj sodobnega sveta je absurd. In Harms je eden prvih absurdistov. Absurd v Harmsovi literaturi priča o nerazvidnem in nedoločljivem strahu\, ki vsakdanjosti preti iz ozadja. Čista ljubezen do gledališkega izražanja. Pristno in iskreno. Poetično\, komično\, absurdno\, kozmično. \nRežija: Ivan Peternelj \nKoprodukcija: Društvo za umetnost AVGUS\, Slovensko mladinsko gledališče \nZasedba: Daša Doberšek\, Janja Majzelj\, Blaž Šef\, Matija Vastl \nNa harmoniju: Polona Janežič \nScenografa na odru: Gašper Tesner\, Ivan Peternelj \nPrevod: Drago Bajt \nIzbor besedil: Ivan Peternelj \nDramaturgija: Jana Pavlič … \nTrajanje: 70 minut \nPo predstavi sledi pogovor z ustvarjalci. \nVstopnice na moment.si/samopostrezna ali vstopnice@prestopi.si \nVse info: prestopi.si \nFestival Prestopi/Crossings nastaja v produkciji Kulturno-umetniškega društva Moment. \n\nPovezava do originalnega članka
URL:https://kultura.maribor.si/dogodek/umetnost-je-omara-2025-05-20-19-00-00-2025-05-20-20-30-00/
LOCATION:f1d4b156-039f-42a0-b33a-8a73b112876a
CATEGORIES:Dogodki,Festivali,Gledališče
ATTACH;FMTTYPE=image/jpeg:https://kultura.maribor.si/wp-content/uploads/2025/04/f1d4b156-039f-42a0-b33a-8a73b112876a.jpg
END:VEVENT
BEGIN:VEVENT
DTSTART;TZID=Europe/Paris:20250522T190000
DTEND;TZID=Europe/Paris:20250522T230000
DTSTAMP:20260424T091646
CREATED:20250513T020115Z
LAST-MODIFIED:20250516T091506Z
UID:91279-1747940400-1747954800@kultura.maribor.si
SUMMARY:Festival Prestopi: HARMS JE KRIV!
DESCRIPTION:Harmonika kot inštrument. Harmonika kot orodje. Harmonika kot stroj. Harmonika kot ustroj\, ki poganja družbeni sistem. Pravzaprav ne samo harmonika. Osrednji scensko-zvočni element je inštrument\, sestavljen iz harmonik\, mehov in lajn\, analognih mehanizmov\, delov lutk\, tehnologije midi in ur brez kazalcev. Na njem se odvijajo zgodbe o Harmsovih starkah\, ki se iz atmosfersko bogatih prizorov sprevržejo v sarkastične eksekucije nežnih karakterjev\, ustvarjajoč neprestan kontrast razpoloženj in tem. Harmsov nelogični stroj razbija kozarce\, igra simfonije\, sproža povedke\, zgode in predvsem nezgode enega zadnjih nosilcev ruske avantgarde\, Daniila Šardama Kharmsa Dandana Harmoniusa (ali … kogarkoli že). \nHarms je umrl zaradi lakote v zaporu\, obtožen »protisovjetskega delovanja«. V njegovem rojstnem kraju so leta 2022 odstranili njegov mural. Ker je kriv! Za nič. \nMatija Solce\, priznani in večkrat nagrajeni lutkovni režiser\, igralec\, potujoči lutkar\, glasbenik\, organizator festivalov in aktivist. V svojih delih tesno povezuje glasbo in gledališče\, podira stereotipe o lutkovnem gledališču in ga vzpostavlja kot najbolj odprto gledališko formo. Verjame\, da umetnost lahko spreminja družbo\, če ji dovolimo delovati izven svoje cone udobja. S krsto\, polno kosti\, in harmoniko je že nekajkrat obšel svet ter igral za najrazličnejše občestvo v zaporih\, ašramih\, dnevnih sobah in velikih dvoranah mednarodnih festivalov \n\nPovezava do originalnega članka
URL:https://kultura.maribor.si/dogodek/festival-prestopi-harms-je-kriv-2025-05-22-19-00-00-2025-05-22-23-00-00/
LOCATION:Maribor center / Mali oder
CATEGORIES:Dogodki,Festivali,Gledališče
ATTACH;FMTTYPE=image/jpeg:https://kultura.maribor.si/wp-content/uploads/2025/05/harms4-jpeg.jpg
END:VEVENT
BEGIN:VEVENT
DTSTART;TZID=Europe/Paris:20250523T103000
DTEND;TZID=Europe/Paris:20250523T113000
DTSTAMP:20260424T091646
CREATED:20250507T020158Z
LAST-MODIFIED:20250516T091547Z
UID:90646-1747996200-1747999800@kultura.maribor.si
SUMMARY:Dnevi knjige v Mariboru - petek (1. dan)
DESCRIPTION:10.30\, GLAZERJEVA DVORANA UNIVERZITETNE KNJIŽNICE MARIBOR \nNOVINARSKA KONFERENCA 28. LITERARNEGA FESTIVALA SLOVENSKI DNEVI KNJIGE V MARIBORU\nPredstavitev programa v Mariboru in kratka predstavitev programa v partnerskih mestih. \nOrganizacija in izvedba: MKC Maribor in Univerzitetna knjižnica Maribor \n\n\n\n\n\n\n\n\n\n\n\n12.00\, UNIVERZITETNA KNJIŽNICA MARIBOR; KNJIŽNO RAZSTAVIŠČE UKM \nOTVORITVENI DOGODEK 28. LITERARNEGA FESTIVALA SLOVENSKI DNEVI KNJIGE V MARIBORU – KO TE NAPIŠE KNJIGA 2025\nNa otvoritveni slovesnosti bosta predsednica Društva slovenskih književnih prevajalcev Tanja Petrič\, v imenu ustanovitelja\, in koordinatorica festivala Petra Kolmančič\, v imenu pokrovitelja\, razglasili prejemnico nagrade Vasje Cerarja za najboljši prevod na področju mladinske književnosti. Obiskovalce in organizatorje bodo pozdravili in nagovorili direktorica Javne agencije za knjigo RS Katja Stergar\, predstavnik Mestne občine Maribor\, ravnateljica Univerzitetne knjižnice Maribor mag. Dunja Legat in v imenu direktorice Mladinskega kulturnega centra Maribor Marje Guček njena namestnica Lina Valant Sičanović. V skulpturo Časovna kapsula Jožeta Šubica bo vložen izvirni literarni prispevek osrednje gostje festivala Nataše Kramberger. Nastopili bodo Bojan Tomažič\, Slobodan Boban Janković in Ema S. s projektom Pijani čoln. Potekalo bo odprtje knjižno-likovne razstave Drevo\, beseda in človek\, avtorjev Boruta Gombača\, Nina Flisarja in Rafaela Kurnika z verzi mariborskih pesnic in pesnikov (nastalih kot odziv na pesem Edvarda Kocbeka Na polju)\, z izbranimi knjižnimi citati poznavalcev sveta dreves in skulpturami iz stalne zbirke UGM letošnje Prešernove nagrajenke za življenjsko delo\, kiparke Dragice Čadež. Otvoritveno slovesnost bosta moderirala Petra Bauman in Nino Flisar. \nOrganizirata: UKM in MKC Maribor \n\n\n\n\n\n\n\n\n\n\n\n18.00\, LITERARNA HIŠA MARIBOR \nKDO SE BOJI NADE GABOROVIČ?\nOb stoletnici rojstva predstavljata Literarna hiša Maribor in njen dolgoletni vodja\, pesnik\, pisatelj in urednik Marjan Pungartnik podobo in delo pomembne pedagoginje\, pisateljice in urednice Nade Gaborovič (1924–2006). K branju iz njenih del\, pogovoru o pisateljici in podpisu peticije za postavitev obeležja avtorici je vabljeno širše občinstvo. \nOrganizacija in izvedba: Kulturno društvo Mariborska literarna družba\, JSKD – OI Maribor in ZKD Maribor \n\n\n\n\n\n\n\n\n\n\n\n19.00\, GRAJSKA KAVARNA POKRAJINSKEGA MUZEJA MARIBOR \nČLOVEK JE BESEDA IN BESEDA JE LAHKO DREVO – VELIKO PROZNO BRANJE\nNa literarnem večeru bodo nastopili ugledni avtorji in avtorice proznih del\, ki so tako ali drugače povezana z osrednjo temo festivala\, to je naravo ali ekologijo. Z nami bodo prozaist\, znan po svojem poetičnem slogu\, Vlado Žabot\, ki bo bral iz najnovejšega romana Gral\, prevajalka Tanja Petrič\, ki bo predstavila odlomke iz potopisnega romana Ob jarkih nemško-iranskega pisatelja in publicista Navida Kermanija\, dr. Stanislava Chrobáková Repar\, slovaško-slovenska književnica in prevajalka\, ki bo prebirala odlomke iz svojega esejističnega dela Iniciacije ali književnost onkraj vidnega in žanrsko hibridne zbirke Torzá/Torzi ter pisateljica Anja Mugerli\, ki je leta 2024 prejela kresnika za najboljši roman leta Pričakovanja. \nDogodek bo povezovala urednica\, novinarka in kritičarka Petra Vidali. \nProdukcija: MKC Maribor. Izvedba: MKC Maribor – festival Slovenski dnevi knjige v Mariboru v sodelovanju s Pokrajinskim muzejem Maribor  \nDr. Stanislava Chrobáková Repar gostuje v Sloveniji s podporo iz javnih sredstev FPU (Slovaška) \n\n\n\n\n\n\nPovezava do originalnega članka
URL:https://kultura.maribor.si/dogodek/dnevi-knjige-v-mariboru-petek-1-dan-2025-05-23-10-30-00-2025-05-23-11-30-00/
LOCATION:Maribor
CATEGORIES:Dogodki,Festivali,Kulturno-umetnostna vzgoja,Literatura,Razstave
ATTACH;FMTTYPE=image/jpeg:https://kultura.maribor.si/wp-content/uploads/2025/05/b.jpg
END:VEVENT
BEGIN:VEVENT
DTSTART;TZID=Europe/Paris:20250523T103000
DTEND;TZID=Europe/Paris:20250531T000000
DTSTAMP:20260424T091646
CREATED:20250510T020224Z
LAST-MODIFIED:20250516T091608Z
UID:91048-1747996200-1748649600@kultura.maribor.si
SUMMARY:28. festival Slovenski dnevi knjige v Mariboru
DESCRIPTION:Med 23. in 31. majem 28. festival Slovenski dnevi knjige v Mariboru \nMladinski kulturni center Maribor (MKC Maribor) v sodelovanju s partnerji med 23. in 31. majem 2025 organizira festival Slovenski dnevi knjige v Mariboru\, ki letos poteka že 28. leto zapored. Festival bo letos potekal pod sloganom “Drevo\, beseda in človek”. \nPridružite se nam na različnih lokacijah po Mariboru in uživajte v brezplačnih kulturnih dogodkih\, ki bodo združevali literaturo\, umetnost in druženje. \nVse festivalske aktivnosti so brezplačne – ne zamudite priložnosti za kulturno obogatitev! \n\nPovezava do originalnega članka
URL:https://kultura.maribor.si/dogodek/28-festival-slovenski-dnevi-knjige-v-mariboru-2025-05-23-10-30-00-2025-05-31-00-00-00-2/
LOCATION:Maribor center / Maribor
CATEGORIES:Delavnice,Dogodki,Festivali,Glasba,Gledališče,Kulturno-umetnostna vzgoja,Literatura
ATTACH;FMTTYPE=image/jpeg:https://kultura.maribor.si/wp-content/uploads/2025/05/77cf34c8-8007-4930-b903-0bf7ff5cc6aa.jpg
END:VEVENT
BEGIN:VEVENT
DTSTART;TZID=Europe/Paris:20250523T190000
DTEND;TZID=Europe/Paris:20250523T190000
DTSTAMP:20260424T091646
CREATED:20250513T020156Z
LAST-MODIFIED:20250516T091642Z
UID:91328-1748026800-1748026800@kultura.maribor.si
SUMMARY:Človek je beseda in beseda je lahko drevo
DESCRIPTION:Veliko prozno branje 28. festivala Slovenski dnevi knjige v Mariboru \nVabljeni na literarni večer\, ki bo raziskoval temo narave in ekologije skozi prozo! \nNa dogodku bodo nastopili:\n\n𝐕𝐥𝐚𝐝𝐨 𝐙̌𝐚𝐛𝐨𝐭 – prozaist\, znan po svojem poetičnem slogu\, ki bo prebral iz odlomkov svojega najnovejšega romana 𝐺𝑟𝑎𝑙.\n𝐓𝐚𝐧𝐣𝐚 𝐏𝐞𝐭𝐫𝐢𝐜̌ – priznana prevajalka\, ki bo predstavila odlomke iz potopisnega romana 𝑂𝑏 𝑗𝑎𝑟𝑘𝑖ℎ nemško-iranskega pisatelja in publicista Navida Kermanija.\n𝐝𝐫. 𝐒𝐭𝐚𝐧𝐢𝐬𝐥𝐚𝐯𝐚 𝐂𝐡𝐫𝐨𝐛𝐚́𝐤𝐨𝐯𝐚́ 𝐑𝐞𝐩𝐚𝐫 – slovaško-slovenska književnica in prevajalka\, ki bo prebirala iz svojega esejističnega dela 𝐼𝑛𝑖𝑐𝑖𝑎𝑐𝑖𝑗𝑒 ali književnost onkraj vidnega in zbirke 𝑇𝑜𝑟𝑧á/𝑇𝑜𝑟𝑧𝑖.\n𝐀𝐧𝐣𝐚 𝐌𝐮𝐠𝐞𝐫𝐥𝐢 – pisateljica\, dobitnica Kresnika 2024 za najboljši roman leta 𝑃𝑟𝑖č𝑎𝑘𝑜𝑣𝑎𝑛𝑗𝑎.\n\n\nPovezava do originalnega članka
URL:https://kultura.maribor.si/dogodek/clovek-je-beseda-in-beseda-je-lahko-drevo-2025-05-23-19-00-00-2025-05-23-00-00-00-2/
LOCATION:Maribor center / Grajska kavarna Pokrajinskega muzeja Maribor
CATEGORIES:Dogodki,Festivali,Literatura
ATTACH;FMTTYPE=image/jpeg:https://kultura.maribor.si/wp-content/uploads/2025/05/dogodki-8.jpg
END:VEVENT
BEGIN:VEVENT
DTSTART;TZID=Europe/Paris:20250523T190000
DTEND;TZID=Europe/Paris:20250523T190000
DTSTAMP:20260424T091646
CREATED:20250513T020158Z
LAST-MODIFIED:20250516T091918Z
UID:91331-1748026800-1748026800@kultura.maribor.si
SUMMARY:Človek je beseda in beseda je lahko drevo
DESCRIPTION:Veliko prozno branje 28. festivala Slovenski dnevi knjige v Mariboru \nVabljeni na literarni večer\, ki bo raziskoval temo narave in ekologije skozi prozo! \nNa dogodku bodo nastopili:\n\n𝐕𝐥𝐚𝐝𝐨 𝐙̌𝐚𝐛𝐨𝐭 – prozaist\, znan po svojem poetičnem slogu\, ki bo prebral iz odlomkov svojega najnovejšega romana 𝐺𝑟𝑎𝑙.\n𝐓𝐚𝐧𝐣𝐚 𝐏𝐞𝐭𝐫𝐢𝐜̌ – priznana prevajalka\, ki bo predstavila odlomke iz potopisnega romana 𝑂𝑏 𝑗𝑎𝑟𝑘𝑖ℎ nemško-iranskega pisatelja in publicista Navida Kermanija.\n𝐝𝐫. 𝐒𝐭𝐚𝐧𝐢𝐬𝐥𝐚𝐯𝐚 𝐂𝐡𝐫𝐨𝐛𝐚́𝐤𝐨𝐯𝐚́ 𝐑𝐞𝐩𝐚𝐫 – slovaško-slovenska književnica in prevajalka\, ki bo prebirala iz svojega esejističnega dela 𝐼𝑛𝑖𝑐𝑖𝑎𝑐𝑖𝑗𝑒 ali književnost onkraj vidnega in zbirke 𝑇𝑜𝑟𝑧á/𝑇𝑜𝑟𝑧𝑖.\n𝐀𝐧𝐣𝐚 𝐌𝐮𝐠𝐞𝐫𝐥𝐢 – pisateljica\, dobitnica Kresnika 2024 za najboljši roman leta 𝑃𝑟𝑖č𝑎𝑘𝑜𝑣𝑎𝑛𝑗𝑎.\n\n\n\nPovezava do originalnega članka
URL:https://kultura.maribor.si/dogodek/clovek-je-beseda-in-beseda-je-lahko-drevo-2025-05-23-19-00-00-2025-05-23-00-00-00/
LOCATION:Maribor center / Grajska kavarna Pokrajinskega muzeja Maribor
CATEGORIES:Dogodki,Festivali,Literatura
ATTACH;FMTTYPE=image/jpeg:https://kultura.maribor.si/wp-content/uploads/2025/05/dogodki-8-1.jpg
END:VEVENT
BEGIN:VEVENT
DTSTART;TZID=Europe/Paris:20250524T110000
DTEND;TZID=Europe/Paris:20250525T100000
DTSTAMP:20260424T091646
CREATED:20250508T020204Z
LAST-MODIFIED:20250516T092103Z
UID:90833-1748084400-1748167200@kultura.maribor.si
SUMMARY:Dnevi knjige v Mariboru - sobota in nedelja (2. dan in 3. dan)
DESCRIPTION:SOBOTA\, 24. MAJ 2025 \n11.00\, LITERARNA HIŠA MARIBOR \nMARIBORSKA LITERARNA JUTRA POD JEKLENO BRAJDO\nOdprto skupinsko branje na dvorišču Vojašniške ulice 12 ob kavi in pogovorih. Vabljeni tudi kantavtorji in kantavtorice. \nOrganizacija in izvedba: Kulturno društvo Mariborska literarna družba\, JSKD – OI Maribor in ZKD Maribor \n\n\n\n\n\n\n\n\n\n\n\n19.00\, POD LETNIM AVDITORIJEM LUTKOVNEGA GLEDALIŠČA \n25. PESNIŠKI TURNIR – FINALNO TEKMOVANJE ZA NAJBOLJŠO NEOBJAVLJENO IZVIRNO PESEM IN NAZIV »VITEZ(INJA) PESNIŠKEGA TURNIRJA 2025«\nPo dveh polfinalnih turnirjih\, ki sta potekala 11. aprila v Knjižnici Damirja Feigla v Novi Gorici in 25. aprila v Valvasorjevi knjižnici Krško\, se je v finale Pesniškega turnirja\, izvirnega tekmovanja\, ki od leta 2000 poteka na pobudo Zore A. Jurič\, uvrstilo dvanajst pesnikov in pesnic\, ki se bodo potegovali za naziv vitez ali vitezinja poezije. \nNastopili bodo Nika Gradišek\, Jure Jakob\, Damjan Japelj\, Aleš Jelenko\, Jernej Kusterle\, Brigita Mencigar\, Lucija Mirkac\, Alja Pušič\, Sara Špelec\, Andreina Trusgnach\, Karmen Vidmar in Eva Žnidaršič. \nPesniški gost bo lanskoletni vitez poezije Peter Rezman\, prireditev bosta povezovala koordinator projekta Nino Flisar in vitezinja poezije Alenka Jovanovski. Strokovna žirija\, v sestavi dr. Irena Novak Popov\, dr. David Bedrač in Franci Novak\, bo izbrala viteza ali vitezinjo poezije\, ki bo prejel/-a denarno nagrado 1000 € in knjižno darilo. Svojega zmagovalca ali zmagovalko bo z glasovanjem izbralo tudi občinstvo. Ob tej priložnosti bo izšel zbornik finalnih pesmi\, ki ga bodo v dar prejeli vsi obiskovalci. \nČe bo deževalo\, bo dogodek potekal v Sodnem stolpu. \nProdukcija in izvedba: Klub kulturnih ustvarjalcev KU KU in Kreacija\, s. p.\, v izvedbenem sodelovanju z Lutkovnim gledališčem Maribor in festivalom Slovenski dnevi knjige v Mariboru \n\n\n\n\n\n\n\n\n\n\n\nNEDELJA\, 23. MAJ 2025 \n10.00\, ZBIRNO MESTO PRI PRVI GIMNAZIJI MARIBOR \nSPREHOD PO POTEH UŽITNIH DREVES MARIBORA: DREVO BESED\n28. festival Slovenski dnevi knjige v Mariboru • KO TE NAPIŠE KNJIGA 2025 Drevesa so pomemben del naravne dediščine in imajo v urbanem okolju ekološko\, družbeno\, ekonomsko in estetsko funkcijo. Eden od vidikov dreves pa je pogosto spregledan. To je uporaba delov dreves v kulinarične namene in prav tej temi se bomo na tem svojevrstnem sprehodu posvečali. Pod strokovnim vodstvom dolgoletnega predsednika in ustanovitelja Hortikulturnega društva Maribor Boruta Ambrožiča se bomo sprehodili po Mariboru\, spoznavali užitna drevesa\, tudi taka\, ki so za našo gastronomsko regijo neznačilna\, ter podelili nekatere že pozabljene recepte. Del sprehoda bo tudi literarni postanek s pripovedovalskim nastopom Petre Bauman ob divjem mandljevcu na Ulici kneza Koclja 6 v Mariboru\, ki je edini mandljevec v Sloveniji\, ki ima status naravne vrednote. \nOrganizacija in izvedba: Hortikulturno društvo Maribor v sodelovanju s festivalom Slovenski dnevi knjige v Mariboru \nPo poteh užitnih dreves Maribora je del EU projekta Erasmus +\, ForestWell\, ki ga je potrdila nacionalna agencija CMEPIUS. Sprehod je tudi del vseslovenske skupne akcije Drevo besed\, ki poteka v izvedbi partnerskih mest festivala Slovenski dnevi knjige 2025. \n\n\n\n\n\nPovezava do originalnega članka
URL:https://kultura.maribor.si/dogodek/dnevi-knjige-v-mariboru-sobota-in-nedelja-2-dan-in-3-dan-2025-05-24-11-00-00-2025-05-25-10-00-00/
LOCATION:maribor Slovenija
CATEGORIES:Dogodki,Festivali,Glasba,Kulturno-umetnostna vzgoja,Literatura
ATTACH;FMTTYPE=image/jpeg:https://kultura.maribor.si/wp-content/uploads/2025/05/c-1.jpg
END:VEVENT
END:VCALENDAR