BEGIN:VCALENDAR
VERSION:2.0
PRODID:-//Kultura Maribor - ECPv6.2.8.1//NONSGML v1.0//EN
CALSCALE:GREGORIAN
METHOD:PUBLISH
X-WR-CALNAME:Kultura Maribor
X-ORIGINAL-URL:https://kultura.maribor.si
X-WR-CALDESC:Events for Kultura Maribor
REFRESH-INTERVAL;VALUE=DURATION:PT1H
X-Robots-Tag:noindex
X-PUBLISHED-TTL:PT1H
BEGIN:VTIMEZONE
TZID:Europe/Paris
BEGIN:DAYLIGHT
TZOFFSETFROM:+0100
TZOFFSETTO:+0200
TZNAME:CEST
DTSTART:20250330T010000
END:DAYLIGHT
BEGIN:STANDARD
TZOFFSETFROM:+0200
TZOFFSETTO:+0100
TZNAME:CET
DTSTART:20251026T010000
END:STANDARD
END:VTIMEZONE
BEGIN:VEVENT
DTSTART;TZID=Europe/Paris:20250602T000000
DTEND;TZID=Europe/Paris:20250615T000000
DTSTAMP:20260425T221557
CREATED:20250312T020056Z
LAST-MODIFIED:20250527T081017Z
UID:85819-1748822400-1749945600@kultura.maribor.si
SUMMARY:60. Festival Borštnikovo srečanje
DESCRIPTION:Kjer so na ogled najboljše gledališke predstave\n\n\n\nFestival\, ki poteka v prvi polovici junija\, postreže z najboljšimi predstavami slovenskih gledališč. Ob koncu festivala strokovna žirija podeli nagrade za dosežke na več področjih gledališke ustvarjalnosti – najuglednejša med njimi je Borštnikov prstan\, nagrada za izjemen igralski opus. \nNa festivalu se na 19. lokacijah predstavi vrhunec pretekle gledališke sezone. Gledalci lahko uživajo v raznolikih predstavah\, od klasike do sodobnih interpretacij\, od drame do komedije. To je enkratna priložnost\, da vidite najboljše igralce in režiserje na delu ter odkrijete nove gledališke svetove. \nPoleg tekmovalnega programa festival ponuja še veliko drugih dogodkov. Gledalci se lahko udeležijo pogovorov z ustvarjalci\, delavnic\, predavanj in drugih dogodkov\, ki jim omogočajo\, da se še poglobijo v svet gledališča. \nBorštnikovo srečanje je enkratna priložnost\, da doživite čarobnost gledališča v vsej njegovi raznolikosti. To je praznik umetnosti\, praznik ustvarjalnosti in praznik slovenskega jezika. \n\n\n\nFestival Borštnikovo srečanje je osrednji slovenski gledališki festival\, ki več kot pol stoletja bogati slovenski gledališki in kulturni prostor. \n  \nPROGRAM \n\nPovezava do originalnega članka
URL:https://kultura.maribor.si/dogodek/60-festival-borstnikovo-srecanje-2025-06-02-00-00-00-2025-06-15-00-00-00/
LOCATION:Maribor center / Slovensko narodno gledališče Maribor
CATEGORIES:Dogodki,Festivali,Gledališče
ATTACH;FMTTYPE=image/png:https://kultura.maribor.si/wp-content/uploads/2025/03/festival-borstnikovo-srecanje-visit-maribor-pohorje-slovenia.png
END:VEVENT
BEGIN:VEVENT
DTSTART;TZID=Europe/Paris:20250604T170000
DTEND;TZID=Europe/Paris:20250607T233000
DTSTAMP:20260425T221557
CREATED:20250513T020121Z
LAST-MODIFIED:20250527T081241Z
UID:91287-1749056400-1749339000@kultura.maribor.si
SUMMARY:(Z)mešani festival 2025
DESCRIPTION:V Maribor se vrača festival mladinske ustvarjalnosti! Skupaj z mladimi iz KUD Coda bodo medgeneracijsko in kulturno bogat festival soustvarjala uveljavljena imena glasbene scene. Osmič z zero waste ukrepi in že tradicionalno pod streho našega Vetrinjc-BarCoda. Letos v duhu praznovanja 20. obletnice ustvarjanja KUD Coda. \nPROGRAM \nsreda\, 4. junij\n17.00: Koncert učencev KUD Coda\n19.00: Vokalna skupina Vokalke\n19.30: MePZ KUD Coda\n21.00: Žan Videc \nčetrtek\, 5. junij\n17.00: Koncert učencev KUD Coda\n20.00: Pižoni \npetek\, 6. junij\n17.00: Koncert učencev KUD Coda\n19.30: Coda kviz\n21.30: Live karaoke \nsobota\, 7. junij\n16.00: Marsova reciklažna delavnica\n18.00: Koncert učencev KUD Coda\n20.30: Delta Riff \n\nPovezava do originalnega članka
URL:https://kultura.maribor.si/dogodek/z-mesani-festival-2025-2025-06-04-17-00-00-2025-06-04-23-30-00-2/
LOCATION:Maribor center / Vetrinjski dvor
CATEGORIES:Dogodki,Festivali,Glasba
ATTACH;FMTTYPE=image/jpeg:https://kultura.maribor.si/wp-content/uploads/2025/05/zmesani-festival-jpg.jpg
END:VEVENT
BEGIN:VEVENT
DTSTART;TZID=Europe/Paris:20250604T200000
DTEND;TZID=Europe/Paris:20250604T210000
DTSTAMP:20260425T221557
CREATED:20250528T020134Z
LAST-MODIFIED:20250530T062450Z
UID:92872-1749067200-1749070800@kultura.maribor.si
SUMMARY:Dnevi knjige v Mariboru - Omizje na TV Maribor
DESCRIPTION:20.00\, TELEVIZIJA MARIBOR \nOMIZJE– KAKŠNO VLOGO LAHKO ODIGRA LITERATURA V ZVEZI S PEREČO OKOLJSKO IN PODNEBNO PROBLEMATIKO? \nVsi se zavedamo\, da bi bilo treba za resnični premik od antropocentrizma k ekocentrizmu in bolj celostnemu ekološkemu pristopu v odnosu človeka do narave angažirati tisto tiho večino\, saj se sicer ne moremo zanašati\, da se bo kaj spremenilo na bolje\, vendar nihče nima prave ideje\, kako to narediti. Kakšno vlogo lahko v zvezi s perečo okoljsko in podnebno problematiko odigrajo knjige ter pisatelji in pisateljice? Kako so ekokritiške teme prisotne v sodobni slovenski literaturi? Kaj so čeri in pasti tovrstnih pisav? Sodelovale bodo Nataša Kramberger\, dr. Stanislava Chrobáková Repar\, Nataša Konc Lorenzutti\, vodil bo dr. Zoran Medved. \nV soorganizaciji Mladinskega kulturnega centra Maribor in RTVSLO – Regionalnega centra Maribor  \n\n\n\n\n\n\n\n\n\n\n\n\n\n\n\n\nPovezava do originalnega članka
URL:https://kultura.maribor.si/dogodek/dnevi-knjige-v-mariboru-omizje-na-tv-maribor-2025-06-04-20-00-00-2025-06-04-21-00-00/
LOCATION:a-2
CATEGORIES:Dogodki,Festivali,Literatura,Razstave
ATTACH;FMTTYPE=image/jpeg:https://kultura.maribor.si/wp-content/uploads/2025/05/a-2.jpg
END:VEVENT
END:VCALENDAR