BEGIN:VCALENDAR
VERSION:2.0
PRODID:-//Kultura Maribor - ECPv6.2.8.1//NONSGML v1.0//EN
CALSCALE:GREGORIAN
METHOD:PUBLISH
X-WR-CALNAME:Kultura Maribor
X-ORIGINAL-URL:https://kultura.maribor.si
X-WR-CALDESC:Events for Kultura Maribor
REFRESH-INTERVAL;VALUE=DURATION:PT1H
X-Robots-Tag:noindex
X-PUBLISHED-TTL:PT1H
BEGIN:VTIMEZONE
TZID:Europe/Paris
BEGIN:DAYLIGHT
TZOFFSETFROM:+0100
TZOFFSETTO:+0200
TZNAME:CEST
DTSTART:20250330T010000
END:DAYLIGHT
BEGIN:STANDARD
TZOFFSETFROM:+0200
TZOFFSETTO:+0100
TZNAME:CET
DTSTART:20251026T010000
END:STANDARD
END:VTIMEZONE
BEGIN:VEVENT
DTSTART;TZID=Europe/Paris:20250523T103000
DTEND;TZID=Europe/Paris:20250531T000000
DTSTAMP:20260424T165333
CREATED:20250510T020224Z
LAST-MODIFIED:20250516T091608Z
UID:91048-1747996200-1748649600@kultura.maribor.si
SUMMARY:28. festival Slovenski dnevi knjige v Mariboru
DESCRIPTION:Med 23. in 31. majem 28. festival Slovenski dnevi knjige v Mariboru \nMladinski kulturni center Maribor (MKC Maribor) v sodelovanju s partnerji med 23. in 31. majem 2025 organizira festival Slovenski dnevi knjige v Mariboru\, ki letos poteka že 28. leto zapored. Festival bo letos potekal pod sloganom “Drevo\, beseda in človek”. \nPridružite se nam na različnih lokacijah po Mariboru in uživajte v brezplačnih kulturnih dogodkih\, ki bodo združevali literaturo\, umetnost in druženje. \nVse festivalske aktivnosti so brezplačne – ne zamudite priložnosti za kulturno obogatitev! \n\nPovezava do originalnega članka
URL:https://kultura.maribor.si/dogodek/28-festival-slovenski-dnevi-knjige-v-mariboru-2025-05-23-10-30-00-2025-05-31-00-00-00-2/
LOCATION:Maribor center / Maribor
CATEGORIES:Delavnice,Dogodki,Festivali,Glasba,Gledališče,Kulturno-umetnostna vzgoja,Literatura
ATTACH;FMTTYPE=image/jpeg:https://kultura.maribor.si/wp-content/uploads/2025/05/77cf34c8-8007-4930-b903-0bf7ff5cc6aa.jpg
END:VEVENT
BEGIN:VEVENT
DTSTART;TZID=Europe/Paris:20250527T133000
DTEND;TZID=Europe/Paris:20250527T190000
DTSTAMP:20260424T165333
CREATED:20250508T020211Z
LAST-MODIFIED:20250522T081802Z
UID:90841-1748352600-1748372400@kultura.maribor.si
SUMMARY:Dnevi knjige v Mariboru - torek (5. dan)
DESCRIPTION:13.30\, DOM STAREJŠIH OBČANOV TEZNO \nPODARIMO KNJIGO IN BESEDO\nDobrodelna knjižna akcija Humanitarnega združenja žensk Inner Wheel klub Maribor. Branje in pogovor o knjigi Kurja fizika avtorja Ferija Lainščka (Beletrina\, 2024). Skupno branje bo ponudilo razmislek o otroštvu\, kot ga je prikazoval pisatelj in priklicalo tudi lastne spomine\, izkušnje in spoznanja. \nIzvedba: Inner Wheel klub Maribor\, humanitarno združenje žensk 28. festival Slovenski dnevi knjige v Mariboru \n\n\n\n\n\n\n\n\n\n\n\n18.00\, LITERARNA HIŠA MARIBOR \nSTANISLAVA CHROBÁKOVÁ REPAR\, KLARISA JOVANOVIĆ IN BARBARA KORUN: FRAKTALI SK/SI\nLiterarni nastop treh uveljavljenih književnic Stanislave Chrobákove Repar\, Klarise Jovanović in Barbare Korun. Gostovanje je nadaljevanje plodnega mednarodnega literarnega sodelovanja med Slovaško in Slovenijo v okviru projekta Fraktáli SK/SI\, ki ga izvajajo partnerske organizacije Literarna hiša Maribor\, Založba Pivec in Mariborska knjižnica. Pogovor z avtoricami bo vodil Marjan Pungartnik. \nOrganizacija in izvedba: Kulturno društvo Mariborska literarna družba\, JSKD – OI Maribor in ZKD Maribor \n\n\n\n\n\n\n\n\n\n\n\n19.00 VETRINJSKI DVOR\, ODPRTI ODER VETRINJCA – BARCODA \nPRAVLJIČNI VEČER ZA ODRASLE\nV sklopu projekta Pravljični večeri za odrasle\, ki med dvaindvajsetimi sodelujočimi splošnimi knjižnicami na pobudo Mariborske knjižnice poteka že šestnajsto sezono\, bodo nastopili pravljičarji iz štirih slovenskih splošnih knjižnic. Prisluhnili bomo Aleksandri Papež iz Knjižnice Lenart\, Brigiti Lavrič iz Knjižnice Mirana Jarca Novo mesto\, Tonetu Obadiču iz Mestne knjižnice Ljubljana in Sabini Kotnik\, Metki Lipnik ter Zdenki Gajser iz Mariborske knjižnice. Za glasbene predahe med zgodbami bo poskrbela zagnana raziskovalka glasovnih izrazov\, poustvarjalka ljudskih pesmi in izvajalka avtorske glasbe Mateja Fi. Zasnova in produkcija: Mariborska knjižnica. Izvedba: Mariborska knjižnica v sodelovanju z MKC Maribor\, KUD Coda in Narodnim domom Maribor \n\n\n\n\n\nPovezava do originalnega članka
URL:https://kultura.maribor.si/dogodek/dnevi-knjige-v-mariboru-torek-5-dan-2025-05-27-13-30-00-2025-05-27-19-00-00/
LOCATION:maribor Slovenija
CATEGORIES:Delavnice,Dogodki,Festivali,Glasba,Kulturno-umetnostna vzgoja,Literatura
ATTACH;FMTTYPE=image/jpeg:https://kultura.maribor.si/wp-content/uploads/2025/05/f.jpg
END:VEVENT
END:VCALENDAR