BEGIN:VCALENDAR
VERSION:2.0
PRODID:-//Kultura Maribor - ECPv6.2.8.1//NONSGML v1.0//EN
CALSCALE:GREGORIAN
METHOD:PUBLISH
X-WR-CALNAME:Kultura Maribor
X-ORIGINAL-URL:https://kultura.maribor.si
X-WR-CALDESC:Events for Kultura Maribor
REFRESH-INTERVAL;VALUE=DURATION:PT1H
X-Robots-Tag:noindex
X-PUBLISHED-TTL:PT1H
BEGIN:VTIMEZONE
TZID:Europe/Paris
BEGIN:DAYLIGHT
TZOFFSETFROM:+0100
TZOFFSETTO:+0200
TZNAME:CEST
DTSTART:20250330T010000
END:DAYLIGHT
BEGIN:STANDARD
TZOFFSETFROM:+0200
TZOFFSETTO:+0100
TZNAME:CET
DTSTART:20251026T010000
END:STANDARD
END:VTIMEZONE
BEGIN:VEVENT
DTSTART;TZID=Europe/Paris:20250414T000000
DTEND;TZID=Europe/Paris:20250417T000000
DTSTAMP:20260424T145010
CREATED:20250325T020059Z
LAST-MODIFIED:20250325T104910Z
UID:86736-1744588800-1744848000@kultura.maribor.si
SUMMARY:FOMB - Festival oblikovanja Maribor
DESCRIPTION:FOMB – Festival oblikovanja Maribor beleži 10. let idej\, dela mladih\, predstavitev zanimivih gostov\, modne revije\, revije pričesk\, razstave\, animacije\, filmi\, glasbene točke\, druženje in svečana prireditev. \nFOMB – Festival oblikovanja Maribor beleži 10. let idej\, dela mladih\, predstavitev zanimivih gostov\, promovira strokovna področja\, ponuja priložnost\, da mladi in strokovnjaki postanejo prepoznavni. FOMB povezuje številne različne dejavnosti\, s katerimi se mladi avtorji predstavljajo. Zaključi pa se z mega prireditvijo v četrtek\, 17. 4. 2025. \nJe festival kulturnih in umetniških mladih upov\, ne le Slovenije\, temveč mnogih držav\, ki že leta navdušeno spremljajo FOMB dogajanje. FOMB se začne z natečajem v različnih kategorijah oblikovanja\, tako v medijskem\, grafičnem\, modnem\, oblikovalskem svetu kot tudi v svetu pričesk. Izdelke natečaja in mladih SŠOM lahko spremljate na različnih razstaviščih. \nFOMB\, v organizaciji Srednje šole za oblikovanje Maribor še posebej vabi na razstavišča in svečano prireditev v četrtek\, 17. 4. 2025\, v prostore MTT-ja (Industrijska cona Melje). \nVeč na: www.fomb.si \nPovezava do originalnega članka
URL:https://kultura.maribor.si/dogodek/fomb-festival-oblikovanja-maribor-2025-04-14-00-00-00-2025-04-17-00-00-00-2/
LOCATION:Nekdanja tovarna MTT\nMaribor / Melje Maribor
CATEGORIES:Dogodki,Festivali
ATTACH;FMTTYPE=image/png:https://kultura.maribor.si/wp-content/uploads/2025/03/fomb-festival-oblikovanja-visit-maribor-pohorje-slovenia-1.png
END:VEVENT
BEGIN:VEVENT
DTSTART;TZID=Europe/Paris:20250421T100000
DTEND;TZID=Europe/Paris:20250425T180000
DTSTAMP:20260424T145010
CREATED:20250418T020147Z
LAST-MODIFIED:20250422T062825Z
UID:89165-1745229600-1745604000@kultura.maribor.si
SUMMARY:4. Glaserjev festival
DESCRIPTION:Knjiga\, navdih preteklosti\, sedanjosti in prihodnosti \nV Malečniku\, Mariboru in Ljubljani se bo med 21. in 25. aprilom 2025 pod geslom Knjiga\, navdih preteklosti\, sedanjosti in prihodnosti odvijal 4. Glaserjev festival\, ki poteka pod častnim pokroviteljstvom Katje Stergar\, direktorice Javne agencije za knjigo Republike Slovenije (JAK). \nNa festivalu\, ki povezuje vse generacije\, se bodo zvrstili različni dogodki\, od razstave in kuharskega tečaja do okrogle mize o rokopisih Marka Glaserja in pohoda. \nOsnovnošolci bodo izdelali zlato knjigo spominov\, na osrednji slovesnosti v Ljubljani pa bodo razglašeni nagrajenci natečaja za najboljše literarno delo na temo knjige. \nFestival poteka v soorganizaciji Slovenske Matice\, Teološke fakultete Univerze v Ljubljani\, Pokrajinskega arhiva Maribor\, Nadškofijskega arhiva Maribor\, Osnovne šole Malečnik in Župnije Sv. Peter pri Mariboru – Malečnik. \nFestival nosi ime po Marku Glaserju (1806-1889)\, malečniškem župniku\, pesniku\, pisatelju in narodnem buditelju. \n\nPovezava do originalnega članka
URL:https://kultura.maribor.si/dogodek/4-glaserjev-festival-2025-04-21-10-00-00-2025-04-25-18-00-00/
LOCATION:Okolica / Malečnik 32\, 2229 Malečnik
CATEGORIES:Dogodki,Festivali,Literatura,Razstave
ATTACH;FMTTYPE=image/jpeg:https://kultura.maribor.si/wp-content/uploads/2025/04/f6426372-27df-4576-913c-ab1999eef7b0.jpg
END:VEVENT
END:VCALENDAR