BEGIN:VCALENDAR
VERSION:2.0
PRODID:-//Kultura Maribor - ECPv6.2.8.1//NONSGML v1.0//EN
CALSCALE:GREGORIAN
METHOD:PUBLISH
X-ORIGINAL-URL:https://kultura.maribor.si
X-WR-CALDESC:Events for Kultura Maribor
REFRESH-INTERVAL;VALUE=DURATION:PT1H
X-Robots-Tag:noindex
X-PUBLISHED-TTL:PT1H
BEGIN:VTIMEZONE
TZID:Europe/Paris
BEGIN:DAYLIGHT
TZOFFSETFROM:+0100
TZOFFSETTO:+0200
TZNAME:CEST
DTSTART:20240331T010000
END:DAYLIGHT
BEGIN:STANDARD
TZOFFSETFROM:+0200
TZOFFSETTO:+0100
TZNAME:CET
DTSTART:20241027T010000
END:STANDARD
BEGIN:DAYLIGHT
TZOFFSETFROM:+0100
TZOFFSETTO:+0200
TZNAME:CEST
DTSTART:20250330T010000
END:DAYLIGHT
BEGIN:STANDARD
TZOFFSETFROM:+0200
TZOFFSETTO:+0100
TZNAME:CET
DTSTART:20251026T010000
END:STANDARD
END:VTIMEZONE
BEGIN:VEVENT
DTSTART;TZID=Europe/Paris:20241210T100000
DTEND;TZID=Europe/Paris:20250208T150000
DTSTAMP:20260423T112502
CREATED:20241210T101750Z
LAST-MODIFIED:20241211T101807Z
UID:81553-1733824800-1739026800@kultura.maribor.si
SUMMARY:VZPOREDNI SVETOVI – Obnovoletna pregledna razstava članic in članov DLUM 2024
DESCRIPTION:Tradicionalna pregledna razstava članic in članov Društva likovnih umetnikov Maribor ponuja širok pogled v spekter aktualne umetniške produkcije. \nVabimo vas na otvoritev skupinske razstave\, na kateri svoja dela predstavlja 44 članic in članov Društva likovnih umetnikov Maribor\, v torek\, 10. 12. 2024\, ob 18. uri\, v Galerijo DLUM. \nRazstavljajo: Ernest Artič\, Natasha Bakovič\, Elena Churnosova\, Bogdan Čobal\, Marjan Drev\, Matjaž Duh\, Lučka Falk\, Erna Ferjanič\, Irena Gajser & Cvetka Hojnik\, Sandra Gargowitsch\, Nataša Grandovec\, Natalija Juhart Brglez\, Jožef Jurič\, Narcis Kantardžić\, Zdravko Kokanović – Koki\, Branko Korez\, Matic Kos\, Nenad Kostić\, Zmago Kovač\, Jasna Kozar\, Albin Kramberger\, Anka Krašna\, Blažka Križan\, Alma Lovrenčič\, Kaja Lukač\, Katja Majer\, Slađana Matić Trstenjak\, Marko Pak\, Ludvik Pandur\, Milena Houška Pavlin\, Luka Popič\, Gregor Pratneker\, Branimir Ritonja\, Janez Rotman\, Alenka Spacal\, Lucija Stramec\, Urška Stropnik Šonc\, Maja Šivec\, Stojan Špegel\, Mira Uršič\, Melita Vidovič\, Oto Vogrin\, Ljubica Zgonec Zorko. \nKuratorka razstave: mag. Mojca Štuhec \n\nPovezava do originalnega članka
URL:https://kultura.maribor.si/dogodek/vzporedni-svetovi-obnovoletna-pregledna-razstava-clanic-in-clanov-dlum-2024-2024-12-10-10-00-00-2025-02-08-15-00-00/
LOCATION:Maribor center / Galerija DLUM\, Židovska ulica 10\, Maribor
CATEGORIES:Dogodki,Razstave
ATTACH;FMTTYPE=image/jpeg:https://kultura.maribor.si/wp-content/uploads/2024/12/galerija-dlum.jpg
END:VEVENT
BEGIN:VEVENT
DTSTART;TZID=Europe/Paris:20250110T190000
DTEND;TZID=Europe/Paris:20250214T220000
DTSTAMP:20260423T112502
CREATED:20250106T062803Z
LAST-MODIFIED:20250108T141111Z
UID:82054-1736535600-1739570400@kultura.maribor.si
SUMMARY:Razstava Mladen Stropnik x Jurij Hartman x Stojan Knežević: SU PE RI CA
DESCRIPTION:Otvoritev razstave in performans \nMladen Stropnik se s svojo umetnostjo spretno izogiba klasificiranju in omejevanju. Umetnik je skozi leta v svojem opusu opazil nekaj ključnih izhodišč\, ki jih lahko razumemo kot stebre njegovega ustvarjanja: repeticija\, spolnost\, (ne)vidno\, želja. \nTi se v razstavi SU PE RI CA odražajo v osredotočenosti na prikaz praznega\, enostavnega in spontanega – v pretočni prostor galerije umeščenega hipnega naravnega pojava vsakodnevnih predmetov in dejanj. \nDela Mladena Stropnika se tokrat krovno navezujejo na oblačila\, šivanje in odnos med tekstilom ter človekom. Stropnik blagu in gestam izkazuje predvsem pozornost\, ki je običajno izgubljena v vsakodnevnem odnosu do oblačil. Banalnost vsakdana se skozi razstavo vzpostavi kot bolj živa in pomenska od umetelno privzdignjenih idealov\, njena pomembnost pa je lahko povzeta tudi z besedami umetnika samega: \n“Zdi se mi\, da vsako stvar lahko razumeš\, če se pravi čas ustaviš.”  \nStropnik je k razstavljanju povabil Jurija Hartmana in Stojana Kneževića. \n\nPovezava do originalnega članka
URL:https://kultura.maribor.si/dogodek/razstava-mladen-stropnik-x-jurij-hartman-x-stojan-knezevi-su-pe-ri-ca-2025-01-10-19-00-00-2025-02-14-22-00-00/
LOCATION:Maribor center / Tkalski prehod 4\, 2000 Maribor
CATEGORIES:Dogodki,Razstave
ATTACH;FMTTYPE=image/jpeg:https://kultura.maribor.si/wp-content/uploads/2025/01/d34cedf1-c1eb-4ef7-a604-27f04bba3306.jpg
END:VEVENT
BEGIN:VEVENT
DTSTART;TZID=Europe/Paris:20250115T180000
DTEND;TZID=Europe/Paris:20250215T130000
DTSTAMP:20260423T112502
CREATED:20241216T082739Z
LAST-MODIFIED:20250106T072333Z
UID:81649-1736964000-1739624400@kultura.maribor.si
SUMMARY:[Galerija Media Nox] Mladi kustos: Od vojaškega čina do pesniškega peresa
DESCRIPTION:RAZSTAVA V SKLOPU PROJEKTA MLADI KUSTOS\nOD VOJAŠKEGA ČINA DO PESNIŠKEGA PERESA\nSreda\, 15. januar 2025 // 18:00 // Galerija Media Nox \nV sredo\, 15. januarja 2025\, bo v Galeriji Media Nox odprtje razstave Od vojaškega čina do pesniškega peresa: Izbrani spomeniki Rudolfa Maistra ob 150-letnici njegovega rojstva\, ki bo postavljena v sklopu projekta Mladi kustos. Avtorji razstave so študenti oddelka za umetnostno zgodovino Filozofske fakultete Univerze v Mariboru. Na ogled bo do 13. februarja 2025. \nLeto 2024 je bilo posvečeno generalu Rudolfu Maistru kot poklon njegovim zaslugam za slovenski narod. Minilo je namreč 150 let od njegovega rojstva\, leta 1874 v Kamniku\, in 90 let od njegove smrti\, leta 1934 na Uncu pri Rakeku. Študentom 3. letnika dodiplomskega študija na Oddelku za umetnostno zgodovino na Filozofski fakulteti Univerze v Mariboru se nam je zato zdelo primerno\, da razstavo v Galeriji Media Nox posvetimo upodobitvam generala Rudolfa Maistra\, specifično njegovim javnim plastikam. Ob našem preučevanju spomenikov Rudolfa Maistra smo se ukvarjali tako z dvojnostjo upodabljanja njegove osebnosti kot vojaka in pesnika kakor tudi s problematiko naglaševanja njegovih upodobitev kot simbola slovenstva\, kar je Maister postal že pred svojo smrtjo. Vse to se odraža na samih delih\, njihovi postavitvi in politični kontroverznosti nekaterih izbranih spomenikov. \nAvtorji razstave: Ksenija Čegovnik\, Maj Horvat\, Maja Horvat\, Žiga Šeruga\, Sara Vrbanec \nRazstava je nastala v okviru projekta Mladi kustos Mladinskega kulturnega centra Maribor in v sodelovanju s Filozofsko fakulteto Univerze v Mariboru in Pokrajinskim muzejem Ptuj – Ormož. \n\n\n\n\n\n\nPovezava do originalnega članka
URL:https://kultura.maribor.si/dogodek/galerija-media-nox-mladi-kustos-od-vojaskega-cina-do-pesniskega-peresa-2025-01-15-18-00-00-2025-02-15-13-00-00/
LOCATION:Galerija Media Nox
CATEGORIES:Dogodki,Razstave
ATTACH;FMTTYPE=image/jpeg:https://kultura.maribor.si/wp-content/uploads/2024/12/untitled-2.jpg
END:VEVENT
BEGIN:VEVENT
DTSTART;TZID=Europe/Paris:20250126T100000
DTEND;TZID=Europe/Paris:20250227T180000
DTSTAMP:20260423T112502
CREATED:20250121T020038Z
LAST-MODIFIED:20250122T080939Z
UID:82758-1737885600-1740679200@kultura.maribor.si
SUMMARY:Ferdo Mayer / Umetnik\, zapisan barvi
DESCRIPTION:Predstavljamo izbor del slikarja Ferda Mayerja (1927–1994)\, ki je prvih 27 let preživel v Mariboru\, kjer se je tudi rodil. \nFerdo Mayer se je v svojem življenju ves čas uspel posvečati mladim\, a hkrati je neprenehoma raziskoval tudi slikarstvo in razvil svoj značilen likovni jezik\, ki se giblje med figuro in abstraktno pripovedjo. \nMayer je spodbude tako za realne kot tudi za simbolne kompozicije iskal v stvarnem svetu\, slikarsko tehniko pa je pogosto prilagajal značaju motivike. Še posebno v zrelem ustvarjalnem obdobju je opazno prehajanje med abstraktnim likovnim jezikom in konkretno likovno pripovedjo ter iskanje njune sinteze. \nV njegovem slikarstvu lahko zaznamo številne vplive sočasnega dogajanja\, a najsi bo to figuralika ali pa abstrakcija\, v delih Ferda Mayerja spremljamo iskren odnos do naslikanega. \nRazstava\, ki jo kurira Saša Bučan\, je nastala v sodelovanju z Medobčinskim muzejem Kamnik – Galerijo Miha Maleš. \n\nPovezava do originalnega članka
URL:https://kultura.maribor.si/dogodek/ferdo-mayer-umetnik-zapisan-barvi-2025-01-26-10-00-00-2025-02-27-18-00-00/
LOCATION:Maribor center / UGM Kabinet\, Strossmayerjeva ulica 6
CATEGORIES:Dogodki,Razstave
ATTACH;FMTTYPE=image/jpeg:https://kultura.maribor.si/wp-content/uploads/2025/01/b74fbc08-b9da-44cc-9973-91e5978fcc61.jpg
END:VEVENT
BEGIN:VEVENT
DTSTART;TZID=Europe/Paris:20250129T000000
DTEND;TZID=Europe/Paris:20250601T000000
DTSTAMP:20260423T112502
CREATED:20250130T020119Z
LAST-MODIFIED:20250228T121718Z
UID:83044-1738108800-1748736000@kultura.maribor.si
SUMMARY:Dodaj svoj predmet v Muzej okusov!
DESCRIPTION:Si predstavljate\, da vaš dežnik\, babičin recept ali star košček mila postanejo del muzejske zbirke? \nPridružite se projektu Muzej okusov in soustvarite edinstveno virtualno zbirko\, kjer vsak predmet pripoveduje svojo zgodbo o sladkem\, slanem\, kislem\, grenkem ali pikantnem spominu. \nSodelujte v treh korakih: \n1. Izberite predmet\, ki vas povezuje z okusom. \n2. Fotografirajte ga in napišite zgodbo o njegovem pomenu. \n3. Pošljite prispevek preko obrazca. \nMuzej okusov je sodoben projekt Pokrajinskega muzeja Maribor\, ki združuje preteklost in sedanjost z inovativnimi pristopi. Njegov osrednji cilj je raziskovanje\, interpretacija in doživljanje okusov\, ki so nosilci spominov in pomemben del kulturne dediščine. \n\nPovezava do originalnega članka
URL:https://kultura.maribor.si/dogodek/dodaj-svoj-predmet-v-muzej-okusov-2025-01-29-00-00-00-2/
LOCATION:Maribor center / splet
CATEGORIES:Dogodki,Razstave
ATTACH;FMTTYPE=image/jpeg:https://kultura.maribor.si/wp-content/uploads/2025/01/24fa7e57-2781-42d1-8a04-116fa33b3bb6.jpg
END:VEVENT
BEGIN:VEVENT
DTSTART;TZID=Europe/Paris:20250206T100000
DTEND;TZID=Europe/Paris:20250206T120000
DTSTAMP:20260423T112502
CREATED:20250201T020155Z
LAST-MODIFIED:20250203T130221Z
UID:83283-1738836000-1738843200@kultura.maribor.si
SUMMARY:GT22: Fotografski muzej\, mišnica in spletni radio
DESCRIPTION:Kulturni dnevnik 2024/2025 \nV okviru sodelovanja z GT22 je predviden voden ogled GT22 in ogled Fotografskega Muzeja Modrinjak\, kjer lahko učenci z mentorsko pomočjo spoznajo očarljivi svet analogne fotografije\, v Mišnici\, fotografski temnici\, pa lahko svoja dela tudi razvijejo. Ogledajo si obsežne zbirke in pregled razvoja fotografije. \nV drugem delu otroke popeljemo po prostorih spletnega radia in intimnega gledališča\, na strehi pa si ogledajo primer urbanega čebelnjaka. \nKulturni dnevnik je za udeležence\, organizirane šolske skupine\, brezplačen projekt\, ki je nastal z namenom\, da spodbudimo šolajočo se mladino k lastnemu angažmaju in ustvarjanju ter obisku kulturnih ustanov\, hkrati pa jim omogočimo\, da čim bolje spoznajo različne poklice s področja kulture. \n\nPovezava do originalnega članka
URL:https://kultura.maribor.si/dogodek/gt22-fotografski-muzej-misnica-in-spletni-radio-2025-02-06-10-00-00-2025-02-06-12-00-00/
LOCATION:Maribor center / GT22
CATEGORIES:Dogodki,Kulturno-umetnostna vzgoja
ATTACH;FMTTYPE=image/jpeg:https://kultura.maribor.si/wp-content/uploads/2025/02/2024-04-04-gt22-fotografski-muzej-misnica-in-spletni-radio-foto-janez-klenovsek-21-scaled-jpg.jpg
END:VEVENT
BEGIN:VEVENT
DTSTART;TZID=Europe/Paris:20250206T100000
DTEND;TZID=Europe/Paris:20250206T120000
DTSTAMP:20260423T112502
CREATED:20250201T020156Z
LAST-MODIFIED:20250204T122824Z
UID:83287-1738836000-1738843200@kultura.maribor.si
SUMMARY:Najstarejše knjige Maribora
DESCRIPTION:Kulturni dnevnik 2024/2025 \nV Pokrajinskem arhivu Maribor učenci spoznajo zbirko različnih gradiv\, predvsem starih knjig. Skupinam v nadaljevanju predstavimo dejavnost arhiva\, posebno zanimive primerke arhivskega gradiva (stare razglednice\, fotografije\, pergamentne listine\, urbarje in druge rokopisne knjige\, gradbene načrte ipd.)\, aktualno razstavo\, delo v čitalnici\, arhivsko skladišče in knjigoveško delavnico. \nLetošnja tema so najstarejše knjige Maribora\, ki si jih bodo učenci ogledali in primerjali s sodobnimi\, nato pa bodo nadaljevali delo v knjigoveški delavnici\, v Vetrinjskem dvoru\, z mentorji Zavoda MARS Maribor. \nKulturni dnevnik je za udeležence\, organizirane šolske skupine\, brezplačen projekt\, ki je nastal z namenom\, da spodbudimo šolajočo se mladino k lastnemu angažmaju in ustvarjanju ter obisku kulturnih ustanov\, hkrati pa jim omogočimo\, da čim bolje spoznajo različne poklice s področja kulture. \n\nPovezava do originalnega članka
URL:https://kultura.maribor.si/dogodek/najstarejse-knjige-maribora-2025-02-06-10-00-00-2025-02-06-12-00-00/
LOCATION:Najstarejše knjige Maribora
CATEGORIES:Dogodki
ATTACH;FMTTYPE=image/jpeg:https://kultura.maribor.si/wp-content/uploads/2025/02/2024-04-18-najstarejse-knjige-maribora-foto-janez-klenovsek-41-scaled-e1730290562662-jpg.jpg
END:VEVENT
BEGIN:VEVENT
DTSTART;TZID=Europe/Paris:20250206T180000
DTEND;TZID=Europe/Paris:20250206T193000
DTSTAMP:20260423T112502
CREATED:20250117T020040Z
LAST-MODIFIED:20250122T081012Z
UID:82638-1738864800-1738870200@kultura.maribor.si
SUMMARY:Literarna postaja: Za robom jezika - antologija pesnic Maribora
DESCRIPTION:Predstavitev antologij pesnic Maribora\, ki je lansko leto izšla pri založbi Litera in jo podpisuje dr. Kristina Kočan. \nKnjiga Za robom jezika je lansko leto izšla pri založbi Litera in jo podpisuje dr. Kristina Kočan. Za zbirko je izbrala 24 pesnic 20. in 21. stoletja\, ki dokazujejo kontinuiteto pesništva žensk\, ne le na območju Maribora pač pa v Sloveniji. \nLidija Gačnik Gombač\, Petra Kolmančič\, Barbara Jurša in Tonja Jelen bodo v pogovoru\, ki ga bo usmerjala urednica antologije\, pretresale položaj ustvarjalk\, vidnost pesnic nekoč in danes ter vloge žensk v družbi. Pesnice bodo svojo poezijo tudi brale. \nAntologija je bila izbrana med 100 naj knjig leta 2024 po izboru revije Bukla. \n\nPovezava do originalnega članka
URL:https://kultura.maribor.si/dogodek/literarna-postaja-za-robom-jezika-antologija-pesnic-maribora-2025-02-06-18-00-00-2025-02-06-19-30-00/
LOCATION:ec3e4d24-f45b-42b4-8f22-f5639256bb38
CATEGORIES:Dogodki,Literatura
ATTACH;FMTTYPE=image/jpeg:https://kultura.maribor.si/wp-content/uploads/2025/01/ec3e4d24-f45b-42b4-8f22-f5639256bb38.jpg
END:VEVENT
END:VCALENDAR