BEGIN:VCALENDAR
VERSION:2.0
PRODID:-//Kultura Maribor - ECPv6.2.8.1//NONSGML v1.0//EN
CALSCALE:GREGORIAN
METHOD:PUBLISH
X-ORIGINAL-URL:https://kultura.maribor.si
X-WR-CALDESC:Events for Kultura Maribor
REFRESH-INTERVAL;VALUE=DURATION:PT1H
X-Robots-Tag:noindex
X-PUBLISHED-TTL:PT1H
BEGIN:VTIMEZONE
TZID:Europe/Paris
BEGIN:DAYLIGHT
TZOFFSETFROM:+0100
TZOFFSETTO:+0200
TZNAME:CEST
DTSTART:20220327T010000
END:DAYLIGHT
BEGIN:STANDARD
TZOFFSETFROM:+0200
TZOFFSETTO:+0100
TZNAME:CET
DTSTART:20221030T010000
END:STANDARD
BEGIN:DAYLIGHT
TZOFFSETFROM:+0100
TZOFFSETTO:+0200
TZNAME:CEST
DTSTART:20230326T010000
END:DAYLIGHT
BEGIN:STANDARD
TZOFFSETFROM:+0200
TZOFFSETTO:+0100
TZNAME:CET
DTSTART:20231029T010000
END:STANDARD
END:VTIMEZONE
BEGIN:VEVENT
DTSTART;TZID=Europe/Paris:20221201T000000
DTEND;TZID=Europe/Paris:20221231T000000
DTSTAMP:20260425T221808
CREATED:20221201T092602Z
LAST-MODIFIED:20221201T135048Z
UID:29241-1669852800-1672444800@kultura.maribor.si
SUMMARY:Skupnostno okraševanje smrečic
DESCRIPTION:Sreča je! V majhnih stvareh\, toplih ljudeh\, v stisnjenih dlaneh. \nPraznični duh počasi prihaja v mesto\, ulice se počasi kitijo v soj tisočerih lučk in smrečic\, ki bodo krasila mestne trge in ulice. In zakaj ne bi košček v mozaik praznične okrasitve prispevali tudi mi\, prebivalci Maribora?  \nZavod Mars je pripravil navodila kako pripraviti letošnje okraske\, ki bodo krasili smrečice na devetih lokacijah – vogal Jurčičeve in Vetrinjske ulice\, Trg svobode\, Ulica škofa Maksimilijana Držečnika\, Židovski trg\, Koroška cesta\, Vojašniški trg\, vogal Slovenske\, Tyrševe in Gosposke ulice\, Slomškov trg ter Grajski trg \nKaj je vaša naloga? \n1. Poglejte si navodila za izdelavo okraskov: Spletna stran Zavod MARS\n2. V kolikor želite\, lahko material naročite na info@marsmaribor.org.\n3. Poiščite škarje\, ogrejte prste in veselo na delo.\n4. Izdelane okraske obesite na eno izmed smrečic\, ki vas čakajo v mestu. \n\nPovezava do originalnega članka
URL:https://kultura.maribor.si/dogodek/skupnostno-okrasevanje-smrecic-2022-12-01-00-00-00-2022-12-31-00-00-00/
LOCATION:Maribor center / vogal Jurčičeve in Vetrinjske ulice\, Trg svobode\, Ulica škofa Maksimilijana Držečnika\, Židovski trg\, Koroška cesta\, Vojašniški trg\, vogal Slovenske\, Tyrševe in Gosposke ulice\, Slomškov trg ter Grajski trg
CATEGORIES:Delavnice,Dogodki
ATTACH;FMTTYPE=image/jpeg:https://kultura.maribor.si/wp-content/uploads/2022/12/ezgifcom-gif-maker-6.jpg
END:VEVENT
BEGIN:VEVENT
DTSTART;TZID=Europe/Paris:20221201T000000
DTEND;TZID=Europe/Paris:20221231T000000
DTSTAMP:20260425T221808
CREATED:20221201T121112Z
LAST-MODIFIED:20221201T134551Z
UID:29265-1669852800-1672444800@kultura.maribor.si
SUMMARY:Panoramsko kolo v srcu Maribora
DESCRIPTION:Panoramsko kolo bomo zagnali 1. decembra okoli 18. ure. Pridružite se nam! \n\nPovezava do originalnega članka
URL:https://kultura.maribor.si/dogodek/panoramsko-kolo-v-srcu-maribora-2022-12-01-00-00-00-2022-12-31-00-00-00/
LOCATION:Maribor center
CATEGORIES:Dogodki
ATTACH;FMTTYPE=image/jpeg:https://kultura.maribor.si/wp-content/uploads/2022/12/maribor_eye_kolo_carobni_maribor_dogodki_maribor-pohorje_slovenija_slovenia_marko_pigac.jpg
END:VEVENT
BEGIN:VEVENT
DTSTART;TZID=Europe/Paris:20221201T160000
DTEND;TZID=Europe/Paris:20221230T000000
DTSTAMP:20260425T221808
CREATED:20221128T192912Z
LAST-MODIFIED:20221129T080602Z
UID:28798-1669910400-1672358400@kultura.maribor.si
SUMMARY:Odprtje Zimske Pravljice
DESCRIPTION:Pravljična okrasitev\, zimske dobrote ter zanimivi dogodki bodo krasili Fontano vin v decembru! \n\nNa Fontani vin se pričenja vrhunec sezone z Zimsko pravljico. Letos še v večji izvedbi! Pravljična nebo okrašena samo Fontana ampak tudi Zipline Čebelji let in 35 meterov visoka smreka pod katero bomo v sredini decembra postavili tudi jaslice.\n\nOb degustaciji vrhunskih lokalnih vin bodo na voljo tudi beli in rdeč kuhanček\, domač čaj. žgane pijače\, domače kuhane klobasice (curry in klasična)\, biftek\, narezki\, krače ter pita kot sladica.\n\nSkozi celoten mesec pa bodo na Fontani potekali tudi različni dogodki. Od Vinskih zgodb z degustacijo penin in pršuta do vožnje po ziplinu v retro kombinezonih\, apres ski zabave\, božičnih koncertov ter delavnic za otroke.\n\nMnogo pestre zabave in ponudbe ob zaključku leta. Vabljeni v Zimsko pravljico na Fontani vin – Vodole!\n\nOmejeno število prostih mest!\n\nPršuti\, ki jih bomo okušali: italijanski San Daniele\, Paleta Iberico de Belota\, prednja noga\, Pata Negra ali primerljiv španski pršut\, Istrski domači pršut – zorjen 24 mesecev.\n\nVabljeni!\n\n\n\nPovezava do originalnega članka
URL:https://kultura.maribor.si/dogodek/odprtje-zimske-pravljice-2022-12-01-16-00-00-2022-12-30-00-00-00/
LOCATION:Vinske ceste / Fontana vin – Vodole (Vodole 2\, Malečnik)
CATEGORIES:Dogodki
ATTACH;FMTTYPE=image/jpeg:https://kultura.maribor.si/wp-content/uploads/2022/11/5aec2679-191b-41a7-b46e-4f6a5048efc7.jpg
END:VEVENT
BEGIN:VEVENT
DTSTART;TZID=Europe/Paris:20221202T000000
DTEND;TZID=Europe/Paris:20221216T000000
DTSTAMP:20260425T221808
CREATED:20221114T084949Z
LAST-MODIFIED:20221122T072044Z
UID:28031-1669939200-1671148800@kultura.maribor.si
SUMMARY:Aleksander (Saša) Dev\, arhitekt
DESCRIPTION:Za konec leta 2022 v UGM napovedujemo veliko arhitekturno razstavo najvidnejšega mariborskega modernista\, Saše Deva (1903-1967). \nSaša Dev je s svojim delom bistveno vplival na razvoj arhitekture v Sloveniji\, bil je usmerjevalec njenega razvoja. Sodi v prvo generacijo slovenskih arhitektov v Mariboru\, ki je v obdobju med vojnama v mladostnem entuziazmu smelo uveljavljal načela in spoznanja sodobne arhitekture ter provincialnemu okolju vdihnil sodobne urbane poudarke. Njegova arhitekturna dela – med njimi Hutterjev blok\, nekdanja banka na Tyrševi\, Ribniška koča na Pohorju\, Zdravstveni dom v Mariboru idr. – predstavljajo mejnike v urbanem razvoju mesta. Čas tem delom ni odvzel svežine\, mnoga ohranjajo trajno vrednost in vedno znova presenečajo z dognano formo\, domišljeno vsebino ter konstrukcijo. »Dev odločno stoji na idejnih pozicijah moderne arhitekture\, urbanizma in oblikovanja\, pri čemer ne gre za nekritično sprejemanje in posnemanje trendov\, temveč za analitični in konstruktivni pristop\, pri obdelavi detajlov pa razodeva\, da je njegov izvir v šoli žlahtnih načel velikega mojstra Plečnika. \n\nPovezava do originalnega članka
URL:https://kultura.maribor.si/dogodek/aleksander-sasa-dev-arhitekt-2022-12-02-00-00-00-2022-12-16-00-00-00/
LOCATION:Maribor center / Strossmayerjeva 6
CATEGORIES:Dogodki,Razstave
ATTACH;FMTTYPE=image/jpeg:https://kultura.maribor.si/wp-content/uploads/2022/11/08af7e4c-e246-4dc7-ac5d-1d94a369058d.jpg
END:VEVENT
BEGIN:VEVENT
DTSTART;TZID=Europe/Paris:20221202T190000
DTEND;TZID=Europe/Paris:20230305T000000
DTSTAMP:20260425T221808
CREATED:20220831T114806Z
LAST-MODIFIED:20221122T130410Z
UID:25545-1670007600-1677974400@kultura.maribor.si
SUMMARY:Aleksander (Saša) Dev\, arhitekt
DESCRIPTION:Za konec leta 2022 v UGM napovedujemo veliko arhitekturno razstavo najvidnejšega mariborskega modernista\, Saše Deva (1903-1967).Saša Dev je s svojim delom bistveno vplival na razvoj arhitekture v Sloveniji\, bil je usmerjevalec njenega razvoja. Sodi v prvo generacijo slovenskih arhitektov v Mariboru\, ki je v obdobju med vojnama v mladostnem entuziazmu smelo uveljavljal načela in spoznanja sodobne arhitekture ter provincialnemu okolju vdihnil sodobne urbane poudarke. Njegova arhitekturna dela – med njimi Hutterjev blok\, nekdanja banka na Tyrševi\, Ribniška koča na Pohorju\, Zdravstveni dom v Mariboru idr. – predstavljajo mejnike v urbanem razvoju mesta. Čas tem delom ni odvzel svežine\, mnoga ohranjajo trajno vrednost in vedno znova presenečajo z dognano formo\, domišljeno vsebino ter konstrukcijo. »Dev odločno stoji na idejnih pozicijah moderne arhitekture\, urbanizma in oblikovanja\, pri čemer ne gre za nekritično sprejemanje in posnemanje trendov\, temveč za analitični in konstruktivni pristop\, pri obdelavi detajlov pa razodeva\, da je njegov izvir v šoli žlahtnih načel velikega mojstra Plečnika. \n\nPovezava do originalnega članka
URL:https://kultura.maribor.si/dogodek/aleksander-sasa-dev-arhitekt-2022-12-02-19-00-00-2023-03-05-00-00-00/
LOCATION:Maribor center / Strossmayerjeva 6
CATEGORIES:Dogodki,Razstave
ATTACH;FMTTYPE=image/jpeg:https://kultura.maribor.si/wp-content/uploads/2022/08/08af7e4c-e246-4dc7-ac5d-1d94a369058d.jpg
END:VEVENT
BEGIN:VEVENT
DTSTART;TZID=Europe/Paris:20221207T180000
DTEND;TZID=Europe/Paris:20230105T180000
DTSTAMP:20260425T221808
CREATED:20221201T103229Z
LAST-MODIFIED:20221201T135411Z
UID:29251-1670436000-1672941600@kultura.maribor.si
SUMMARY:Galerija Media Nox: Razstava Vračanja
DESCRIPTION:V Galeriji Media Nox bo od 7. decembra dalje na ogled razstava del študentov oddelka za likovno umetnost Pedagoške fakultete Univerze v Mariboru. Uradno odprtje razstave z naslovom Vračanja bo v galeriji potekalo v sredo\, 7. decembra\, ob 18. uri. Razstava bo nato na ogled vse do četrtka\, 5. januarja 2023. \n\n\n\n\n\nVEČ O RAZSTAVI\n\n\n\n\n\n\n\n\nPovezava do originalnega članka
URL:https://kultura.maribor.si/dogodek/galerija-media-nox-razstava-vracanja-2022-12-07-18-00-00-2023-01-05-18-00-00/
LOCATION:Galerija Media Nox
CATEGORIES:Dogodki,Razstave
ATTACH;FMTTYPE=image/jpeg:https://kultura.maribor.si/wp-content/uploads/2022/12/BarbariC48DEva-Avtoportret-injektinlinorez-mentorprof.SamuelGrajfoner-scaled.jpeg
END:VEVENT
BEGIN:VEVENT
DTSTART;TZID=Europe/Paris:20221212T160000
DTEND;TZID=Europe/Paris:20221226T190000
DTSTAMP:20260425T221808
CREATED:20221212T113611Z
LAST-MODIFIED:20221212T130716Z
UID:29875-1670860800-1672081200@kultura.maribor.si
SUMMARY:globoka MODRINA si
DESCRIPTION:Prostorska postavitev po zamisli umetnic\, pod vrhom okrogle strehe Sodnega stolpa\, vzpostavlja subtilno območje za čutila. V temnem prostoru odsevajo črtne strukture Nine Šulin in poslikane krogle Natalije R. Črnčec. V modre tone odeta postavitev prepleta umetniške govorice dveh ustvarjalk\, ki v sozvočju ustvarjata ločeno\, a hkrati nastopata skupaj. Postavitev je v osnovi statična\, a postane dinamična tekom premikanja po prostoru. Poglobljeno doživljanje\nprostora je podprto z avtorsko glasbo JUNEsHELEN\, ki krepi občutek breztežnosti. \nAvtorici svetlobne postavitve: Natalija R. Črnčec in Nina Šulin\nAvtorica zvočnega ambienta: JUNEsHELEN\nFotografija: Matjaž Wenzel\nKoprodukcija: Vetrinjski dvor – Narodni dom Maribor\nSoorganizacija: Lutkovno gledališče Maribor – Kulturna četrt Minoriti \nSpremljevalni program festivala Vilinsko mesto v produkciji Narodnega doma Maribor \n\nO ustvarjalkah \nNatalija R. Črnčec \nLeta 1996 je diplomirala na Oddelku za likovno umetnost na Pedagoški fakulteti Univerze v Mariboru. Zaposlena je kot profesorica likovne umetnosti na Prvi in II. gimnaziji Maribor\, kjer pod njenim mentorstvom uspešno delujeta dijaški likovni skupini. Skupaj z Nino Šulin sta prepoznavni ustvarjalki mariborske alternativne umetniške scene v okviru Kulturnega centra Pekarna. Z različnimi umetniškimi projekti se že več kot dvajset let predstavlja na samostojnih in skupinskih razstavah. V svojem\ndelu se osredotoča na problematiko barve in svetlobe\, ki jo tematizira v prostorskih postavitvah in slikarskih delih. \nNina Šulin je diplomirala je na Oddelku za likovno umetnost na Pedagoški fakulteti Univerze v Mariboru in magistrirala na oddelku Scenskega oblikovanja\, smer kostumografija\, na Akademiji za gledališče\, radio\, film in televizijo Univerze v Ljubljani. Deluje na področju gledališke kostumografije in scenografije\, lutkovne umetnosti in ilustracije. Poučuje likovno umetnost na Osnovnih šolah Fram in Kungota ter na Konservatoriju za glasbo in balet Maribor. V svojem  likovnem\nustvarjanju raziskuje zgoščevanje likovnih elementov v prostoru skozi vrsto svetlobnih instalacij\, tako doma kot v tujini. \nJUNEsHELE\, Nina Šardi (1985)\, v avstrijskem Gradcu diplomirana umetnostna zgodovinarka\, je ustvarjalka zvoka in pesmi\, pevka in producentka\, ki deluje pod umetniškim imenom Juneshelen. Šardi je svojevrstna samotarka in popotnica v svetu glasbe\, ki vsebuje cinematično senzibilnost in sanjsko vzdušje. \n\n\nProdukcija: Nina Šulin\, Natalija R. Črnčec\, Juneshelen \nKoprodukcija: Narodni dom Maribor – Vetrinjski dvor \nSoorganizacija: Lutkovno gledališče Maribor – Kulturna četrt Minoriti \n\n\n\nPovezava do originalnega članka
URL:https://kultura.maribor.si/dogodek/globoka-modrina-si-2022-12-12-16-00-00-2022-12-12-19-00-00/
LOCATION:Sodni stolp
CATEGORIES:Dogodki,Razstave
ATTACH;FMTTYPE=image/jpeg:https://kultura.maribor.si/wp-content/uploads/2022/12/n9bz5hZQ_b.jpg
END:VEVENT
BEGIN:VEVENT
DTSTART;TZID=Europe/Paris:20221212T193000
DTEND;TZID=Europe/Paris:20221212T193000
DTSTAMP:20260425T221808
CREATED:20221128T185416Z
LAST-MODIFIED:20221206T120546Z
UID:28726-1670873400-1670873400@kultura.maribor.si
SUMMARY:Ženske premikajo gore
DESCRIPTION:Ožuljeni jezik. \nDecember je prav poseben čas tudi za slam poezijo! \nOd 8. do 11. decembra namreč poteka Evropsko prvenstvo v slam poeziji\, ki ga letos gosti Rim. Na njem Slovenijo zastopa članica Slam zverin\, čudovita Nika Gradišek\, ki bo takoj za tem nastopila tudi na prazničnem Ožuljenem jeziku! Hkrati je 11. december mednarodni dan gora in zato Alpska konvencija takrat pripravlja literarno-performativni festival Brati gore\, v sklopu katerega se v vseh Alpskih državah vsako leto odvije na stotine dogodkov\, ki se skozi literaturo poklanjajo goram. Tudi naši decembrski slam dogodki so že tradicionalno del tega festivala. Ker je letošnja tematika \n“Ženske premikajo gore”\, to je krasna priložnost\, da vam naše slamerke pokažejo\, kako tudi z besedami lahko spreminjamo svet. \nSpremljevalni program festivala Vilinsko mesto \n\nPovezava do originalnega članka
URL:https://kultura.maribor.si/dogodek/zenske-premikajo-gore-2022-12-12-19-30-00-2022-12-12-00-00-00/
LOCATION:Maribor center / Vilinski studio (Vetrinjska ulica 30\, Maribor)
CATEGORIES:Dogodki,Glasba
ATTACH;FMTTYPE=image/jpeg:https://kultura.maribor.si/wp-content/uploads/2022/11/oj-december-gore-cover-2-b-jpg.jpg
END:VEVENT
END:VCALENDAR