BEGIN:VCALENDAR
VERSION:2.0
PRODID:-//Kultura Maribor - ECPv6.2.8.1//NONSGML v1.0//EN
CALSCALE:GREGORIAN
METHOD:PUBLISH
X-ORIGINAL-URL:https://kultura.maribor.si
X-WR-CALDESC:Events for Kultura Maribor
REFRESH-INTERVAL;VALUE=DURATION:PT1H
X-Robots-Tag:noindex
X-PUBLISHED-TTL:PT1H
BEGIN:VTIMEZONE
TZID:Europe/Paris
BEGIN:DAYLIGHT
TZOFFSETFROM:+0100
TZOFFSETTO:+0200
TZNAME:CEST
DTSTART:20220327T010000
END:DAYLIGHT
BEGIN:STANDARD
TZOFFSETFROM:+0200
TZOFFSETTO:+0100
TZNAME:CET
DTSTART:20221030T010000
END:STANDARD
END:VTIMEZONE
BEGIN:VEVENT
DTSTART;TZID=Europe/Paris:20221103T090000
DTEND;TZID=Europe/Paris:20221117T180000
DTSTAMP:20260425T200236
CREATED:20221028T124839Z
LAST-MODIFIED:20221102T142512Z
UID:27494-1667466000-1668708000@kultura.maribor.si
SUMMARY:Festival Mladi Maribor 2022
DESCRIPTION:V deveti ediciji festivala Mladi Maribor\, ki se bo zgodil na več kot 10-ih lokacijah\, predstavljamo pestro paleto možnosti za udejstvovanje in aktiviranje! \nV sklopu letošnjega Festivala Mladi Maribor te med 3. in 17. novembrom 2022 vabimo\, da se kvalitetnih ustvarjalnih\, izobraževalnih\, športnih in zabavnih dogodkov\, ki so ti lahko v pomoč tudi pri odločanju o prihodnosti\, udeležiš na več kot 10-ih različnih lokacijah v mestu in tudi preko spleta. \n\n\n\n\n\n\n\n\n\n\n\n\n\n\n\nV prvem delu festivala te vabimo\, da raziščeš mladinske prostore v Mariboru. \n\n\n\n\n\nCELOTEN PROGRAM\n\n\n\n\n\nČe si dijak_inja ali študent_ka in se še odločaš o svoji prihodnosti\, te v drugem delu festivala vabimo\, da obiščeš Karierni sejem – sejem poklicev in izobraževanja. \n\n\n\n\n\nKARIERNI SEJEM\n\n\n\n\n\n\n\n\n\n\nOrganizacija: MKC Maribor \nPartnerji: KUD Coda\, Pekarna Magdalenske mreže\, Slovenska filantropija\, Slam zverine\, Društvo Salezijanski mladinski center Maribor\, Center eksperimentov Maribor\, Standup avtmigeci\, Zavod PIP\, Zveza prijateljev mladine Maribor\, Kulturno društvo mladinski center Indijanez\, Študentska organizacija Univerze v Mariboru\, Popotniško združenje Slovenije \nPodpora: Mestna občina Maribor\, Urad RS za mladino \n\n\n\n\n\nPovezava do originalnega članka
URL:https://kultura.maribor.si/dogodek/festival-mladi-maribor-2022-2022-11-03-09-00-00-2022-11-17-18-00-00/
LOCATION:MKC Maribor
CATEGORIES:Alternativa,Delavnice,Dogodki,Festivali,Glasba
ATTACH;FMTTYPE=image/jpeg:https://kultura.maribor.si/wp-content/uploads/2022/10/FB-cover-1640x640-1.jpg
END:VEVENT
BEGIN:VEVENT
DTSTART;TZID=Europe/Paris:20221105T210000
DTEND;TZID=Europe/Paris:20221106T060000
DTSTAMP:20260425T200236
CREATED:20221017T060908Z
LAST-MODIFIED:20221017T101823Z
UID:26812-1667682000-1667714400@kultura.maribor.si
SUMMARY:We meet with style
DESCRIPTION:Največji Hardstyle dogodek v Sloveniji. \nWE MEET WITH STYLE – ULTIMATE HARDSTYLE EVENT \n** 3 obletnica Rave Society ** @ Dvorana Gustaf\, \nNastopajoči: \n\nJNXD (Reverze\, The Qontinent\, Tomorrowland | NL) ** Prvič v Sloveniji **\nDARK PHOENX (Factory of Sound | SI)\nDJ PIR (SI)\nPAYMON (Factory of Sound | SI)\n\nVstopnica: Predprodaja: 18€ Na dan dogodka: 25€ Pridobi svojo vstopnico že danes https://factoryofsound.si/event-tickets/ \n\nPovezava do originalnega članka
URL:https://kultura.maribor.si/dogodek/we-meet-with-style-2022-11-05-21-00-00-2022-11-06-06-00-00/
LOCATION:Maribor center / Dvorana Gustaf (Ob železnici 16\, Maribor)
CATEGORIES:Alternativa,Dogodki,Glasba
ATTACH;FMTTYPE=image/jpeg:https://kultura.maribor.si/wp-content/uploads/2022/10/9805fbff-adfd-47b5-a235-8fef9b460854.jpg
END:VEVENT
BEGIN:VEVENT
DTSTART;TZID=Europe/Paris:20221106T110000
DTEND;TZID=Europe/Paris:20221106T130000
DTSTAMP:20260425T200236
CREATED:20221021T081657Z
LAST-MODIFIED:20221025T084900Z
UID:27075-1667732400-1667739600@kultura.maribor.si
SUMMARY:Barčica
DESCRIPTION:Predstava cikla Kekec 2022/2023 \nDa otroška domišljija nima meja in da otroci za igranje ne potrebujejo dragih in zapletenih igrač\, nam bosta pokazala Katarina Barbara in Marko\, junaka predstave Barčica. \nUglasbene ljudske pesmi\, kot sta Barčica po morju plava in Čuk se je oženil nas bodo popeljale v svet igre\, v katerem ne kraljujejo kupljene igrače temveč tiste\, ki si jih junaka mimogrede omislita sama. Pred nami bodo oživeli vsakodnevni\, tudi odsluženi predmeti in postali junaki čudovitih dogodivščin. Dragocena dediščina ljudskih pesmi pa ne bo zgolj spremljevalka predstave\, temveč se bodo otroci pesmic mimogrede naučili in jih z junakoma tudi zapeli. Ob tem pa spoznali tudi kakšno danes pozabljeno slovensko besedo. \nRoko na srce: veste\, kaj pomeni\, da sova sedi na vereji? Vsi ki si boste ogledali Barčico\, boste vedeli! \n\nPovezava do originalnega članka
URL:https://kultura.maribor.si/dogodek/barcica-2022-11-06-11-00-00-2022-11-06-13-00-00/
LOCATION:Maribor center / Dvorana generala Maistra (Ulica kneza Koclja 9\, Maribor)
CATEGORIES:Dogodki
ATTACH;FMTTYPE=image/jpeg:https://kultura.maribor.si/wp-content/uploads/2022/10/dd358fd3-0a1b-4503-9691-41c2f907cf60.jpg
END:VEVENT
BEGIN:VEVENT
DTSTART;TZID=Europe/Paris:20221106T190000
DTEND;TZID=Europe/Paris:20221106T190000
DTSTAMP:20260425T200236
CREATED:20221102T112701Z
LAST-MODIFIED:20221102T142834Z
UID:27518-1667761200-1667761200@kultura.maribor.si
SUMMARY:Filmske nedelje (in sobote) v Lutkovnem: 25. Festival slovenskega filma v Mariboru
DESCRIPTION:6. 11. in 12. 11. 2022 ob 19.00\, Lutkovno gledališče Maribor \nFilmske nedelje (in sobote) v Lutkovnem: 25. Festival slovenskega filma v Mariboru\n\n\n\n\n\n\nPo Festivalu slovenskega filma si bomo ogledali nagrajeni celovečerni film ali nagrajene kratke filme. Najnovejši in najboljši slovenski filmi v Mariboru! \n\n\n\n\n\n\n\n\n\n\n\n\n\n\n\n\n\n\n\n\n\n\n\n\n\n\n\n\n\n\n\n\n\n\n\n\n\nVstopnice si zagotovite na blagajni Lutkovnega gledališča Maribor\, na Vojašniškem trgu 2a. Blagajna je odprta od torka do petka med 10. in 13. uro\, v četrtek tudi med 15. in 18. uro\, v soboto med 9. in 11. uro ter uro pred vsako predstavo. Nakup vstopnic je možen tudi na SPLETU. \nVstopnina: 5 € \n\n\n\n\n\n\n\n\n\n\n\n\n\n\n\n\n\n\n\nspletna stran film in maribor\n\n\n\n\n\n\n* Konzorcij Film in Maribor sestavljamo  Pekarna Magdalenske mreže\,    Društvo za razvoj filmske kulture – DRFK\,    Film Factory Maribor\,    Zavod MARS Maribor\,    Društvo Mitra   “Filmske nedelje v Lutkovnem” pripravljamo v koprodukciji z Lutkovnim gledališčem Maribor in sofinanciranjem Mestne občine Maribor. \n\n\n\n\n\n\n\n\n\n\n\n\n\n\n\n\n\n\n\n\n  \n\n\n\n\n\n\n\n\n\n\n\n\n\n\n\nPovezava do originalnega članka
URL:https://kultura.maribor.si/dogodek/filmske-nedelje-in-sobote-v-lutkovnem-25-festival-slovenskega-filma-v-mariboru-2022-11-06-19-00-00-2022-11-12-00-00-00/2022-11-06/
LOCATION:Lutkovno gledališče Maribor
CATEGORIES:Dogodki
ATTACH;FMTTYPE=image/jpeg:https://kultura.maribor.si/wp-content/uploads/2022/11/Fnis_fsf-1024x576-1.jpg
END:VEVENT
BEGIN:VEVENT
DTSTART;TZID=Europe/Paris:20221106T200000
DTEND;TZID=Europe/Paris:20221106T200000
DTSTAMP:20260425T200236
CREATED:20221019T152754Z
LAST-MODIFIED:20221028T060532Z
UID:27035-1667764800-1667764800@kultura.maribor.si
SUMMARY:Godzilla Tribute Band
DESCRIPTION:Godzilla je kraljica pošasti\, a tudi ena največjih ikon pop kulture nasploh. Prvič se je pojavila v japonskem filmu režiserja Ishira Honde leta 1954 in do danes so o njej posneli šestintrideset filmov\, ustvarili številne videoigrice\, pojavljala pa se je še v stripih\, romanih in TV-nanizankah. Mi smo izvorno Godzillo brali kot poezijo in služila nam je kot referenčna točka za vse strahove\, uničenja in skorajšnje konce … skorajšnje. \nGodzilla Tribute Band je kolektiv\, zbran zato\, da reši svet. Zato\, ker si ga želimo. Zato\, ker ga moramo. Svetu držimo ogledalo. Pravzaprav ni ogledalo tisto\, kar držimo. Je mnogo več. Smo mnogo več. Mi smo snovalci vesolja. Mojstri obreda\, ki nastaja pred vašimi očmi. Pripovedovalci zgodbe\, ki jo moramo deliti s preostalim svetom. Varuhi šibkejših\, pozabljenih in narobe razumljenih. Mi smo motika družbenih sprememb. Zato svetu ne preostane drugega\, kot da nam prisluhne. In končno odraste. \nNajdete nas v ilegali. V zaklonišču. V podzemlju. \nGodzilla Tribute Band je avtorski projekt in je kolektivno delo skupine. Je predstava\, ki želi biti koncert. Je gledališče predmetov\, kartonskih škatel\, koruznih kosmičev in predvsem ljudi. Inspiracijo išče v punku\, starih filmih in pretiranem patosu. \nO miselnem dimu\, ki ga za seboj pušča predstava se bomo v nedeljo\, 6. 11. 2022\, pogovarjali na Zboru za publiko\, ki ga vodi Lea Kukovičič. \n\n\nPovezava do originalnega članka
URL:https://kultura.maribor.si/dogodek/godzilla-tribute-band-2022-11-05-20-00-00/2022-11-06/
LOCATION:IntimniOder.GT22
CATEGORIES:Dogodki,Glasba
ATTACH;FMTTYPE=image/jpeg:https://kultura.maribor.si/wp-content/uploads/2022/10/r_Gregor_Salobir_Moment_Godzilla-Tribute-Band_soci-96.jpg
END:VEVENT
END:VCALENDAR