BEGIN:VCALENDAR
VERSION:2.0
PRODID:-//Kultura Maribor - ECPv6.2.8.1//NONSGML v1.0//EN
CALSCALE:GREGORIAN
METHOD:PUBLISH
X-WR-CALNAME:Kultura Maribor
X-ORIGINAL-URL:https://kultura.maribor.si
X-WR-CALDESC:Events for Kultura Maribor
REFRESH-INTERVAL;VALUE=DURATION:PT1H
X-Robots-Tag:noindex
X-PUBLISHED-TTL:PT1H
BEGIN:VTIMEZONE
TZID:Europe/Paris
BEGIN:DAYLIGHT
TZOFFSETFROM:+0100
TZOFFSETTO:+0200
TZNAME:CEST
DTSTART:20220327T010000
END:DAYLIGHT
BEGIN:STANDARD
TZOFFSETFROM:+0200
TZOFFSETTO:+0100
TZNAME:CET
DTSTART:20221030T010000
END:STANDARD
END:VTIMEZONE
BEGIN:VEVENT
DTSTART;TZID=Europe/Paris:20221023T190000
DTEND;TZID=Europe/Paris:20221029T000000
DTSTAMP:20260425T160818
CREATED:20221017T132153Z
LAST-MODIFIED:20221018T120459Z
UID:26960-1666551600-1667001600@kultura.maribor.si
SUMMARY:Filmske nedelje (in sobote) v Lutkovnem: Retrospektiva kratkih filmov Matjaža Ivanišina
DESCRIPTION:23. in 29. 10. 2022 ob 19.00\, Lutkovno gledališče Maribor \nFilmske nedelje (in sobote) v Lutkovnem:\nTako se je končalo poletje + Retrospektiva kratkih filmov Matjaža Ivanišina\nJesenski sklop Filmske nedelje (in sobote) v Lutkovnem otvarjamo z retrospektivo kratkih filmov Matjaža Ivanišina\, ki prikazuje in raziskuje različne faze njegove ustvarjalne poti – od študentskih let naprej – in se zaključi z mariborsko premiero njegovega zadnjega kratkega filma Tako se je končalo poletje. \n\n\n\n\n\n\nPo sobotni projekciji se bomo pogovarjale_i z režiserjem Matjažem Ivanišinom. \n\n\n\n\n\n\n\n\n\n\n\n\n\n\n\n\n\n\nProgram:\n\n\n\n\n\n\n\n\n* CHE SARA (2002\, 20 min)\n\n\n\n\n\n\n\n\nPotem sem se pa obrnila in v trenutku sem vedela\, da je to Bog Oče. Bil je veličasten\, velik\, jaz sem bila proti njemu kot mravljica. Rekel mi je\, da sem izbrana za več nalog\, ena od teh je tudi\, da bom rodila Jezusa.” Sara\, 15 let \nekipa // režiser in scenarist: Matjaž Ivanišin\, direktor fotografije: Toni Laznik\, montaža: Zvezdana Sabotič\, producenta: Boro Piperović\, Jožica Šmid produkcija // UL AGRFT in RTV Slovenija \n\n\n\n\n\n\n\n\n\n\n\n\n\n\n\n\n\n\n\n\n\n* MAJHNO IN PAMETNO (2011\, 21 min)\n\n\n\n\n\n\n\n\nEKSPRESIJE SODOBNE SLOVENSKE ARHITEKTURE V FILMU\, 4 kratki filmi \nŠtiri zanimive lokacije gostijo štiri kratke zgodbe in forma se zabavno spoji z vsebino. \nekipa // režiser in scenarist: Matjaž Ivanišin\, direktor fotografije: Marko Brdar\, direktor filma: Matija Kozamernik\, montažer: Jurij Moškon\, producent: Danijel Hočevar produkcija // Vertigo \n* HIŠE NA JURČKOVI (2011\, 6 min) \n* TRG IN ZUNANJI OLTAR NA BREZJAH (2011\, 5 min) \n* ODPAD (2011\, 5 min) \n* BIOTEHNIŠKA FAKULTETA (2011\, 5 min) \n\n\n\n\n\n\n\n\n\n\n\n\n\n\n\n\n\n\n\n\n\n* Premiera: TAKO SE JE KONČALO POLETJE (2022\, 12 min)\n\n\n\n\n\n\n\n\nOb koncu poletja\, ko v zraku potekajo priprave na letalski miting\, gresta moški in ženska k vodi. A prihod legendarnega akrobatskega pilota zanju ne bo glavni dogodek dneva. \nekipa // režiser in scenarist: Matjaž Ivanišin\, direktor fotografije: Gregor Božič\, montažerja: Matic Drakulić in Uja Irgolič\, producenta: Miha Černec\, Jožko Rutar igrajo // Aleš Jeseničnik\, Kristina Olovec\, Jernej Jerovšek produkcija // Staragara \n\n\n\n\n\n\n\n\n\n\n\n\n\n\n\n\n\n\n\nMatjaž Ivanišin \n\n\n\n\n\n\n\nse je rodil v Mariboru 1981. Leta 2000 se je vpisal na Akademijo za gledališče\, radio\, film in televizijo – smer filmska in tv režija. Njegovi filmi so bili prikazovani na festivalih\, kot so FID Marseille\, Locarno\, Tribeca in Rotterdam in predstavljeni tudi v modernih galerijah in muzejih kot Pompidou Center\, MoMA and ICA London. \n“Imel sem idejo za kratki film. Potem smo se z družino za nekaj časa preselili v novo okolje. Veliko sem hodil po novih poteh in tako se je moja ideja počasi zlila z novo pokrajino. Film je rezultat tega srečanja.” \n\n\n\n\n\n\n\n\n\n\n\n\n\n\n\n\n\n\n\n\n\n\n\n\n\n\n\n\n\n\n\n\n\n\n\nveč o programu filmskih nedelj (in sobot) v lutkovnem\n\n\n\n\n\n\n\n\n\n\n\n\n\n\n\n\n\n\n\n\nVstopnice si zagotovite na blagajni Lutkovnega gledališča Maribor\, na Vojašniškem trgu 2a. Blagajna je odprta od torka do petka med 10. in 13. uro\, v četrtek tudi med 15. in 18. uro\, v soboto med 9. in 11. uro ter uro pred vsako predstavo. Nakup vstopnic je možen tudi na SPLETU. \nVstopnina: 5 € \n\n\n\n\n\n\n\n\n\n\n* Konzorcij Film in Maribor sestavljamo  Pekarna Magdalenske mreže\,    Društvo za razvoj filmske kulture – DRFK\,    Film Factory Maribor\,    Zavod MARS Maribor\,    Društvo Mitra   “Filmske nedelje v Lutkovnem” pripravljamo v sodelovanju z Lutkovnim gledališčem Maribor in Mestno občino Maribor. \n\n\n\n\n\n\n\n\n\n\n\n\n\n\n\n\n\n\ndeli na \n\n\nFb\n\n\n\n\n\n\n\n\n\n\n\n\n\n\n\n\n\n\n\n\n\nPovezava do originalnega članka
URL:https://kultura.maribor.si/dogodek/filmske-nedelje-in-sobote-v-lutkovnem-retrospektiva-kratkih-filmov-matjaza-ivanisina-2022-10-23-19-00-00-2022-10-29-00-00-00/
LOCATION:Lutkovno gledališče Maribor
CATEGORIES:Dogodki
ATTACH;FMTTYPE=image/jpeg:https://kultura.maribor.si/wp-content/uploads/2022/10/FNS-matjaz_ivanisin-1024x554-1.jpg
END:VEVENT
BEGIN:VEVENT
DTSTART;TZID=Europe/Paris:20221027T170000
DTEND;TZID=Europe/Paris:20221027T170000
DTSTAMP:20260425T160818
CREATED:20221021T212514Z
LAST-MODIFIED:20221024T061141Z
UID:27112-1666890000-1666890000@kultura.maribor.si
SUMMARY:Pravljična ura za otroke v Pionirski knjižnici Nova vas ob 17. uri
DESCRIPTION:Pravljična ura za otroke \nV četrtek\, 27. oktobra 2022\, ob 17. uri. \nVabljeni v pravljično sobo Pionirske knjižnice Nova vas. \n\n\nPovezava do originalnega članka
URL:https://kultura.maribor.si/dogodek/pravljicna-ura-za-otroke-v-pionirski-knjiznici-nova-vas-ob-17-uri-2022-10-27-00-00-00/
LOCATION:Pionirska knjižnica Nova vas
CATEGORIES:Dogodki,Literatura
ATTACH;FMTTYPE=image/png:https://kultura.maribor.si/wp-content/uploads/2022/10/Pravljicne-ure2-JK-09_900x600-11.png
END:VEVENT
BEGIN:VEVENT
DTSTART;TZID=Europe/Paris:20221027T170000
DTEND;TZID=Europe/Paris:20221027T190000
DTSTAMP:20260425T160818
CREATED:20221012T073433Z
LAST-MODIFIED:20221024T061211Z
UID:26721-1666890000-1666897200@kultura.maribor.si
SUMMARY:Delavnica Čuječnost in tehnike sproščanja
DESCRIPTION:Na Mladinskem kulturnem centru Maribor nadaljujemo z aktivnostmi v okviru programa Stresi stres\, ki tudi tokrat poteka pod geslom »S čuječnostjo do lažjega spoprijemanja s stresom«. Letošnja jesenska edicija programa je poleg spoznavanja in krepitve čuječnosti namenjena spoznavanju kratkih in enostavnih tehnik sproščanja ter druženju. V četrtek\, 27. oktobra\, vas vabimo na delavnico\, ki bo oblikovana kot zaupna in podporna skupina\, kjer boste udeleženci svoj prosti čas preživeli drugače in skozi skupinsko dinamiko krepili stik s samim sabo in ostalimi. \nStres\, stres\, stres … Hiter tempo življenja\, hitenje od obveznosti do obveznosti\, iskanje službe\, študij …  Stres je v sodobnem času\, kjer vlada produktivnost\, pritisk biti uspešen\, zmogljiv in obremenjen s hitenjem od opravka do opravka\, že postal naša stalnica. Skorajda smo se z njim že sprijaznili. Vendar pa so posledice kroničnega stresa za naše telo\, psihično stanje in dobro počutje lahko precej hude. \n  \nNa delavnici\, ki se bo v četrtek\, 27. oktobra\, začela ob 17. uri\, boste poznali in preizkusili nekaj koristnih vaj in tehnik\, ki nam lahko pomagajo pri lažjem soočanju s stresom. \nVodili jo bosta Katarina Dovnik in Urška Novak. Katarina je psihologinja in edukantka medicinske hipnoze\, Urška pa prehranska svetovalka in trenerka za izvajanje delavnic za krepitev duševnega zdravja ter članica Društva za razvijanje čuječnosti\, kjer je med drugim opravila tudi izobraževanje za učitelja čuječnosti. \nUdeležba na delavnici je brezplačna\, nanjo pa se je zaradi omejenega števila mest potrebno prijaviti. Prijave zbiramo tukaj \n\n\n\n\n\nPRIJAVA\n\n\n\n\n\n\n\n\n\n\nVEČ O PROGRAMU STRESI STRES\nProgram Stresi stres se je začel maja 2019\, ko je skupina prostovoljcev MKC Maribor v okviru projekta Za zdravje mladih 2.0 izvedla lokalni program »Stresi stres\, s čuječnostjo do lažjega spoprijemanja s stresom«. \nOsrednji namen programa Stresi stres je ozaveščanje mladih o pomenu duševnega zdravja ter delovanje na področju ohranjanja in krepitve varovalnih dejavnikov duševnega zdravja med mladimi s pomočjo praktičnih in uporabnih vsebin. Poudarek je na krepitvi zavedanja in na učenju strategij spoprijemanja s stresom\, kjer smo se naslonili na tehnike čuječnosti (angl. mindfulness). S programom delujemo tudi na področju promocije zdravja in zdravega življenjskega sloga na splošno. \n\n\n\n\n\n\n\n\n\n\n\n\n\n\n\n\n\n\nPovezava do originalnega članka
URL:https://kultura.maribor.si/dogodek/delavnica-cujecnost-in-tehnike-sproscanja-2022-10-27-17-00-00-2022-10-27-19-00-00/
LOCATION:MKC Maribor
CATEGORIES:Delavnice,Dogodki
ATTACH;FMTTYPE=image/jpeg:https://kultura.maribor.si/wp-content/uploads/2022/10/stresi-stres-2.jpg
END:VEVENT
BEGIN:VEVENT
DTSTART;TZID=Europe/Paris:20221027T190000
DTEND;TZID=Europe/Paris:20221027T190000
DTSTAMP:20260425T160818
CREATED:20221025T210716Z
LAST-MODIFIED:20221026T090350Z
UID:27343-1666897200-1666897200@kultura.maribor.si
SUMMARY:Branje za življenje. Janja Vidmar: V koraku z volkom
DESCRIPTION:Branje za življenje \nJanja Vidmar: V koraku z volkom \nČetrtek\, 27. oktobra 2022\, ob 19. uri v Veliki dvorani Lutkovnega gledališča Maribor\, Vojašniški trg 2A. \nV ciklu pogovorov Branje za življenje bomo gostili pisateljico Janjo Vidmar. Pred kratkim je pri založbi UMco izšel njen roman s pridihom potopisa\, ki temelji na avtoričinih popotniških dogodivščinah po Toskani in Apuanskih Alpah. Delo V koraku z volkom lahko beremo kot nadaljevanje uspešnice Niti koraka več – o sorodnih dušah\, ki nas iztrgajo iz korenin. \nPogovor bo usmerjala dr. Sabina Fras Popović. \n\n\nPovezava do originalnega članka
URL:https://kultura.maribor.si/dogodek/branje-za-zivljenje-janja-vidmar-v-koraku-z-volkom-2022-10-27-00-00-00/
LOCATION:Lutkovno gledališče Maribor
CATEGORIES:Dogodki,Literatura
ATTACH;FMTTYPE=image/png:https://kultura.maribor.si/wp-content/uploads/2022/10/Branje-za-zivljenje-Vidmar_nov22_1_900x600.png
END:VEVENT
BEGIN:VEVENT
DTSTART;TZID=Europe/Paris:20221027T193000
DTEND;TZID=Europe/Paris:20221027T213000
DTSTAMP:20260425T160818
CREATED:20221021T081711Z
LAST-MODIFIED:20221024T061417Z
UID:27084-1666899000-1666906200@kultura.maribor.si
SUMMARY:Veganska Večerjica: Upodobitve čebel v človeški umetnosti in kulturi v luči kritičnih animalističnih študij
DESCRIPTION:Veganska večerjica se bo tokrat odvila v živo v prostorih Pekarne Magdalenske mreže\, prisluhnile_i bomo predavanju Tomaža Podbevška in Urške Breznik. \nV predavanju bo prikazana široka paleta reprezentacij čebel v umetnosti in novomedijski komunikaciji. Tovrstna dela so pogosto povezana z naraščajočo zaskrbljenostjo zaradi zmanjševanja števila čebel\, na katero vplivajo različni dejavniki\, kot so uničevanje njihovih habitatov\, podnebne spremembe in uporaba pesticidov v kmetijstvu. V prispevku bodo s pristopom kritičnih animalističnih študij predstavljene upodobitve čebel od jamske umetnosti preko staroegipčanskih rezbarij\, do sodobnih umetniških upodobitev čebel v različnih medijih. \n\nPovezava do originalnega članka
URL:https://kultura.maribor.si/dogodek/veganska-vecerjica-upodobitve-cebel-v-cloveski-umetnosti-in-kulturi-v-luci-kriticnih-animalisticnih-studij-2022-10-27-19-30-00-2022-10-27-21-30-00/
LOCATION:Okolica / Pekarna Magdalenske mreže Maribor (Ob železnici 16\, Maribor)
CATEGORIES:Alternativa,Dogodki
ATTACH;FMTTYPE=image/jpeg:https://kultura.maribor.si/wp-content/uploads/2022/10/606079b2-acf9-4129-8cc4-00ae5d761e1d.jpg
END:VEVENT
BEGIN:VEVENT
DTSTART;TZID=Europe/Paris:20221027T203000
DTEND;TZID=Europe/Paris:20221027T230000
DTSTAMP:20260425T160818
CREATED:20221005T054726Z
LAST-MODIFIED:20221024T061434Z
UID:26440-1666902600-1666911600@kultura.maribor.si
SUMMARY:Samo Šalamon\, Arild Andersen & Ra Kalam Bob Moses
DESCRIPTION:Jazz v Narodnem domu. \n»Pure and Simple« je naziv novega albuma izpod peresa Sama Šalamona\, ki bo zadnji koncert štirinajstdnevne evropske turneje odigral prav v Mariboru. \nPred dobrim desetletjem smo koncerte mariborskega kitarista Sama Šalamona najavljali kot obetajočo zanimivost\, ki bo presegla meje lokalnega. Danes njegova diskografija šteje skoraj 40 albumov\, na katerih je slišati vodilna imena sodobnega jazza\, katerih spisek je predolg\, da bi ga tukaj navajali. Revije ga uvrščajo med deset najbolj prepoznavnih kitaristov našega časa in zdi se\, kot da ne počiva niti sekunde. Samo letos je izdal že pet albumov in med njimi morda najbolj presenetil z albumom »Dolphyology\,« na katerem je kot prvi na svetu predstavil vse skladbe Erica Dolphyja\, odigrane na kitari. \n\nPovezava do originalnega članka
URL:https://kultura.maribor.si/dogodek/samo-salamon-arild-andersen-ra-kalam-bob-moses-2022-10-27-20-30-00-2022-10-27-23-00-00/
LOCATION:Maribor center / Mali oder Narodnega doma (Ulica kneza Koclja 9\, Maribor)
CATEGORIES:Dogodki,Glasba
ATTACH;FMTTYPE=image/jpeg:https://kultura.maribor.si/wp-content/uploads/2022/10/d70eb691-5075-4b28-9e47-65cc942c1b10.jpg
END:VEVENT
END:VCALENDAR