BEGIN:VCALENDAR
VERSION:2.0
PRODID:-//Kultura Maribor - ECPv6.2.8.1//NONSGML v1.0//EN
CALSCALE:GREGORIAN
METHOD:PUBLISH
X-WR-CALNAME:Kultura Maribor
X-ORIGINAL-URL:https://kultura.maribor.si
X-WR-CALDESC:Events for Kultura Maribor
REFRESH-INTERVAL;VALUE=DURATION:PT1H
X-Robots-Tag:noindex
X-PUBLISHED-TTL:PT1H
BEGIN:VTIMEZONE
TZID:Europe/Paris
BEGIN:DAYLIGHT
TZOFFSETFROM:+0100
TZOFFSETTO:+0200
TZNAME:CEST
DTSTART:20220327T010000
END:DAYLIGHT
BEGIN:STANDARD
TZOFFSETFROM:+0200
TZOFFSETTO:+0100
TZNAME:CET
DTSTART:20221030T010000
END:STANDARD
END:VTIMEZONE
BEGIN:VEVENT
DTSTART;TZID=Europe/Paris:20220826T190000
DTEND;TZID=Europe/Paris:20221023T000000
DTSTAMP:20260426T031104
CREATED:20220609T084301Z
LAST-MODIFIED:20220816T100015Z
UID:23279-1661540400-1666483200@kultura.maribor.si
SUMMARY:Prevzetnost in pristranost narodne noše
DESCRIPTION:Ante Trstenjak\, Ludvík Kuba\, Tina Dobrajc\, Eric Schütt in Trine Søndergaard \nKustosinja: Andreja Borin \nV Umetnostni galeriji Maribor pripravljamo razstavo Prevzetnost in pristranost narodne noše\, ki je rezultat večletnega sodelovanja Umetnostne galerije Maribor z Narodnim muzejem v Pragi in Muzejem Lužiških Srbov v Bautznu v Nemčiji. Obsežen razstavni projekt izhaja iz umetniškega opusa slovenskega slikarja Anteja Trstenjaka (1894–1970)\, ki je študiral in dve desetletji živel v Pragi\, se nekaj časa navdihoval pri bogati kulturi Lužiških Srbov in se v zadnjem delu življenja ustalil v Mariboru. Zaradi njegove razgibane življenjske poti je tudi njegov umetniški opus razdrobljen in ga hranijo vse sodelujoče institucije. Tematika razstave se vrti okoli narodne noše in njenih upodobitev v določenem prostoru in času\, nagovarja pa tudi teme pripadnosti in identitete ter razmišlja o vlogi ženske in njenem položaju v družbi. \n\nPovezava do originalnega članka
URL:https://kultura.maribor.si/dogodek/prevzetnost-in-pristranost-narodne-nose-2022-08-26-19-00-00-2022-10-23-00-00-00/
LOCATION:Maribor center / Umetnostna galerija Maribor (Strossmayerjeva 6\, Maribor)
CATEGORIES:Dogodki,Razstave
ATTACH;FMTTYPE=image/jpeg:https://kultura.maribor.si/wp-content/uploads/2022/06/33c55627-a397-4b46-81c7-c4bebe5ea25b.jpg
END:VEVENT
BEGIN:VEVENT
DTSTART;TZID=Europe/Paris:20220926T090000
DTEND;TZID=Europe/Paris:20221008T210000
DTSTAMP:20260426T031104
CREATED:20220902T120729Z
LAST-MODIFIED:20220912T125859Z
UID:25636-1664182800-1665262800@kultura.maribor.si
SUMMARY:Razstava Vse poti vodijo na Lent: utrinki preteklosti
DESCRIPTION:Kakšne so bile nekoč poti na Lent? Kako so izgledali Splavarski\, Žički\, Minoritski in Mesarski prehod ter Pristaniška\, Vojašniška in Dravska ulica v preteklosti? Katera imena so imele ulice in kako so se ta skozi zgodovino spreminjala?Preteklost najstarejšega dela mesta Maribor\, Lenta\, je zelo razgibana in raznolika. Vse poti iz središča mesta namreč vodijo k prostoru ob Dravi\, ki predstavlja pomembno mestno veduto. \nKakšne so bile nekoč poti na Lent? Kako so izgledali Splavarski\, Žički\, Minoritski in Mesarski prehod ter Pristaniška\, Vojašniška in Dravska ulica v preteklosti? Katera imena so imele ulice in kako so se ta skozi zgodovino spreminjala?\nRazstava Pokrajinskega arhiva Maribor odgovarja na vsa ta vprašanja in prikazuje fotografske utrinke uličic in trgov\, Pristana in Sodnega stolpa. Fotografije na razstavi so del Zbirke fotografij in razglednic ter gradbene fototeke fonda Zavod za urbanizem Maribor\, ki jih hrani Pokrajinski arhiv Maribor. \n\nPovezava do originalnega članka
URL:https://kultura.maribor.si/dogodek/razstava-vse-poti-vodijo-na-lent-utrinki-preteklosti-2022-09-26-09-00-00-2022-10-08-21-00-00/
LOCATION:Maribor center / Nakupovalno središče Europark Maribor
CATEGORIES:Dogodki,Razstave
ATTACH;FMTTYPE=image/jpeg:https://kultura.maribor.si/wp-content/uploads/2022/09/14c8612f-666b-4470-8f21-1526efb23a5c.jpg
END:VEVENT
BEGIN:VEVENT
DTSTART;TZID=Europe/Paris:20220930T000000
DTEND;TZID=Europe/Paris:20221022T000000
DTSTAMP:20260426T031104
CREATED:20220823T133442Z
LAST-MODIFIED:20220919T093255Z
UID:25344-1664496000-1666396800@kultura.maribor.si
SUMMARY:Narodni dom Maribor – središče kulturnega dogajanja od 1899
DESCRIPTION:Razstava. \nRazstava bo predstavila zgodbo stavbe in zavoda v obliki stripa avtorja Gašperja Krajnca\, ki izpostavi zanimivo dogajanja od leta 1899\, ko je bil Narodni dom v Mariboru prvič združevalec slovenskega kulturnega življenja do danes\, ko je sedež zavoda Narodni dom Maribor in središče kulturnega vrveža v mestu. Stavba je bila v tem času priča večkratni povojni obnovi kulturnega življenja in boja za kulturo v Mariboru. \nRazstavo si lahko ogledate: \n\nponedeljek-petek: 10.00-18.00\nsobota: 10.00-14.00\nnedelja in prazniki: zaprto\n\n\nPovezava do originalnega članka
URL:https://kultura.maribor.si/dogodek/narodni-dom-maribor-sredisce-kulturnega-dogajanja-od-1899-2022-09-30-00-00-00-2022-10-22-00-00-00/
LOCATION:Maribor center / Galerija Kibela\, Narodni dom Maribor (Ulica kneza Koclja 9\, Maribor)
CATEGORIES:Dogodki,Razstave
ATTACH;FMTTYPE=image/jpeg:https://kultura.maribor.si/wp-content/uploads/2022/08/f8e6f228-f12c-407b-b056-3c30ff4470c9.jpg
END:VEVENT
BEGIN:VEVENT
DTSTART;TZID=Europe/Paris:20221003T100000
DTEND;TZID=Europe/Paris:20221009T180000
DTSTAMP:20260426T031104
CREATED:20220902T120807Z
LAST-MODIFIED:20220923T064300Z
UID:25651-1664791200-1665338400@kultura.maribor.si
SUMMARY:Teden otroka / Z nitjo po razstavi
DESCRIPTION:Ves Teden otroka od 3. do 9. oktobra 2022 vabimo otroke in njihove odrasle spremljevalce na brezplačni ogled razstave Prevzetnost in pristranost narodne noše. Po razstavi vas bo vodila nitka\, na kateri bodo pripeta vprašanja.V tem času si boste lahko ogledali tudi aktualne razstave\, v UGM Kabinetu razstavo Mariborski motivi\, v UGM Šopu prodajno razstavo Bežim\, vendar ostajam fotografa Luke Herneta in v UGM Studiu razstavo Bogdana Čobala. \nSobotna družinska ustvarjalnica ob Tednu otroka\nUGM\, Strossmayerjeva ul. 6\nsobota\, 8. oktober 2022\, 10.00–11.30 \nOtroci\, starši\, babice in dedki vabljeni na likovno ustvarjalnico v slopu Tedna otroka\, na kateri se bomo povezali – z nitjo. Rumene\, rdeče\, zelene\, tanke in debele niti bomo uporabili za risanje. Ja\, tudi z nitko je mogoče risati\, ustvarjati črte in podobe. Navdih za naše risbe bomo poiskali na razstavi Prevzetnost in pristranost narodne noše. \nUstvarjalnica se izvajajo za dve starostni skupini: 4–6 let (vodi: Brigita Strnad\, muzejska svetovalka) in 7–10 let (vodi: Sara Irman Kolar\, zunanja sodelavka UGM). \nOgled razstav in ustvarjalnica je za družine brezplačena. \n\n  \nPovezava do originalnega članka
URL:https://kultura.maribor.si/dogodek/teden-otroka-z-nitjo-po-razstavi-2022-10-03-10-00-00-2022-10-09-18-00-00/
LOCATION:Maribor center / Strossmayerjeva 6
CATEGORIES:Dogodki,Razstave
ATTACH;FMTTYPE=image/jpeg:https://kultura.maribor.si/wp-content/uploads/2022/09/9a295348-9502-48fd-883b-225320e95783.jpg
END:VEVENT
BEGIN:VEVENT
DTSTART;TZID=Europe/Paris:20221004T190000
DTEND;TZID=Europe/Paris:20221025T190000
DTSTAMP:20260426T031104
CREATED:20220929T115113Z
LAST-MODIFIED:20221024T090503Z
UID:26273-1664910000-1666724400@kultura.maribor.si
SUMMARY:Toni Soprano Meneglejte: Vertikalni oblaki
DESCRIPTION:30.9. -16. 10. 2022 / avlaGT22\, Glavni trg 22\, Maribor \nV spremljevalnem programu 28. MFRU\, se bo v AVLI GT22 predstavila Toni Soprano Meneglejte z razstavo Vertikalni oblaki v kuratorstvu Irene Borić.\n\nEden za drugim\, rahlo naključno\, vertikalno lebdijo digitalni oblaki Toni Soprano Meneglejte. Izvirno umeščeni v samoumevne mreže (gride) instagramske postavitve so del neskončne digitalne risbe. Prav s to navidezno neomejenostjo se risba razteguje med mejami prostora omrežja. Težava z instagramskimi mejami je\, da omejujejo in iztiskajo praznino\, tisto\, ki omogoča imaginacijo\, ter jo nadomeščajo z vsebinami\, ki po principih horror vacui simulirajo sodobne pomene. V neskončnem flowu vizualnih informacij je Toni Soprano ena izmed umetnic_kov\, ki tam išče možnosti za umetniške intervencije.\nUmetnica domneva\, da v komercialnem in nadziranem prostoru socialnega omrežja obstaja potencial spontanega razstavišča\, ki lahko dosega nenavadne in naključne obiskovalce\, pri tem pa dela razpoko v sistemu. Umetnica se pri tem odpove simulaciji\, se namenoma izogne fotografiji in zavzame pozicijo digitalne identitete Toni Soprano Meneglejte\, ki že z imenom namiguje na dejstvo\, da je na spletu vrednost odvisna od števila (p)ogledov. Ime priteguje pozornost\, umetnica pa nam ponuja vsebino\, ki gre proti instagramskemu toku. Namesto s fotografijami nas umetnica sooča z enostavno likovno gesto. Zaradi dosledne rabe enega koncepta\, kot so nebotičnik\, risba ali vertikalni oblaki\, umetnica ustvarja različice lastne digitalne identitete. Tako imenu toni_soprano_meneglejte3 sledijo Vertikalni oblaki\, ki reflektirajo prostor omrežja\, v katerem so razstavljeni. Delujejo kot zlomljeni piksli\, hkrati jih lahko povezujemo z neuspelo kodo QR ali glitchem ali pa nam umetnostnozgodovinski preblisk v spomin prikliče meandre Julija Kniferja.\nNastali vzorci le delujejo ponavljajoče se; v resnici vsakič ustvarjajo novo kompozicijo. Razmisliti o vertikalnih oblakih v galerijskem prostoru hkrati pomeni razmisliti o pomenu infrastrukture spleta in pričujoča razstava Vertikalni oblaki prinaša prav ta razmislek. Piksle lahko razumemo kot vmesne novomedijske objekte\, ki namesto logike narativa ponujajo logiko zbirke. Kot je zapisal Lev Manovich: “Številni novomedijski objekti ne pripovedujejo zgodb\, nimajo začetka ne konca … Namesto tega so skupek posameznih delov\, od katerih ima vsak enakopraven pomen.” V njih se zrcali odprta narava spleta kot medija; njihova kompozicija ni nikoli končana\, saj to tako in tako ni končni cilj. Zato črno-beli ritem kvadratastih vzorcev podira ustaljeno zaporedje barvitih foto objav in nam ponuja drugačno izkušnjo upočasnjenega časa\, ki ohranja praznino.\nToni Soprano Meneglejte je intermedijska umetnica. Je polovica nekdanjega tandema son:DA\, ki je slovensko in mednarodno sceno vizualne umetnosti bogatil dobrih 15 let. Od leta 2015 deluje samostojno\, njena raznolika praksa vključuje risanje\, fotografijo\, zvočne performanse\, oblikovanje prostora\, scenografijo\, oblikovanje svetlobe\, video in digitalne projekte\, ki uporabljajo socialne medije. Obiskovala je Šolo za umetniško fotografijo Friedl Kubelka na Dunaju\, leta 2003 pa je diplomirala na Akademiji za likovne umetnosti na Dunaju na smeri Umetnost in fotografija. \nIrena Borić je umetnostna zgodovinarka. Dela kot neodvisna kuratorka in kritičarka. Živi in dela v Mariboru.
URL:https://kultura.maribor.si/dogodek/toni-soprano-meneglejte-vertikalni-oblaki-2022-10-04-19-00-00/
LOCATION:IntimniOder.GT22
CATEGORIES:Alternativa,Dogodki,Razstave
ATTACH;FMTTYPE=image/jpeg:https://kultura.maribor.si/wp-content/uploads/2022/09/Posnetek-zaslona-2022-09-28-163424.jpg
END:VEVENT
BEGIN:VEVENT
DTSTART;TZID=Europe/Paris:20221007T100000
DTEND;TZID=Europe/Paris:20221014T230000
DTSTAMP:20260426T031104
CREATED:20220328T134713Z
LAST-MODIFIED:20220916T105803Z
UID:19645-1665136800-1665788400@kultura.maribor.si
SUMMARY:28. Mednarodni festival računalniške umetnosti (MFRU)
DESCRIPTION:Mednarodni festival računalniške umetnosti bo čez tri leta praznoval 30. letnico nastanka zato bo letos njegov fokus usmerjen v  nadgradnjo zgodovinskih temeljev in v nujnost zavedanja pomena skupnih vizij računalniške in intermedijske prihodnosti.  \nTo je smiselno saj MFRU ne obravnava zgolj sprememb in potencialov\, ki jih prinašajo računalniške tehnologije temveč odraža tudi aktualna družbena dogajanja v povezavi s tehnologijami. Njegova osrednja naloga ostaja povezovanje novih tehnologij z znanostjo\, umetnostjo in premiki v družbenih okoljih. \nO FESTIVALU\nV letu 2022 bo festival pod (delovnim) naslovom „Ekspanzija mogočega in kompleksnost zavesti“ v mesto in ob gostovanju po državi pripeljal domače in tuje avtorje različnih generacij\, ki delujejo in raziskujejo v polju intermedijske (računalniške) in raziskovalne umetnosti. Izpostavljeno bo sodelovanje mladih\, ki raziskujejo in ustvarjajo nove vizije in iščejo mogoče poti za preoblikovanje sveta\, ki smo ga poznali do sedaj. \nZ razglašeno svetovno epidemijo\,  je prišla v ospredje kriza – zdravstvena\, gospodarska in politična. Nastaja oziroma prisiljeni smo oblikovati nov svet\, ki bo temeljil na drugačnem odnosu in predvsem v zavedanju\, da potrebujemo drugačne načine delovanja. Te moramo šele razviti in menimo\, da tukaj prav mladi igrajo pomembno vlogo. Ob tem pa bo nujno\, da se z zavedanjem v lastne ne-zmožnosti\, kot družba „prebudimo“. Teme\, ki bodo na eni stran obravnavale razvoj novih produktov\, \, in dognanja kvantne fizike in na drugi strani konzolne igre in dy tehnologije\, bomo najširši javnosti predstavili s postavitvami instalacij v izložbah po centru mesta\, na javnih površinah in v podhodih ter prehodih. Izpostavili bomo nekatere zgodovinske dosežke in predstavili pionirje računalniške (intermedijske) umetnosti. Pripravili bomo diskurzivne večere\, delavnice\, predstavitve in tudi arhivske zabeležke\, ter dela najmlajše generacije ustvarjalcev/lk računalniške umetnosti. Že tradicionalno bomo izvedli natečaj za najboljši študentski intermedijski projekt in podelili nagrade. \n\n\n\n\n\n\n\n\n\n\n\n\n\nPovezava do originalnega članka
URL:https://kultura.maribor.si/dogodek/28-mednarodni-festival-racunalniske-umetnosti-mfru-2022-10-07-10-00-00-2022-10-14-23-00-00/
LOCATION:MKC Maribor
CATEGORIES:Alternativa,Delavnice,Dogodki,Festivali
ATTACH;FMTTYPE=image/jpeg:https://kultura.maribor.si/wp-content/uploads/2022/03/IMG_7576-scaled.jpg
END:VEVENT
BEGIN:VEVENT
DTSTART;TZID=Europe/Paris:20221008T130000
DTEND;TZID=Europe/Paris:20221008T220000
DTSTAMP:20260426T031104
CREATED:20220928T063005Z
LAST-MODIFIED:20221005T124544Z
UID:26245-1665234000-1665266400@kultura.maribor.si
SUMMARY:OKTOBERFEST na Pohorski tržnici
DESCRIPTION:Vabljeni\, da skupaj preživimo čudovit dan\, ob odličnem pivu\, okusni hrani ter vrhunski glasbi\, v soboto 8. oktobra 2022 od 13. ure naprej. \nOktober je mesec piva\, zato smo za vas pripravili dogodek “Oktoberfest na Pohorski tržnici”.  \nObiskovalci Pohorske tržnice boste lahko poizkusili različne “magične zvarke” mikropivovarjev\, okusno kulinariko ter imeli edinstveno priložnost spoznati vse skrivnosti priprave piva\, saj smo za vas pripravili tudi predavanje o varjenju piva pod strokovnim vodstvom. Seveda boste lahko tudi varjeno pivo degustirali. Za dobro vzdušje in odlično glasbo bo poskrbel DJ. \nVljudno vabljeni\, da preživite čudovit dan na Pohorski tržnici. \n\nPovezava do originalnega članka
URL:https://kultura.maribor.si/dogodek/oktoberfest-na-pohorski-trznici-2022-10-08-13-00-00-2022-10-08-22-00-00/
LOCATION:Okolica / Pohorska tržnica (Pivola 90a\, Hoče)
CATEGORIES:Dogodki
ATTACH;FMTTYPE=image/jpeg:https://kultura.maribor.si/wp-content/uploads/2022/09/0414f0d4-8970-4532-b54a-50d6d32b8d1a.jpg
END:VEVENT
BEGIN:VEVENT
DTSTART;TZID=Europe/Paris:20221008T170000
DTEND;TZID=Europe/Paris:20221008T170000
DTSTAMP:20260426T031104
CREATED:20220927T175159Z
LAST-MODIFIED:20221005T124611Z
UID:26222-1665248400-1665248400@kultura.maribor.si
SUMMARY:modul ≡ Jaka Berger: Ustvarjanje glasbe z zvoki iz okolja
DESCRIPTION:Pri ustvarjanju glasbe prevladuje prepričanje\, da je zanjo potrebnih veliko tehnične opreme in sredstev\, kar pa ne drži nujno – glasbo lahko ustvarjamo tudi na druge zelo kreativne načine. Z razširjeno uporabo pametnih telefonov so se uporabniki hitro naučili izražanja skozi fotografijo\, na podoben način pa je dandanes možno tudi ustvarjanje glasbe. \nCilj delavnice je mladim prikazati\, kako z minimalnimi sredstvi in vsem dostopno tehnologijo ustvariti lastno (pop) skladbo\, hkrati pa bomo med mladimi poskusili spodbuditi ustvarjanje ter inovativnost na sebi lasten način\, brez ogromnih količin denarja za tehnično opremo\, studie in ostale konvencionalne elemente glasbene industrije. \nPrijave\nDelavnica je brezplačna\, a je nanjo potrebna predhodna prijava \n\nPovezava do originalnega članka
URL:https://kultura.maribor.si/dogodek/modul-jaka-berger-ustvarjanje-glasbe-z-zvoki-iz-okolja-2022-10-08-17-00-00/
LOCATION:Delavnica za mlade 14+ v Kulturnem inkubatorju\, Maribor
CATEGORIES:Delavnice,Dogodki
ATTACH;FMTTYPE=image/jpeg:https://kultura.maribor.si/wp-content/uploads/2022/09/konS_delavnice_zvok_small-24-2048x1365-1.jpeg
END:VEVENT
BEGIN:VEVENT
DTSTART;TZID=Europe/Paris:20221008T203000
DTEND;TZID=Europe/Paris:20221008T203000
DTSTAMP:20260426T031104
CREATED:20220922T121955Z
LAST-MODIFIED:20221005T124653Z
UID:25771-1665261000-1665261000@kultura.maribor.si
SUMMARY:Paradox Trio
DESCRIPTION:Paradox Trio\nCena vstopnice: 8\,00 – 10\,00 EUR \nInovativna mešanica balkanskih\, romskih\, bližnje-vzhodnih in klezmer ritmov ter melodij nikogar ne pušča ravnodušnega.\n\nPo več kot 25. letih dela lahko rečemo\, da so Paradox trio morda prva »world beat« skupina. Inovativna mešanica balkanskih\, romskih\, bližnjevzhodnih in klezmer ritmov ter melodij nikogar ne pušča ravnodušnega. \n»Paradoksalno« pri skupini je predvsem dvoje: prvič\, da Paradox »tria« ne sestavljajo trije\, temveč štirje glasbeniki\, in drugič\, da ima večina glasbe\, ki jo igrajo\, nomadske korenine na Balkanu in bližnjem vzhodu\, svoj resnični dom pa je našla nikjer drugje kot na »downtown sceni« v New Yorku. \nPihalca Matta Darriaua zaradi izvirnega vnašanja balkanskih ritmov v jazz uvrščajo med najbolj vplivne glasbenike. Je eden vodilnih v gibanju »Jewish Alternative Movement«\, sicer pa vodi še vrsto zasedb\, ki posegajo tako v keltsko glasbo kakor v bogato zgodovino swinga (skupina Ballin’ The Jack). Darriau je že vrsto let reden član skupine The Klezmatics\, ki je popularizirala klezmer glasbo in občinstvo navdajala z intenzivnimi ter nasprotujočimi si občutji slavja in melanholije. \nParadox trio so sodelovali z glasbeniki\, kot so Theodosii Spassov\, Bojan Z in drugi\, kar dovolj zgovorno priča o njihovi glasbeni širini. Ko k temu dodamo še Darriauov prepričljiv nastop in za Balkan značilna pihala\, kot so kaval ali gaida ter piščali z vsega sveta\, dobimo edinstven splet vročih balkanskih melodij in ritmov sredi jazzovske sodobnosti velemesta. \n\nCena vstopnic: 10 €; 8 € – študentje \n\n\n\n  \n\n\n\n  \n\n\nPovezava do originalnega članka
URL:https://kultura.maribor.si/dogodek/paradox-trio-2022-10-08-20-30-00/
LOCATION:Mali oder Narodnega doma
CATEGORIES:Dogodki,Glasba
ATTACH;FMTTYPE=image/jpeg:https://kultura.maribor.si/wp-content/uploads/2022/09/csm_Paradox_Trio__1__3050ab486a.jpg
END:VEVENT
BEGIN:VEVENT
DTSTART;TZID=Europe/Paris:20221008T210000
DTEND;TZID=Europe/Paris:20221008T230000
DTSTAMP:20260426T031104
CREATED:20220922T122552Z
LAST-MODIFIED:20221005T124755Z
UID:25963-1665262800-1665270000@kultura.maribor.si
SUMMARY:Not'n'Vun REUNION (Metallica tribute)
DESCRIPTION:Zgodilo se bo! \nMetallica fani si lahko manemo roke\, noge in vratove. Po doooooolgem času in ponovno speljani z različnih življenskih poti v projekt\, ki je svoj čas polnil Štuka\, Pekarno in številne dvorane po Sloveniji! Pregovarjanje originalnih članov zasedbe ni bilo lahko: zvijali smo jim roke\, noge\, mardsikdo je končal pod mizo v gostilni… pa še ni pomagalo. No\, najbolj je zaleglo\, da smo objavili datum nastopa. Zdaj pa ni vrnitve! \nZasedba: \nTim Kores (vokal)\,\nAleš Maurič (solo kitara)\,\nLuka Novak (ritem kitara)\,\nDavid Čuček (bas kitara) in\nMarko Soršak (bobni). \nČe ti ni jasno\, o čem govorimo v zgornjem besedilu\, pa še uradna najava\, kot bi bilo leto 2005: \nNot’n’Vun – Metallica tribute band je najboljši slovenski bend\, ki izvaja izključno repertoar največje ter vedno aktualne metal skupine. Ideja po nastanku Metallica cover banda sega v leto 2005. Navdušeno so preigravali glasbo Metallice in drugih in njihova glasba je postajala vse udarnejša. Rezultat njihovega sodelovanja so mnogi uspešni koncerti. Celotna ideja je bila prebuditi nostalgično atmosfero in pokazati energijo\, ki jo band ustvarja. Igrajo vse največje hite Metallice od leta 1983\, vključno z Master Of Puppets\, Seek & Destroy\, Enter Sandman\, One\, Whiskey In The Jar\, Creeping Death\, Fuel in mnogimi drugimi. \n\nPovezava do originalnega članka
URL:https://kultura.maribor.si/dogodek/not-n-vun-reunion-metallica-tribute-2022-10-08-21-00-00-2022-10-08-23-00-00/
LOCATION:Mc pekarna
CATEGORIES:Dogodki,Glasba
ATTACH;FMTTYPE=image/jpeg:https://kultura.maribor.si/wp-content/uploads/2022/09/306975624_2505766056232186_2951025481698790127_n.jpg
END:VEVENT
END:VCALENDAR