BEGIN:VCALENDAR
VERSION:2.0
PRODID:-//Kultura Maribor - ECPv6.2.8.1//NONSGML v1.0//EN
CALSCALE:GREGORIAN
METHOD:PUBLISH
X-WR-CALNAME:Kultura Maribor
X-ORIGINAL-URL:https://kultura.maribor.si
X-WR-CALDESC:Events for Kultura Maribor
REFRESH-INTERVAL;VALUE=DURATION:PT1H
X-Robots-Tag:noindex
X-PUBLISHED-TTL:PT1H
BEGIN:VTIMEZONE
TZID:Europe/Paris
BEGIN:DAYLIGHT
TZOFFSETFROM:+0100
TZOFFSETTO:+0200
TZNAME:CEST
DTSTART:20220327T010000
END:DAYLIGHT
BEGIN:STANDARD
TZOFFSETFROM:+0200
TZOFFSETTO:+0100
TZNAME:CET
DTSTART:20221030T010000
END:STANDARD
END:VTIMEZONE
BEGIN:VEVENT
DTSTART;TZID=Europe/Paris:20220826T190000
DTEND;TZID=Europe/Paris:20221023T000000
DTSTAMP:20260423T153521
CREATED:20220609T084301Z
LAST-MODIFIED:20220816T100015Z
UID:23279-1661540400-1666483200@kultura.maribor.si
SUMMARY:Prevzetnost in pristranost narodne noše
DESCRIPTION:Ante Trstenjak\, Ludvík Kuba\, Tina Dobrajc\, Eric Schütt in Trine Søndergaard \nKustosinja: Andreja Borin \nV Umetnostni galeriji Maribor pripravljamo razstavo Prevzetnost in pristranost narodne noše\, ki je rezultat večletnega sodelovanja Umetnostne galerije Maribor z Narodnim muzejem v Pragi in Muzejem Lužiških Srbov v Bautznu v Nemčiji. Obsežen razstavni projekt izhaja iz umetniškega opusa slovenskega slikarja Anteja Trstenjaka (1894–1970)\, ki je študiral in dve desetletji živel v Pragi\, se nekaj časa navdihoval pri bogati kulturi Lužiških Srbov in se v zadnjem delu življenja ustalil v Mariboru. Zaradi njegove razgibane življenjske poti je tudi njegov umetniški opus razdrobljen in ga hranijo vse sodelujoče institucije. Tematika razstave se vrti okoli narodne noše in njenih upodobitev v določenem prostoru in času\, nagovarja pa tudi teme pripadnosti in identitete ter razmišlja o vlogi ženske in njenem položaju v družbi. \n\nPovezava do originalnega članka
URL:https://kultura.maribor.si/dogodek/prevzetnost-in-pristranost-narodne-nose-2022-08-26-19-00-00-2022-10-23-00-00-00/
LOCATION:Maribor center / Umetnostna galerija Maribor (Strossmayerjeva 6\, Maribor)
CATEGORIES:Dogodki,Razstave
ATTACH;FMTTYPE=image/jpeg:https://kultura.maribor.si/wp-content/uploads/2022/06/33c55627-a397-4b46-81c7-c4bebe5ea25b.jpg
END:VEVENT
BEGIN:VEVENT
DTSTART;TZID=Europe/Paris:20220924T000000
DTEND;TZID=Europe/Paris:20221008T000000
DTSTAMP:20260423T153521
CREATED:20220922T122314Z
LAST-MODIFIED:20220923T063153Z
UID:25886-1663977600-1665187200@kultura.maribor.si
SUMMARY:Dnevi evropske kulturne dediščine\, Sinagoga Maribor
DESCRIPTION:Vztrajnostna dediščina. \nDnevi odprtih vrat v Sinagogi Maribor. \nOdpiralni čas med DEKD (24. 9.-8. 10.): \n\nponedeljek-petek: 8:00-16:00\nsobota-nedelja: (24. in 25. september ter 1.\, 2. in 8. oktober): 10:00-14:00\n\nVstop v Sinagogo je  v tem času brezplačen. \nVabljeni! \n\nPovezava do originalnega članka
URL:https://kultura.maribor.si/dogodek/dnevi-evropske-kulturne-dediscine-sinagoga-maribor-2022-09-24-00-00-00-2022-10-08-00-00-00/
LOCATION:Maribor center / Sinagoga Maribor (Židovska ulica 4\, Maribor)
CATEGORIES:Dogodki,Razstave
ATTACH;FMTTYPE=image/jpeg:https://kultura.maribor.si/wp-content/uploads/2022/09/dekd-2022-v-sinagogi.jpg
END:VEVENT
BEGIN:VEVENT
DTSTART;TZID=Europe/Paris:20220926T090000
DTEND;TZID=Europe/Paris:20221008T210000
DTSTAMP:20260423T153521
CREATED:20220902T120729Z
LAST-MODIFIED:20220912T125859Z
UID:25636-1664182800-1665262800@kultura.maribor.si
SUMMARY:Razstava Vse poti vodijo na Lent: utrinki preteklosti
DESCRIPTION:Kakšne so bile nekoč poti na Lent? Kako so izgledali Splavarski\, Žički\, Minoritski in Mesarski prehod ter Pristaniška\, Vojašniška in Dravska ulica v preteklosti? Katera imena so imele ulice in kako so se ta skozi zgodovino spreminjala?Preteklost najstarejšega dela mesta Maribor\, Lenta\, je zelo razgibana in raznolika. Vse poti iz središča mesta namreč vodijo k prostoru ob Dravi\, ki predstavlja pomembno mestno veduto. \nKakšne so bile nekoč poti na Lent? Kako so izgledali Splavarski\, Žički\, Minoritski in Mesarski prehod ter Pristaniška\, Vojašniška in Dravska ulica v preteklosti? Katera imena so imele ulice in kako so se ta skozi zgodovino spreminjala?\nRazstava Pokrajinskega arhiva Maribor odgovarja na vsa ta vprašanja in prikazuje fotografske utrinke uličic in trgov\, Pristana in Sodnega stolpa. Fotografije na razstavi so del Zbirke fotografij in razglednic ter gradbene fototeke fonda Zavod za urbanizem Maribor\, ki jih hrani Pokrajinski arhiv Maribor. \n\nPovezava do originalnega članka
URL:https://kultura.maribor.si/dogodek/razstava-vse-poti-vodijo-na-lent-utrinki-preteklosti-2022-09-26-09-00-00-2022-10-08-21-00-00/
LOCATION:Maribor center / Nakupovalno središče Europark Maribor
CATEGORIES:Dogodki,Razstave
ATTACH;FMTTYPE=image/jpeg:https://kultura.maribor.si/wp-content/uploads/2022/09/14c8612f-666b-4470-8f21-1526efb23a5c.jpg
END:VEVENT
BEGIN:VEVENT
DTSTART;TZID=Europe/Paris:20220930T000000
DTEND;TZID=Europe/Paris:20221022T000000
DTSTAMP:20260423T153521
CREATED:20220823T133442Z
LAST-MODIFIED:20220919T093255Z
UID:25344-1664496000-1666396800@kultura.maribor.si
SUMMARY:Narodni dom Maribor – središče kulturnega dogajanja od 1899
DESCRIPTION:Razstava. \nRazstava bo predstavila zgodbo stavbe in zavoda v obliki stripa avtorja Gašperja Krajnca\, ki izpostavi zanimivo dogajanja od leta 1899\, ko je bil Narodni dom v Mariboru prvič združevalec slovenskega kulturnega življenja do danes\, ko je sedež zavoda Narodni dom Maribor in središče kulturnega vrveža v mestu. Stavba je bila v tem času priča večkratni povojni obnovi kulturnega življenja in boja za kulturo v Mariboru. \nRazstavo si lahko ogledate: \n\nponedeljek-petek: 10.00-18.00\nsobota: 10.00-14.00\nnedelja in prazniki: zaprto\n\n\nPovezava do originalnega članka
URL:https://kultura.maribor.si/dogodek/narodni-dom-maribor-sredisce-kulturnega-dogajanja-od-1899-2022-09-30-00-00-00-2022-10-22-00-00-00/
LOCATION:Maribor center / Galerija Kibela\, Narodni dom Maribor (Ulica kneza Koclja 9\, Maribor)
CATEGORIES:Dogodki,Razstave
ATTACH;FMTTYPE=image/jpeg:https://kultura.maribor.si/wp-content/uploads/2022/08/f8e6f228-f12c-407b-b056-3c30ff4470c9.jpg
END:VEVENT
BEGIN:VEVENT
DTSTART;TZID=Europe/Paris:20221002T110000
DTEND;TZID=Europe/Paris:20221002T110000
DTSTAMP:20260423T153521
CREATED:20211202T143025Z
LAST-MODIFIED:20220919T093706Z
UID:12229-1664708400-1664708400@kultura.maribor.si
SUMMARY:Svečana trgatev Stare trte
DESCRIPTION:Naši Stari trti\, najstarejši trti na svetu\, kraljici vinskih trt\, se kot največji etnografski znamenitosti posveti veliko turistično promocijskih protokolarnih prireditev – najznamenitejša in najpopularnejša je gotovo njena svečana trgatev.\n\n\n\n\n\nPovezava do originalnega članka
URL:https://kultura.maribor.si/dogodek/svecana-trgatev-stare-trte-2022-10-02-00-00-00-2022-10-02-00-00-00/
LOCATION:Maribor center
CATEGORIES:Dogodki,Festivali
ATTACH;FMTTYPE=image/jpeg:https://kultura.maribor.si/wp-content/uploads/2021/12/ciril-ambroz-trgatev-stare-trte.jpg
END:VEVENT
END:VCALENDAR