BEGIN:VCALENDAR
VERSION:2.0
PRODID:-//Kultura Maribor - ECPv6.2.8.1//NONSGML v1.0//EN
CALSCALE:GREGORIAN
METHOD:PUBLISH
X-WR-CALNAME:Kultura Maribor
X-ORIGINAL-URL:https://kultura.maribor.si
X-WR-CALDESC:Events for Kultura Maribor
REFRESH-INTERVAL;VALUE=DURATION:PT1H
X-Robots-Tag:noindex
X-PUBLISHED-TTL:PT1H
BEGIN:VTIMEZONE
TZID:Europe/Paris
BEGIN:DAYLIGHT
TZOFFSETFROM:+0100
TZOFFSETTO:+0200
TZNAME:CEST
DTSTART:20220327T010000
END:DAYLIGHT
BEGIN:STANDARD
TZOFFSETFROM:+0200
TZOFFSETTO:+0100
TZNAME:CET
DTSTART:20221030T010000
END:STANDARD
END:VTIMEZONE
BEGIN:VEVENT
DTSTART;TZID=Europe/Paris:20220826T190000
DTEND;TZID=Europe/Paris:20221023T000000
DTSTAMP:20260424T011331
CREATED:20220609T084301Z
LAST-MODIFIED:20220816T100015Z
UID:23279-1661540400-1666483200@kultura.maribor.si
SUMMARY:Prevzetnost in pristranost narodne noše
DESCRIPTION:Ante Trstenjak\, Ludvík Kuba\, Tina Dobrajc\, Eric Schütt in Trine Søndergaard \nKustosinja: Andreja Borin \nV Umetnostni galeriji Maribor pripravljamo razstavo Prevzetnost in pristranost narodne noše\, ki je rezultat večletnega sodelovanja Umetnostne galerije Maribor z Narodnim muzejem v Pragi in Muzejem Lužiških Srbov v Bautznu v Nemčiji. Obsežen razstavni projekt izhaja iz umetniškega opusa slovenskega slikarja Anteja Trstenjaka (1894–1970)\, ki je študiral in dve desetletji živel v Pragi\, se nekaj časa navdihoval pri bogati kulturi Lužiških Srbov in se v zadnjem delu življenja ustalil v Mariboru. Zaradi njegove razgibane življenjske poti je tudi njegov umetniški opus razdrobljen in ga hranijo vse sodelujoče institucije. Tematika razstave se vrti okoli narodne noše in njenih upodobitev v določenem prostoru in času\, nagovarja pa tudi teme pripadnosti in identitete ter razmišlja o vlogi ženske in njenem položaju v družbi. \n\nPovezava do originalnega članka
URL:https://kultura.maribor.si/dogodek/prevzetnost-in-pristranost-narodne-nose-2022-08-26-19-00-00-2022-10-23-00-00-00/
LOCATION:Maribor center / Umetnostna galerija Maribor (Strossmayerjeva 6\, Maribor)
CATEGORIES:Dogodki,Razstave
ATTACH;FMTTYPE=image/jpeg:https://kultura.maribor.si/wp-content/uploads/2022/06/33c55627-a397-4b46-81c7-c4bebe5ea25b.jpg
END:VEVENT
BEGIN:VEVENT
DTSTART;VALUE=DATE:20220923
DTEND;VALUE=DATE:20221002
DTSTAMP:20260424T011331
CREATED:20220922T122045Z
LAST-MODIFIED:20220923T062442Z
UID:25803-1663891200-1664668799@kultura.maribor.si
SUMMARY:ANJA PAPUGA: ORIGINS
DESCRIPTION:Umetnica skozi konceptualno zasnovano fotografijo raziskuje arhetipe ter tematike feminilnosti in senzibilnosti ženskega pogleda. Razstava je del Festivala fotografije Maribor. \nNa ogled od 17. septembra do 1. oktobra. \nAvla \n\n\n\n\n\n\nPovezava do originalnega članka
URL:https://kultura.maribor.si/dogodek/anja-papuga-origins/
LOCATION:Univerzitetna knjižnica Maribor\n10 Gospejna ulica Maribor\, Upravna enota Maribor\, 2000 Slovenia
CATEGORIES:Dogodki,Razstave
ATTACH;FMTTYPE=image/jpeg:https://kultura.maribor.si/wp-content/uploads/2022/09/avla_0.jpg
END:VEVENT
BEGIN:VEVENT
DTSTART;TZID=Europe/Paris:20220923T000000
DTEND;TZID=Europe/Paris:20221002T000000
DTSTAMP:20260424T011331
CREATED:20220922T122536Z
LAST-MODIFIED:20220923T062919Z
UID:25958-1663891200-1664668800@kultura.maribor.si
SUMMARY:Workshot 2.0: doppelgänger
DESCRIPTION:23 9. – 2. 10. 2022 \nWorkshot 2.0: doppelgänger\n12. festival StopTrik vas vabi\, da se pridružite trodelni delavnici zasnovani na konceptualnem pristopu ustvarjanja animacij. Praktično izvedbo vašega kratkega animiranega projekta združujemo s procesom spoznavanja kritičnih pristopov k medijem in razumevanja filma kot kompleksnega načina umetniške komunikacije. \n\n\n\n\n\n\nUdeleženke_ci bodo ustvarjale_i stop animacije s HUGOM COVARRUBIASOM\, za oskarja nominiranim režiserjem filma “Bestia” (Čile)\, pisale_i scenarije z VASSILISOM KROUSTALLISOM\, pisatelem\, filmskim kritikom in akademikom (Grčija / Estonija)\, veščine kritične pismenosti pa bosta predstavili URŠKA BREZNIK in KAJA FIEDLER (Slovenija). \n\n\n\n\n\n\n\n\n\n\n\n\n\n\n\n\n\n\n1. del: delavnica kritične pismenosti z Urško Breznik in Kajo Fiedler zoom / 23. 9. 2022 \n\n\n\n\n\n\n2. del: delavnica pisanja scenarijev z Vassilisom Kroustallisom v živo\, Trg revolucije 9 / 25. – 27. 9. 2022 \n\n\n\n\n\n\n3. del: ustvarjanje animiranega filma s Hugom Covarrubiasom v živo\, Lutkovno gledališče Maribor / 28. 9. – 2. 10. 2022 \n\n\n\n\n\n\n\n\n\n\n\n\n\n\n\n\n\n\n\n\n\n\n\n\n\n\n\n\n\n\nPodroben opis delavnice najdete na povezavi.  \nNa delavnico se lahko prijavi omejeno število udeleženk_cev\, zainteresirane sprejemamo po načelu “kdor prej pride\, prej melje”. Pomembno je\, da vsak udeleženec sodeluje v vseh treh fazah procesa. Prijave sprejemamo na: sasa.stoptrik@gmail.com \nKotizacija znaša 100 evrov\, festival ne krije stroškov udeležencev v Mariboru. \nAnimacije\, nastale v okviru delavnice\, bodo javno prikazane na zaključni prireditvi festivala\, v nedeljo\, 2. oktobra\, v dvorani Vetrinjskega dvora. \n\n\n\n\n\n\n\n\n\n\n\n\n\n\n\n\n\n\n\n\n\n\n\n\n\n\n\n\n\n\n\n\nPovezava do originalnega članka
URL:https://kultura.maribor.si/dogodek/workshot-2-0-doppelg-nger-2022-10-02-00-00-00/
LOCATION:Pekarna Magdalenske mreže in kulturna prizorišča
CATEGORIES:Delavnice,Dogodki,Festivali
ATTACH;FMTTYPE=image/jpeg:https://kultura.maribor.si/wp-content/uploads/2022/09/B147121D-FB46-4A01-B4D3-F4F3D082D3D6-2-1024x819-2.jpg
END:VEVENT
BEGIN:VEVENT
DTSTART;TZID=Europe/Paris:20220924T000000
DTEND;TZID=Europe/Paris:20221008T000000
DTSTAMP:20260424T011331
CREATED:20220922T122314Z
LAST-MODIFIED:20220923T063153Z
UID:25886-1663977600-1665187200@kultura.maribor.si
SUMMARY:Dnevi evropske kulturne dediščine\, Sinagoga Maribor
DESCRIPTION:Vztrajnostna dediščina. \nDnevi odprtih vrat v Sinagogi Maribor. \nOdpiralni čas med DEKD (24. 9.-8. 10.): \n\nponedeljek-petek: 8:00-16:00\nsobota-nedelja: (24. in 25. september ter 1.\, 2. in 8. oktober): 10:00-14:00\n\nVstop v Sinagogo je  v tem času brezplačen. \nVabljeni! \n\nPovezava do originalnega članka
URL:https://kultura.maribor.si/dogodek/dnevi-evropske-kulturne-dediscine-sinagoga-maribor-2022-09-24-00-00-00-2022-10-08-00-00-00/
LOCATION:Maribor center / Sinagoga Maribor (Židovska ulica 4\, Maribor)
CATEGORIES:Dogodki,Razstave
ATTACH;FMTTYPE=image/jpeg:https://kultura.maribor.si/wp-content/uploads/2022/09/dekd-2022-v-sinagogi.jpg
END:VEVENT
BEGIN:VEVENT
DTSTART;TZID=Europe/Paris:20220926T090000
DTEND;TZID=Europe/Paris:20221008T210000
DTSTAMP:20260424T011331
CREATED:20220902T120729Z
LAST-MODIFIED:20220912T125859Z
UID:25636-1664182800-1665262800@kultura.maribor.si
SUMMARY:Razstava Vse poti vodijo na Lent: utrinki preteklosti
DESCRIPTION:Kakšne so bile nekoč poti na Lent? Kako so izgledali Splavarski\, Žički\, Minoritski in Mesarski prehod ter Pristaniška\, Vojašniška in Dravska ulica v preteklosti? Katera imena so imele ulice in kako so se ta skozi zgodovino spreminjala?Preteklost najstarejšega dela mesta Maribor\, Lenta\, je zelo razgibana in raznolika. Vse poti iz središča mesta namreč vodijo k prostoru ob Dravi\, ki predstavlja pomembno mestno veduto. \nKakšne so bile nekoč poti na Lent? Kako so izgledali Splavarski\, Žički\, Minoritski in Mesarski prehod ter Pristaniška\, Vojašniška in Dravska ulica v preteklosti? Katera imena so imele ulice in kako so se ta skozi zgodovino spreminjala?\nRazstava Pokrajinskega arhiva Maribor odgovarja na vsa ta vprašanja in prikazuje fotografske utrinke uličic in trgov\, Pristana in Sodnega stolpa. Fotografije na razstavi so del Zbirke fotografij in razglednic ter gradbene fototeke fonda Zavod za urbanizem Maribor\, ki jih hrani Pokrajinski arhiv Maribor. \n\nPovezava do originalnega članka
URL:https://kultura.maribor.si/dogodek/razstava-vse-poti-vodijo-na-lent-utrinki-preteklosti-2022-09-26-09-00-00-2022-10-08-21-00-00/
LOCATION:Maribor center / Nakupovalno središče Europark Maribor
CATEGORIES:Dogodki,Razstave
ATTACH;FMTTYPE=image/jpeg:https://kultura.maribor.si/wp-content/uploads/2022/09/14c8612f-666b-4470-8f21-1526efb23a5c.jpg
END:VEVENT
BEGIN:VEVENT
DTSTART;TZID=Europe/Paris:20220928T000000
DTEND;TZID=Europe/Paris:20221002T000000
DTSTAMP:20260424T011331
CREATED:20220922T124947Z
LAST-MODIFIED:20220923T063609Z
UID:25995-1664323200-1664668800@kultura.maribor.si
SUMMARY:12. StopTrik
DESCRIPTION:28. 9. – 2. 10. 2022 • Vetrinjski dvor\, LGM\, dvorana Gustaf \n12. StopTrik\nStopTrik s svojo 12. edicijo proslavlja stop animacijo\, krepi kritično recepcijo animiranega filma in spodbuja gledalke_ce\, da program spremljajo s humanistično radovednostjo. \n\n\n\n\n\n\n\n\n\n\n\n\n\n\n\n\n\n\nFestival tudi letos ponuja širok nabor dogodkov. Mednarodni tekmovalni program prikazuje najnovejše dosežke ustvarjalk_cev animiranih filmov. Skupaj si bomo tako ogledale_i 34 tekmovalnih animacij. Rdeča nit tematskega programa je DOPPELGÄNGER\, zavrtele se bodo tri retrospektive\, v katerih se osredotočamo na animirane manifestacije figure dvojnika – duplikata\, sence. Lik zloveščega dvojčka ali duševnega alter ega\, ki ga razumemo kot zrcalni odsev (je identičen\, vendar obraten)\, predstavlja notranjo dvojnost jaza in omogoča prikazovanje napetosti med nasprotujočimi si platmi. Pred festivalom poteka delavnica stop animacije za otroke\, profesionalna delavnica Workshot pa je nadgrajena v delavnico oblikovanja koncepta\, pisanja scenarija in stop animacije. Udeleženke_ci letos ustvarjajo animacije s Hugom Covarrubiasom\, čilskim režiserjem za oskarja nominirane stop animacije Bestia\, ki je lani zmagala na 11. ediciji festivala StopTrik. Tudi letos dopolnjujemo festival z bogatim filmsko-vzgojnim programom za otroke in mlade ter uvajamo tekmovalni program stop animacij za otroke. Pripravljamo dve razstavi\, eno na temo Doppelgängerja in drugo o presečišču hrvaške animacije in stripa\, festivalske večere pa bo popestril razgiban glasbeni program z vizualno spremljavo. \n\n\n\n\n\n\n\n\n\n\n\n\n\n\n\n\n\n\n\n\n\n\n\n\n\n\n\n\n\n\n\n\n\n  \n\n\n\n\n\n\nVsi dogodki so brezplačni. \n\n\n\n\n\n\n\n\n\n\n\n\n\n\n\n\n\n\n\n\n\n\n\n\n\n\n\n\n\n\n\nPovezava do originalnega članka
URL:https://kultura.maribor.si/dogodek/12-stoptrik-2022-09-28-00-00-00-2022-10-02-00-00-00/
LOCATION:Vetrinjski dvor\, LGM\, dvorana Gustaf
CATEGORIES:Delavnice,Dogodki,Festivali,Razstave
ATTACH;FMTTYPE=image/jpeg:https://kultura.maribor.si/wp-content/uploads/2022/09/stoptrik2022_banner_1140330px1-1024x296-1.jpg
END:VEVENT
BEGIN:VEVENT
DTSTART;TZID=Europe/Paris:20220929T000000
DTEND;TZID=Europe/Paris:20221002T000000
DTSTAMP:20260424T011331
CREATED:20220105T082906Z
LAST-MODIFIED:20220912T125818Z
UID:15262-1664409600-1664668800@kultura.maribor.si
SUMMARY:Festival Stare trte
DESCRIPTION:Festival Stare trte\n\n \n\n\nVinski\, kulinarični in kulturni poklon 450-letni Guinnessovi rekorderki\, najstarejši trti na svetu. \n\n\n\n\n  \n29. 9. 2022 → 2. 10. 2022\n\n\n  \nMaribor center / pred Hišo Stare trte\, mestno jedro\n\n\n  \n+386 2 234 66 11; tic@maribor.si\n\n\n  \nVinsko-kulinarične prireditve\n\n\n\n\n\n\nPovezava do originalnega članka
URL:https://kultura.maribor.si/dogodek/festival-stare-trte-2022-09-29-00-00-00-2022-10-02-00-00-00/
LOCATION:Maribor center
CATEGORIES:Dogodki,Festivali
ATTACH;FMTTYPE=image/jpeg:https://kultura.maribor.si/wp-content/uploads/2022/01/stara-trta_kolo_vino_kulinarika_odlicno_naslovnica_maribor_pohorje_slovenia_slovenija_urska_slakonja_ars-fotografija-scaled.jpg
END:VEVENT
BEGIN:VEVENT
DTSTART;TZID=Europe/Paris:20220930T000000
DTEND;TZID=Europe/Paris:20221022T000000
DTSTAMP:20260424T011331
CREATED:20220823T133442Z
LAST-MODIFIED:20220919T093255Z
UID:25344-1664496000-1666396800@kultura.maribor.si
SUMMARY:Narodni dom Maribor – središče kulturnega dogajanja od 1899
DESCRIPTION:Razstava. \nRazstava bo predstavila zgodbo stavbe in zavoda v obliki stripa avtorja Gašperja Krajnca\, ki izpostavi zanimivo dogajanja od leta 1899\, ko je bil Narodni dom v Mariboru prvič združevalec slovenskega kulturnega življenja do danes\, ko je sedež zavoda Narodni dom Maribor in središče kulturnega vrveža v mestu. Stavba je bila v tem času priča večkratni povojni obnovi kulturnega življenja in boja za kulturo v Mariboru. \nRazstavo si lahko ogledate: \n\nponedeljek-petek: 10.00-18.00\nsobota: 10.00-14.00\nnedelja in prazniki: zaprto\n\n\nPovezava do originalnega članka
URL:https://kultura.maribor.si/dogodek/narodni-dom-maribor-sredisce-kulturnega-dogajanja-od-1899-2022-09-30-00-00-00-2022-10-22-00-00-00/
LOCATION:Maribor center / Galerija Kibela\, Narodni dom Maribor (Ulica kneza Koclja 9\, Maribor)
CATEGORIES:Dogodki,Razstave
ATTACH;FMTTYPE=image/jpeg:https://kultura.maribor.si/wp-content/uploads/2022/08/f8e6f228-f12c-407b-b056-3c30ff4470c9.jpg
END:VEVENT
BEGIN:VEVENT
DTSTART;TZID=Europe/Paris:20221001T100000
DTEND;TZID=Europe/Paris:20221001T150000
DTSTAMP:20260424T011331
CREATED:20220922T122611Z
LAST-MODIFIED:20220923T064020Z
UID:25973-1664618400-1664636400@kultura.maribor.si
SUMMARY:Delavnica Rainworks ali ko dež posije
DESCRIPTION:V sklopu programa Stresi stres MKC Maribor v soboto\, 1. oktobra\, ob 10. uri\, vabi na delavnico\, na kateri bodo udeleženci izdelovali Rainworkse. \nRainworkse? Ste že slišali za angleški izraz »rainworks«? \nGre za besedo\, sestavljeno iz besede dež (angl. rain) in umetnina (angl. artwork). Rainworks so namreč ob dežju vidna pozitivna sporočila\, umetnost (angl. Rain-Activated Messages and Artworks). \nRainworks nastanejo z nanašanjem posebnih\, super-hidrofobnih premazov (v obliki šprejev)\, katere se na suh dan nanese na ustrezno površino (beton\, pločniki\, igrišča itd.). Nanese se jih lahko v obliki simbolov\, besed\, likov. Vidni so le\, kadar dežuje. Tako na deževen dan polepšajo dan mimoidočemu. Kul\, kajne? \nPremazi za izdelavo Rainworks so varni za uporabo in niso škodljivi za okolje\, prav tako ne poškodujejo površine. Premazi niso trajni (v povprečju ostanejo »živi« 2 do 4 mesece). \nPROGRAM DELAVNICE \nDelavnica bosestavljena iz dveh delov. V prvem delu bomo rezali kartonske šablone in v drugem delu le-te uporabili za nanašanje Rainworksev na pločnike blizu MKC Maribor. \n10:00    Kratek uvod o ideji delavnice\, nekaj več o Rainworksih in predstavitev čuječnosti \nIzdelava kartonskih šablon\, ki jih bomo kasneje uporabili za izdelavo Rainworksev \nPreizkus tehnik sproščanja skozi ustvarjanje in kratke socialne igre \n12:30    Odmor (na voljo bodo topli napitki in prigrizki) \n13:00    Izdelava Rainworksev zunaj* \n15:00    Zaključek in vključitev na »Rainworks map« \nAli kaj potrebujem? \nČe imaš\, lahko s sabo prineseš kak karton\, ki ga več ne potrebuješ in ga bomo lahko uporabili za izdelavo šablon za Rainworkse. Karton naj bo trši\, nepomečkan in v večjem kosu. Obleči se v udobna oblačila. \nDelavnico bosta vodili Katarina Dovnik in Urška Novak. Katarina je psihologinja in edukantka medicinske hipnoze\, Urška pa prehranska svetovalka in trenerka za izvajanje delavnic za krepitev duševnega zdravja ter članica Društva za razvijanje čuječnosti\, kjer je med drugim opravila tudi izobraževanje za učitelja čuječnosti. \nZaradi omejenega števila mest za delavnico zbiramo prijave. \n\n\n\n\n\nPRIJAVA\n\n\n\n\n\n*V primeru dežja Rainworksev ne bomo mogli izdelati zunaj. V tem primeru bomo več časa namenili tehnikam sproščanja in socialnim igram\, izdelavo Rainworksev pa bomo zaključili v drugem terminu\, o katerem se bomo dogovorili naknadno. \n\n\n\n\n\n\n\n\n\nVeč o programu Stresi stres\nSTRESI STRES – s kreativnostjo in čuječnostjo do lažjega spoprijemanja s stresom \nLetošnja jesenska edicija programa Stresi stres bo poleg spoznavanja in krepitve čuječnosti namenjena druženju in kreativnosti\, kjer boste udeleženci svoj prosti čas preživeli drugače\, razigrano in skozi skupinsko ustvarjanje krepili stik s samim sabo ter z ostalimi. Spoznali in preizkusili boste nekaj koristnih vaj in tehnik\, ki nam lahko pomagajo pri lažjem soočanju s stresom. \nProgram Stresi stres se je začel maja 2019\, ko je skupina prostovoljcev MKC Maribor v okviru projekta Za zdravje mladih 2.0 izvedla lokalni program »Stresi stres\, s čuječnostjo do lažjega spoprijemanja s stresom«. \nOsrednji namen programa Stresi stres je ozaveščanje mladih o pomenu duševnega zdravja ter delovanje na področju ohranjanja in krepitve varovalnih dejavnikov duševnega zdravja med mladimi s pomočjo praktičnih in uporabnih vsebin. Poudarek je na krepitvi zavedanja in na učenju strategij spoprijemanja s stresom\, kjer smo se naslonili na tehnike čuječnosti (angl. mindfulness). S programom delujemo tudi na področju promocije zdravja in zdravega življenjskega sloga na splošno. \n\n\n\n\n\n\n\n\n\n\nAvtorica grafike: Nina Kodrič \n\n\n\n\n\n\n\n\nPovezava do originalnega članka
URL:https://kultura.maribor.si/dogodek/delavnica-rainworks-ali-ko-dez-posije-2022-10-01-10-00-00-2022-10-01-15-00-00/
LOCATION:MKC Maribor
CATEGORIES:Delavnice,Dogodki
ATTACH;FMTTYPE=image/jpeg:https://kultura.maribor.si/wp-content/uploads/2022/09/stresi-stres-26C5BE.jpg
END:VEVENT
BEGIN:VEVENT
DTSTART;TZID=Europe/Paris:20221001T113000
DTEND;TZID=Europe/Paris:20221001T113000
DTSTAMP:20260424T011331
CREATED:20220922T122123Z
LAST-MODIFIED:20220923T064037Z
UID:25823-1664623800-1664623800@kultura.maribor.si
SUMMARY:38. Splavarski krst
DESCRIPTION:Poklon tradiciji \nTradicionalni dogodek na Dravi – prvi se je zgodil že leta 1985 – privabi na dravsko obrežje množico obiskovalcev in uglednih gostov. Pridružite se nam tudi letos! \n\nPovezava do originalnega članka
URL:https://kultura.maribor.si/dogodek/38-splavarski-krst-2022-10-01-11-30-00-2022-10-01-00-00-00/
LOCATION:Maribor center / pred Hišo Stare trte
CATEGORIES:Dogodki
ATTACH;FMTTYPE=image/jpeg:https://kultura.maribor.si/wp-content/uploads/2022/09/splavarski-krast-2014_festival-stare-trte_maribor-pohorje_slovenia-slovenija_branko-bombica-leskovar_6.jpg
END:VEVENT
BEGIN:VEVENT
DTSTART;TZID=Europe/Paris:20221001T150000
DTEND;TZID=Europe/Paris:20221001T150000
DTSTAMP:20260424T011331
CREATED:20220922T121952Z
LAST-MODIFIED:20220923T064110Z
UID:25769-1664636400-1664636400@kultura.maribor.si
SUMMARY:Mariborski maraton pozitivne psihologije 2022
DESCRIPTION:Mariborski maraton pozitivne psihologije 2022\n\nKer nihče ne more živeti namesto vas.\nOd 15.00 do 21.00\n\nTomislav Kuljiš\, terapevt\, ustanovitelj IPD centra za osebni razvoj in naravno starševstvo\nVpliv zgodnjega otroštva na življenja \n\nKako zgodnje izkušnje nezavedno oblikujejo bodočo odraslo osebo? Kako se že v prvih dveh letih postavlja nevrofiziologija za vse življenje?\nKako se skozi zgodnje interpersonalne izkušnje oblikujejo obrazci funkcioniranja v odnosih\, predvsem partnerskih?\nKako se vse to manifestira\, odraža pri človeku skozi življenje?\nKako spremenimo obnašanje in delovanje\, s katerim nismo zadovoljni?\n\n\nAlenka Rebula\, pesnica\, pisateljica in strokovnjakinja na področju psihologije\nNikoli ni prepozno za srečno otroštvo \n\nAli nas neuslišanost v otroštvu res nepopravljivo poškoduje?\nAli je mogoče ovrednotiti svoje otroštvo in v njem najti svoj izvir? Kako preseči žalost svojega otroštva in zaživeti polno življenje?\nAli je mogoče v odraslosti razviti v sebi sposobnost dajanja in rejemanja\, če tega nismo doživeli kot otroci?\nZakaj vemo\, da vsak otrok že od prvega hipa ustvarjalno brani in rešuje svoje življenje?\n\n\nDr. Robert Oravecz\, psihiater\, psihoterapevt\nSkozi rano posije svetloba \n\nKaj je bistvo travme?\nA se travma lahko prenese z ene osebe na drugo? Kako se ljudje odzivajo na trpljenje drugih?\nKaj se zgodi med terapijo?\nKako se terapevt sooča s trpljenjem posameznika? Kaj razumete pod pojmom potravmatske rasti?\n\n\nVida Žabot\, klinična psihologinja\, filozofinja\nŽiveti lahkotno \n\nKako si nevede naberemo pretirano mentalno težo? Radost in bolečina lahko sobivata?\nKakšna je osebna zgodba\, ki si jo pripovedujemo?\nZakaj se bojimo resničnega pogleda v lastno globino?\nKako najti težišče\, da nas nihanja ne bodo več strašila?\n\n\nCena vstopnic: za naročnike Večera v predprodaji na Večeru 30 €\, redna cena 35 €\nProdaja vstopnic: Eventim (Pošte\, trafike\, …)­ \n\nNaročniki Večera na prodajnih mestih Eventima popust uveljavite s potrdilom o zadnji plačani naročnini.\nVeljajo tudi vstiopnice za neizveden maraton leta 2020. \n\n\n\n\n\nPovezava do originalnega članka
URL:https://kultura.maribor.si/dogodek/mariborski-maraton-pozitivne-psihologije-2022-2022-10-01-15-00-00/
LOCATION:Dvorana generala Maistra
CATEGORIES:Dogodki
ATTACH;FMTTYPE=image/jpeg:https://kultura.maribor.si/wp-content/uploads/2022/09/csm_Mataton_2022__2__c7a9c0dcf1.jpg
END:VEVENT
END:VCALENDAR