BEGIN:VCALENDAR
VERSION:2.0
PRODID:-//Kultura Maribor - ECPv6.2.8.1//NONSGML v1.0//EN
CALSCALE:GREGORIAN
METHOD:PUBLISH
X-WR-CALNAME:Kultura Maribor
X-ORIGINAL-URL:https://kultura.maribor.si
X-WR-CALDESC:Events for Kultura Maribor
REFRESH-INTERVAL;VALUE=DURATION:PT1H
X-Robots-Tag:noindex
X-PUBLISHED-TTL:PT1H
BEGIN:VTIMEZONE
TZID:Europe/Paris
BEGIN:DAYLIGHT
TZOFFSETFROM:+0100
TZOFFSETTO:+0200
TZNAME:CEST
DTSTART:20250330T010000
END:DAYLIGHT
BEGIN:STANDARD
TZOFFSETFROM:+0200
TZOFFSETTO:+0100
TZNAME:CET
DTSTART:20251026T010000
END:STANDARD
END:VTIMEZONE
BEGIN:VEVENT
DTSTART;TZID=Europe/Paris:20251229T100000
DTEND;TZID=Europe/Paris:20251229T130000
DTSTAMP:20260424T145804
CREATED:20251118T020509Z
LAST-MODIFIED:20251118T121152Z
UID:106599-1767002400-1767013200@kultura.maribor.si
SUMMARY:Ptiček na kljukici
DESCRIPTION:Ustvarjalna delavnica\, 5+ \nUstvari svojega ptička ali kar celo ptičjo družinico! \nNaj iz kosa papirja poleti čarobna ptičica! Spet vilinski čiračara? Ne\, čarajo pridni prsti! Režejo\, lepijo\, šivajo in krasijo. In že je tu čudovita ptičica\, ki bo pristala na domači smrečici. Vsi jo bodo občudovali! \n\nPovezava do originalnega članka
URL:https://kultura.maribor.si/dogodek/pticek-na-kljukici-2025-12-29-10-00-00-2025-12-29-13-00-00/
LOCATION:Maribor center / Vilinska sobana
CATEGORIES:Delavnice,Dogodki,Kulturno-umetnostna vzgoja
ATTACH;FMTTYPE=image/jpeg:https://kultura.maribor.si/wp-content/uploads/2025/11/29-12-pticek-na-kljukici-png-20251117030008-3.jpg
END:VEVENT
BEGIN:VEVENT
DTSTART;TZID=Europe/Paris:20251229T100000
DTEND;TZID=Europe/Paris:20251229T130000
DTSTAMP:20260424T145804
CREATED:20251118T020522Z
LAST-MODIFIED:20251118T121209Z
UID:106608-1767002400-1767013200@kultura.maribor.si
SUMMARY:Mozaične smrečice
DESCRIPTION:Rokodelska delavnica\, 5+ \nKoščke keramike ali stekla bomo sestavili v smrečico\, ki bo okrašena z lučkami obsijala praznike. Trikrat hura za ustvarjalnost. \nNaj živi in naj žari! \n\nPovezava do originalnega članka
URL:https://kultura.maribor.si/dogodek/mozaicne-smrecice-2025-12-29-10-00-00-2025-12-29-13-00-00/
LOCATION:Maribor center / Vilinska rokodelnica
CATEGORIES:Delavnice,Dogodki,Kulturno-umetnostna vzgoja
ATTACH;FMTTYPE=image/jpeg:https://kultura.maribor.si/wp-content/uploads/2025/11/29-12-mozaicna-smrecica-scaled-jpg-20251117030009-2.jpg
END:VEVENT
BEGIN:VEVENT
DTSTART;TZID=Europe/Paris:20251229T160000
DTEND;TZID=Europe/Paris:20251229T190000
DTSTAMP:20260424T145804
CREATED:20251118T020528Z
LAST-MODIFIED:20251118T121253Z
UID:106611-1767024000-1767034800@kultura.maribor.si
SUMMARY:Igralnica tisočerih zgodb
DESCRIPTION:Igrarije\, 2+ \nOtroci postanejo pravljičarji\, igralci in umetniki hkrati. Skupaj si izmislimo zgodbo\, narišemo njene junake\, zgradimo prizorišče in že je tu predstava\, v kateri zablestijo ter požanjejo navdušeni aplavz. \n\nPovezava do originalnega članka
URL:https://kultura.maribor.si/dogodek/igralnica-tisocerih-zgodb-2025-12-29-16-00-00-2025-12-29-19-00-00/
LOCATION:Maribor center / Vilinska igralnica
CATEGORIES:Delavnice,Dogodki,Kulturno-umetnostna vzgoja
ATTACH;FMTTYPE=image/jpeg:https://kultura.maribor.si/wp-content/uploads/2025/11/img-20241015-132522-1-scaled-jpg-20251117030009.jpg
END:VEVENT
END:VCALENDAR