BEGIN:VCALENDAR
VERSION:2.0
PRODID:-//Kultura Maribor - ECPv6.2.8.1//NONSGML v1.0//EN
CALSCALE:GREGORIAN
METHOD:PUBLISH
X-WR-CALNAME:Kultura Maribor
X-ORIGINAL-URL:https://kultura.maribor.si
X-WR-CALDESC:Events for Kultura Maribor
REFRESH-INTERVAL;VALUE=DURATION:PT1H
X-Robots-Tag:noindex
X-PUBLISHED-TTL:PT1H
BEGIN:VTIMEZONE
TZID:Europe/Paris
BEGIN:DAYLIGHT
TZOFFSETFROM:+0100
TZOFFSETTO:+0200
TZNAME:CEST
DTSTART:20220327T010000
END:DAYLIGHT
BEGIN:STANDARD
TZOFFSETFROM:+0200
TZOFFSETTO:+0100
TZNAME:CET
DTSTART:20221030T010000
END:STANDARD
END:VTIMEZONE
BEGIN:VEVENT
DTSTART;TZID=Europe/Paris:20220730T000000
DTEND;TZID=Europe/Paris:20220904T000000
DTSTAMP:20260424T032353
CREATED:20220725T121316Z
LAST-MODIFIED:20220726T082308Z
UID:24518-1659139200-1662249600@kultura.maribor.si
SUMMARY:Poletno druženje v Mestnem parku Maribor
DESCRIPTION:Narodni dom Maribor nadaljuje program Art kamp z butičnimi vikend programi Poletnega Art kampa. \nMed 9. julijem in 2. septembrom 2022\, ob sobotah in nedeljah\, med 9.00 in 20.00\, vabimo vse in vsakršne družine k pravljičnemu paviljonu v Mestnem parku Maribor\, kjer bodo izvedene koncertne poslastice\, predstave za otroke\, pravljice in plesne delavnice. \nProgram izvaja Zavod Mars in je raznolik\, konS (MKC Maribor) sodeluje s svojimi intermedijskimi delavnicami; športne\, gibalne in igralne aktivnosti organizira ŠD Junak. \n\nPovezava do originalnega članka
URL:https://kultura.maribor.si/dogodek/poletno-druzenje-v-mestnem-parku-maribor-2022-07-30-00-00-00-2022-09-04-00-00-00/
LOCATION:Delavnice za vse starosti v sodelovanju z Narodnim domom Maribor v Mestnem parku Maribor
CATEGORIES:Delavnice
ATTACH;FMTTYPE=image/jpeg:https://kultura.maribor.si/wp-content/uploads/2022/07/294682290_466351165493966_8253101928587823415_n.jpg
END:VEVENT
BEGIN:VEVENT
DTSTART;TZID=Europe/Paris:20220806T000000
DTEND;TZID=Europe/Paris:20220831T000000
DTSTAMP:20260424T032353
CREATED:20211202T143015Z
LAST-MODIFIED:20220728T100309Z
UID:12223-1659744000-1661904000@kultura.maribor.si
SUMMARY:Poletni lutkovni pristan
DESCRIPTION:33. mednarodni lutkovni festival med 6. in 31. avgustom 2022\nLutkovno gledališče Maribor prireja že 33. Poletni lutkovni pristan\, mednarodni lutkovni festival z najdaljšo tradicijo. \nNa festivalu bodo sodelovali priznani slovenski lutkovni ustvarjalci in gostje s Slovaške\, Francije\, Češke …\nTudi letos se bomo povezali s številnimi organizacijami v mestu in organizirali predstave na Art kampu v Mestnem parku\, pred Umetnostno galerijo Maribor in na odru GT 22.\nZadnji teden festivala bo organizirana petdnevna ustvarjalna delavnica\, ki jo bo letos vodila Monika Pocrnjić\, ustvarjalka na področju intermedijske umetnosti. \nPROGRAM\nVstopnice za predstave Poletnega lutkovnega pristana v Lutkovnem gledališču Maribor so po simbolični ceni 1 eur na voljo pri blagajni gledališča in na spletu\, od 1. avgusta 2022 naprej. Blagajna je odprta od torka do petka med 10. in 13. uro\, v četrtek tudi med 15. in 18. uro\, v soboto med 9. in 12. uro ter uro pred vsako predstavo. \n\n\n\n\n\n\nhttps://www.lg-mb.si/poletni-lutkovni-pristan/\n\n\n\n 
URL:https://kultura.maribor.si/dogodek/poletni-lutkovni-pristan-2022-08-01-00-00-00-2022-08-31-00-00-00/
LOCATION:Lutkovno gledališče\nVojašniški trg 2a Maribor\, Upravna enota Maribor\, 2000 Slovenia
CATEGORIES:Delavnice,Dogodki,Festivali,Gledališče,Razstave
ATTACH;FMTTYPE=image/jpeg:https://kultura.maribor.si/wp-content/uploads/2021/12/lutkovno_gledalisce_maribor_slovenia_slovenija_maribor_pohorje_bostjan_lah_2.jpg
END:VEVENT
BEGIN:VEVENT
DTSTART;TZID=Europe/Paris:20220816T100000
DTEND;TZID=Europe/Paris:20220816T123000
DTSTAMP:20260424T032353
CREATED:20220708T063950Z
LAST-MODIFIED:20220805T060928Z
UID:24222-1660644000-1660653000@kultura.maribor.si
SUMMARY:Torkova ustvarjalnica / Super Mravljinec!
DESCRIPTION:Kaj vidim tam na nebu? Je to ptica? Je to letalo? Ne\, to je Super Mravljinec! \nPrihaja naravnost iz skrivnega mestnega mravljišča\, da nas reši težav\, ki jih je povzročila Huda Mravljica! Pridružite se nam na ogledu razstave in delavnici\, kjer se bomo izgubili v magičnem svetu super herojev in se preizkusili v izdelovanju stripov. \ncena: 5 € (v ceno je vključena malica) \nprijave: 02/229 46 93 ali blagajna@ugm.si \n\nPovezava do originalnega članka
URL:https://kultura.maribor.si/dogodek/torkova-ustvarjalnica-super-mravljinec-2022-08-16-10-00-00-2022-08-16-12-30-00/
LOCATION:Maribor center / Strossmayerjeva 6
CATEGORIES:Delavnice,Dogodki
ATTACH;FMTTYPE=image/jpeg:https://kultura.maribor.si/wp-content/uploads/2022/07/c8794db0-760e-4106-84aa-bfeaab64f180.jpg
END:VEVENT
BEGIN:VEVENT
DTSTART;TZID=Europe/Paris:20220817T100000
DTEND;TZID=Europe/Paris:20220817T140000
DTSTAMP:20260424T032353
CREATED:20220705T090417Z
LAST-MODIFIED:20220805T061106Z
UID:24083-1660730400-1660744800@kultura.maribor.si
SUMMARY:Delavnica: Interaktivnost digitalnih vsebin
DESCRIPTION:Zavod MARS Maribor\, v sodelovanju z Mladinskim kulturnim centrom\, pripravlja sklop digitalnih delavnic za otroke in mlade\, ki so del projekta Prostori za brezplačno učenje otrok programiranja in robotike v času šolskih počitnic. \nKakšna je razlika med animacijo in računalniško igrico? Udeleženci se bodo srečali z digitalnimi zmožnostmi interaktivnih vsebin. S pomočjo izbrane programske opreme bodo izdelali enostavne objekte in jim določili zastavljene funkcije. \nVabljeni vsi zainteresirani\, ki vas zanima ustvarjalna raba pametnih telefonov. Spoznajte osnove fotografije\, videa in drugih aplikacij\, ki jih lahko raziskujete s pametnimi telefoni. Spletli bomo nova prijateljstva in se podali skozi različne ustvarjalne izzive. \nUdeleženci bodo ustvarjali posamično in skupinsko\, ob zaključku projekta v jesenskih počitnicah pa se bodo predstavili z mini razstavo. \nZa udeležbo je obvezna vnaprejšnja prijava\, ki jo najdete s klikom na spodnji gumb: \n\n\n\n\n\nPrijavi se\n\n\n\n\n\n  \nIzvaja: Zavod MARS Maribor\, Hana Repše\, Manja Jerič \n\n\n\n\n\n\n\n\n\n\nfoto: Zavod MARS Maribor \n\n\n\n\n\n\n\n\nPovezava do originalnega članka
URL:https://kultura.maribor.si/dogodek/delavnica-interaktivnost-digitalnih-vsebin-2022-08-17-10-00-00-2022-08-17-14-00-00/
LOCATION:Kulturni inkubator
CATEGORIES:Delavnice,Dogodki
ATTACH;FMTTYPE=image/jpeg:https://kultura.maribor.si/wp-content/uploads/2022/07/07.Interaktivnostdigitalnihvsebin.jpg
END:VEVENT
BEGIN:VEVENT
DTSTART;TZID=Europe/Paris:20220817T160000
DTEND;TZID=Europe/Paris:20220819T190000
DTSTAMP:20260424T032353
CREATED:20220811T061702Z
LAST-MODIFIED:20220811T061906Z
UID:24920-1660752000-1660935600@kultura.maribor.si
SUMMARY:Potovanje v pravljice
DESCRIPTION:POTOVANJE V PRAVLJICE je projekt\, ki je kakor potovanje načrtovan in osmišljen. Na popotovanju spoznamo nekaj novega in se sprostimo\, pot pa nas napolni\, osreči\, je kratka in lepa. Projekt Potovanje v pravljice je brezplačno\, zdravo in zanimivo srečanje s knjigo\, s pravljico\, s pripovedjo\, s kamišibajem\, s poezijo\, z zgodbo\, z različnimi avtorji\, v mirnem in sproščenem vzdušju Mestnega parka Maribor\, na sredini promenade. \nNa Pravljičnem potovanju bodo obiskovalci skozi vodene pravljice\, zgodbe\, pogovore\, predstavitve\, predstave in kamišibaj\, spoznali različne slovenske avtorje\, literaturo za otroke\, mladino in odrasle. Od blizu se bodo predstavili pisatelji\, pesniki\, ilustratorji\, pripovedovalci in ustvarjalci kamišibaja. Zasnovali smo različne teme\, s katerimi se bodo lahko literarni avtorji in izvajalci povezali in nato poglobili v doživetje pravljičnega potovanja skupaj z obiskovalci. Na dogodkih bodo prisotne tudi založbe\, ki bodo promovirale svoje dejavnosti\, obiskovalcem pa tako ponudile možnost nakupa kvalitetne literature. Pridružili se bodo zavodi\, ki se ukvarjajo s spodbujanjem bralne kulture ter knjižnice – k sodelovanju smo povabili Mariborske knjižnice in Univerzitetno knjižnico. \nSpremljevalna aktivnost projekta: na voljo bo pester nabor knjig\, revij in časopisov za prebiranje. \nZ literarnimi predlogami in slovenskim jezikom utrjujemo interdisciplinarnost in kulturno-umetnostno vzgojo. \nV bralno kulturo projekta želimo vključiti celotno knjižno verigo\, ki vključuje avtorje\, založnike\, knjigotržce\, knjižnice in bralce – le tako je knjižni krog sklenjen in veriga trdna. \nV prvi vrsti je projekt namenjen razvijanju bralne kulture in uveljavljanju literarne ustvarjalnosti na mariborskem območju. \nOsnovni namen projekta je obiskovalcem približati knjigo\, pravljice\, pripovedi\, zgodbe ter poezijo in ponuditi kakovostna\, priznana dela iz področja literature in besedne umetnosti. \nProjekt povezuje otroke\, mladino in odrasle\, saj si skozi bogato vsebino in aktivnosti prav vsak najde nekaj\, kar mu je zanimivo. \nProjekt spodbuja promocijo ter podpira in pospešuje razvoj bralne kulture. \n“Pravljice otrok ne naučijo\, da zmaji obstajajo\, otroci to že vedo. Naučijo jih\, da je zmaje mogoče premagati.” pravi angleški pisatelj Gilbert Keith​ Chesterton. Pripovedovanje pravljic otroka sprosti\, mu da občutek varnosti\, kar pozitivno vpliva tudi na njegovo čustveno doživljanje\, vživljanje v posamezne junake\, domišljijsko ustvarjanje\, iskanje novih\, nenavadnih povezav ter odnosov in je zelo pomembno za kasnejše razumevanje bolj celovitih tekstov ter samostojno ustvarjanje besedil. Otroci ne morejo vzljubiti knjig\, ali se ukvarjati s pisanjem\, če jim ne beremo pravljic. \nNamen projekta je\, da vzljubimo knjige\, pisanje\, besedo\, leposlovje\, postanemo kritični\, radovedni posamezniki. Spodbujamo vseživljenjsko učenje in raziskovanje ter nudimo prostor za druženje in kakovostno preživljanje prostega časa posameznika. \n  \n  \n PROGRAM PROJEKTA POTOVANJE V PRAVLJICE \n  \nPotovanje v morske pravljice z Zdenko Gajser (za otroke) \n\n 8.\, 16.00\n\n Odsanjajmo v morje\, pustimo sanjati\, zaplavajmo v pravljico Punja in morski psi. \n ◊ Zdenka Gajser \n  \nTok\, tok pravljice – kamišibaj (za otroke in odrasle) \n\n 8.\, 17.00\n\nKamišibaj je posebna umetniška oblika\, ki tradicionalno izvira z Japonske. Majhna po svojih izmerah\, a velika po svojih zmožnostih. To je pripovedovanje zgodb ob slikah na malem lesenem odru ali butaju. Metka Damjan je kamišibajkarka\, ki prihaja z malho\, polno zgodb. \n◊ Metka Damjan\, samozaposlena v kulturi  \n  \nPovem ti zgodbo s Tonetom Partljičem – pripovedovanje zgodb (za odrasle) \n\n 8.\, 18.00\n\nZgodbe so univerzalno orodje\, ki ga človeštvo že od svojih začetkov uporablja za osmišljanje sveta\, prenašanje znanja in ustvarjanje pomena. Z njimi se prenašajo kultura\, zgodovina in vrednote\, ki povezujejo ljudi med seboj (Maruša Grah). \n◊ Tone Partljič \n  \n  \nPotovanje v poletne pravljice z Alenko Spacal (za otroke) \n\n 8.\, 16.00\n\n Odpotujmo na poletni izlet s Fižolčico. \n◊ Alenka Spacal \n  \n DVA KAMIŠIBAJA\, DA O TRETJEM SPLOH NE GOVORIMO – pripovedovanje zgodb ob slikah (za otroke in odrasle) \n\n 8.\, 17.00\n\n Robert bo s pomočjo tradicionalne japonske pripovedne tehnike kamišibaj uprizoril dve zgodbi. Afriško ljudsko pravljico Prepir in Paglavčevo obljubo\, angleške avtorice Jeanne Willis. \nV Prepiru bomo izvedeli\, kateri del človeškega telesa je najpomembnejši. Druga zgodba nas bo učila\, kako je z obljubami. Pripoved o spreminjanju sveta in o obstanku ljubezni skozi žabjo perspektivo. \n◊ Robert Kereži\, Mariborska knjižnica \n  \nPovem ti zgodbo z Borutom Gombačem – pripovedovanje zgodb za velike zgodbokusce (odrasle) \n\n 8.\, 18.00\n\n Na plesišču obraza\, nekje pod nosom\, nenadoma divje zacepeta kocina\, potem se ji v divjem plesu pridruži še ena\, pa še ena in še ena in še ena in … In kmalu je tam okoli ust nora zabava stoterih broneno sivih dlak\, ki se zvijajo v vse smeri sveta hkrati. To je brada\, njen rahlo prestrašeni\, a ponosni lastnik\, pa bradač s priimkom (in rimo na) Gombač. \nTa tip\, ki se ta hip skupaj z očali kratkovidno nagiba v računalnik\, čeprav niti slučajno ni kakšen super čip\, da bi zaradi njega vse računalnikove tipke postale čipke\, ampak čisto povprečen človečnjak\, je povedal\, da mu je ime Borut. \n◊ Borut Gombač \n  \n Pravljica o možaku\, ki je gradil hišo (za otroke) \n\n 8.\, 16.00\n\n »Nekoč je živel možak\, ki se dolgo hudoval zaradi hiše\, v kateri je živel. Bila je namreč zelo majhna in skromna.« Tako se začne slikanica švedske avtorice Anne Höglund. Možak se z velikim navdušenjem in številnimi gradbeniki loti gradnje nove hiše. Prepričan je\, da bo velikanska hiša končno v skladu z njegovo osebnostjo. A kljub neštetim risbam in izračunom ne gre vse po načrtih. Ravno nasprotno! \nMedtem\, ko sanja o popolnosti\, čas teče in življenje mineva. Je možak pozabil na to\, kar je zares pomembno? \nPo pravljici sledi ustvarjalna delavnica izdelovanja hiške po želji. \n◊ Založba Pivec \n  \n Kam pa kam\, kamišibaj? z Malim pa papirnatim gledališčem – pripovedovanje zgodb (za otroke in odrasle) \n\n 8.\, 17.00\n\nKamišibaj je posebna umetniška oblika\, majhna po svojih izmerah\, a velika po svojih zmožnostih. Je pripovedovanje zgodb ob slikah na malem lesenem odru butaj\, ki tradicionalno izvira iz Japonske. Zgodbe\, ki se ujamejo v to malo gledališče\, so zelo različne\, od ljudskih\, avtorskih\, takih za odrasle\, do poezije. Najraje pa pripovedujemo take\, ki so za vso družino. V Mariboru deluje Malo pa papirnato gledališče\, ki združuje pripovedovalce in pripovedovalke različnih slogov\, vsem pa je skupna okuženost z virusom kamišibaja.\nŠpela Hren Juhart in Tanja Lužar sta navdušeni kamišibajkarki\, ki šibata med zgodbami sem ter tja in opozarjata\, kamišibaj je nalezljiv in neozdravljiv. \n◊Špela Hren Juhart\, Tanja Lužar\, Malo pa papirnato gledališče \n  \nPovem ti zgodbo z Vidom Kmetič – pripovedovanje zgodb za velike zgodbokusce (za odrasle) \n\n 8.\, 18.00\n\nFünfek ma vas rad – pa pohano tudi je zbirka 69-ih krajših zgodb\, na prvi pogled nepovezanih\, a jih kljub temu veže nekaj skupnega. So rezultat avtorjeve “krize srednjih let”\, ki pa jo sam imenuje raje kar sreda\, saj se mu zdi beseda kriza preveč negativna\, kar pa srednja leta nikakor niso – prej nasprotno. Nekatere zgodbe so izmišljene\, nekatere najdene v spominski knjigi možganov\, dosti jih je namenil svojemu mestu. Vmes je nekaj popolnih nebuloz\, pa tudi kakšen odziv na aktualne dogodke in odraz današnjega časa. Velika večina jih je začinjenih s kančkom humorja\, (samo)ironije in mestoma tudi sarkazma. \n◊ Vid Kmetič \n  \nTIHA MISEL –  UGLASBENA POEZIJA SREČKA KOSOVELA\, koncert (za otroke in odrasle) \n\n 8.\, 19.00\n\n V njej bije tiha misel in jo vabi v nedrja. Poezije\, glasbe\, občutka življenja\, kajti brez nje je vse mimobežen stih\, vržen v veter. Brezsmiselnost bivanja\, v katerem je vse težje najti mir\, upanje\, hrepenenja. Zato Nika Solce živi v polnem pomenu in v zavetju lastne osame prisluškuje\, kaj ji šepetajo zvezde ter se zbližuje s tistimi\, ki vabijo na potovanja. Kajti bolj kot vse\, se zaveda\, da smo utrinek. Utrinek\, ki za trenutek zablesti in brž zatem že odide v pozabo. \n ◊ Nika Solce \n  \nProjekt je podprt s finančno podporo Mestne občine Maribor\, v sodelovanju Zavoda MARS Maribor\, Mariborske knjižnjice\, Založbe Pivec in Narodnega doma Maribor.
URL:https://kultura.maribor.si/dogodek/potovanje-v-pravljice/
LOCATION:Maribor center / Mestni park Maribor
CATEGORIES:Delavnice,Dogodki,Literatura
ATTACH;FMTTYPE=image/jpeg:https://kultura.maribor.si/wp-content/uploads/2022/08/Potovanje-v-pravljice-2.jpg
END:VEVENT
BEGIN:VEVENT
DTSTART;TZID=Europe/Paris:20220818T090000
DTEND;TZID=Europe/Paris:20220818T103000
DTSTAMP:20260424T032353
CREATED:20220705T061543Z
LAST-MODIFIED:20220809T123140Z
UID:24054-1660813200-1660818600@kultura.maribor.si
SUMMARY:Mali ustvarjalci // Katapult
DESCRIPTION:MKC Maribor in Mali ustvarjalci v poletnih mesecih vabimo na brezplačne LEGO delavnice\, na katerih se bodo mladi raziskovalci (8-16 let) srečali z zanimivimi načrti\, poučnimi nalogami in super idejami.  \nNa delavnici se bomo srečali z zanimivimi načrti\, poučnimi nalogami in super idejami. Naučili se bomo veliko s področja robotike in programiranja\, se malo poigrali in ob tem neizmerno zabavali. Pri delu bomo uporabljali Lego izobraževalne komplete Mindstorms ter računalnike. Na delavnici bomo sestavili katapulte in le-te programirali\, da bomo dosegli želeno premikanje. Mladi pri sestavljanju sledijo svoji domišljiji\, mentor pa jim pri tem pomaga z nasveti in jih po potrebi usmerija. Ob delu se udeleženci naučijo\, kako delujeta mehanika in \nprogramiranje. \nVabljeni ste prav vsi – tisti brez predhodnega znanja\, kot tudi tisti\, ki ste se naših delavnic že udeležili in ste si nekaj znanja s področja robotike in programiranja že pridobili\, saj je kombinacij s kockami in programiranjem veliko in ne more se nam zgoditi\, da nam bi zmanjkalo idej. \nVabimo vse otroke stare med 8 in 16 let. Mentor se bo na delavnici posvetil vsakemu posebej in mu dodelil delo\, ki je zanj primerno. \nZa udeležbo je obvezna vnaprejšnja prijava\, ki jo najdete s klikom na spodnji gumb: \n\n\n\n\n\nPrijavi se\n\n\n\n\n\n  \nVeč informacij o delavnicah najdete na spletni strani maliustvarjalci.si. \n\n\n\n\n\n\n\n\n\n\n\n\n\n\n\n\nPovezava do originalnega članka
URL:https://kultura.maribor.si/dogodek/mali-ustvarjalci-katapult-2022-08-18-09-00-00-2022-08-18-10-30-00/
LOCATION:Kulturni inkubator
CATEGORIES:Alternativa,Delavnice,Dogodki
ATTACH;FMTTYPE=image/png:https://kultura.maribor.si/wp-content/uploads/2022/07/MKC3-1.png
END:VEVENT
END:VCALENDAR