BEGIN:VCALENDAR
VERSION:2.0
PRODID:-//Kultura Maribor - ECPv6.2.8.1//NONSGML v1.0//EN
CALSCALE:GREGORIAN
METHOD:PUBLISH
X-WR-CALNAME:Kultura Maribor
X-ORIGINAL-URL:https://kultura.maribor.si
X-WR-CALDESC:Events for Kultura Maribor
REFRESH-INTERVAL;VALUE=DURATION:PT1H
X-Robots-Tag:noindex
X-PUBLISHED-TTL:PT1H
BEGIN:VTIMEZONE
TZID:Europe/Paris
BEGIN:DAYLIGHT
TZOFFSETFROM:+0100
TZOFFSETTO:+0200
TZNAME:CEST
DTSTART:20220327T010000
END:DAYLIGHT
BEGIN:STANDARD
TZOFFSETFROM:+0200
TZOFFSETTO:+0100
TZNAME:CET
DTSTART:20221030T010000
END:STANDARD
END:VTIMEZONE
BEGIN:VEVENT
DTSTART;TZID=Europe/Paris:20220730T000000
DTEND;TZID=Europe/Paris:20220904T000000
DTSTAMP:20260425T224733
CREATED:20220725T121316Z
LAST-MODIFIED:20220726T082308Z
UID:24518-1659139200-1662249600@kultura.maribor.si
SUMMARY:Poletno druženje v Mestnem parku Maribor
DESCRIPTION:Narodni dom Maribor nadaljuje program Art kamp z butičnimi vikend programi Poletnega Art kampa. \nMed 9. julijem in 2. septembrom 2022\, ob sobotah in nedeljah\, med 9.00 in 20.00\, vabimo vse in vsakršne družine k pravljičnemu paviljonu v Mestnem parku Maribor\, kjer bodo izvedene koncertne poslastice\, predstave za otroke\, pravljice in plesne delavnice. \nProgram izvaja Zavod Mars in je raznolik\, konS (MKC Maribor) sodeluje s svojimi intermedijskimi delavnicami; športne\, gibalne in igralne aktivnosti organizira ŠD Junak. \n\nPovezava do originalnega članka
URL:https://kultura.maribor.si/dogodek/poletno-druzenje-v-mestnem-parku-maribor-2022-07-30-00-00-00-2022-09-04-00-00-00/
LOCATION:Delavnice za vse starosti v sodelovanju z Narodnim domom Maribor v Mestnem parku Maribor
CATEGORIES:Delavnice
ATTACH;FMTTYPE=image/jpeg:https://kultura.maribor.si/wp-content/uploads/2022/07/294682290_466351165493966_8253101928587823415_n.jpg
END:VEVENT
BEGIN:VEVENT
DTSTART;TZID=Europe/Paris:20220806T000000
DTEND;TZID=Europe/Paris:20220831T000000
DTSTAMP:20260425T224733
CREATED:20211202T143015Z
LAST-MODIFIED:20220728T100309Z
UID:12223-1659744000-1661904000@kultura.maribor.si
SUMMARY:Poletni lutkovni pristan
DESCRIPTION:33. mednarodni lutkovni festival med 6. in 31. avgustom 2022\nLutkovno gledališče Maribor prireja že 33. Poletni lutkovni pristan\, mednarodni lutkovni festival z najdaljšo tradicijo. \nNa festivalu bodo sodelovali priznani slovenski lutkovni ustvarjalci in gostje s Slovaške\, Francije\, Češke …\nTudi letos se bomo povezali s številnimi organizacijami v mestu in organizirali predstave na Art kampu v Mestnem parku\, pred Umetnostno galerijo Maribor in na odru GT 22.\nZadnji teden festivala bo organizirana petdnevna ustvarjalna delavnica\, ki jo bo letos vodila Monika Pocrnjić\, ustvarjalka na področju intermedijske umetnosti. \nPROGRAM\nVstopnice za predstave Poletnega lutkovnega pristana v Lutkovnem gledališču Maribor so po simbolični ceni 1 eur na voljo pri blagajni gledališča in na spletu\, od 1. avgusta 2022 naprej. Blagajna je odprta od torka do petka med 10. in 13. uro\, v četrtek tudi med 15. in 18. uro\, v soboto med 9. in 12. uro ter uro pred vsako predstavo. \n\n\n\n\n\n\nhttps://www.lg-mb.si/poletni-lutkovni-pristan/\n\n\n\n 
URL:https://kultura.maribor.si/dogodek/poletni-lutkovni-pristan-2022-08-01-00-00-00-2022-08-31-00-00-00/
LOCATION:Lutkovno gledališče\nVojašniški trg 2a Maribor\, Upravna enota Maribor\, 2000 Slovenia
CATEGORIES:Delavnice,Dogodki,Festivali,Gledališče,Razstave
ATTACH;FMTTYPE=image/jpeg:https://kultura.maribor.si/wp-content/uploads/2021/12/lutkovno_gledalisce_maribor_slovenia_slovenija_maribor_pohorje_bostjan_lah_2.jpg
END:VEVENT
BEGIN:VEVENT
DTSTART;TZID=Europe/Paris:20220811T190000
DTEND;TZID=Europe/Paris:20220811T190000
DTSTAMP:20260425T224733
CREATED:20220808T111318Z
LAST-MODIFIED:20220809T123444Z
UID:24837-1660244400-1660244400@kultura.maribor.si
SUMMARY:ESKAWATA KAYAWAI - duh sprememb
DESCRIPTION:V teh dneh je v Sloveniji na obisku Patrick Belem\, brazilski novinar\, glasbenik in avtor  filma “ESKAWATA KAYAWAI – THE SPIRIT OF TRANSFORMATION“\, na katerega ogled vas vljudno vabimo.\n\nPatrick Belem bo v sklopu evropske predstavitvene turneje dokumentarca\, slovenski javnosti premierno predstavil dokumentarec o življenju in tradiciji plemena Huni Kuin. Pleme Huni Kuin živi globoko v amazonskem pragozdu od koder širijo zgodbo o svoji kulturni dediščini\, spiritualnosti ter transformaciji\, ki so jo doživeli kot skupnost. \nProgram: \n\npredvajanje filma\,\nQ&A pogovorno srečanje s Patrickom\,\nprikaz orodij za izvajanje svetih obredov s tradicionalno medicino\nglasbeni nastop s kitaro in flavto\,\nrazstava fotografij\, ki pričajo o življenju tega plemena.\n\nVeseli bomo vaše odločitve\, da povabilo k ogledu pošljete tudi svojim prijateljem in s svojo angažiranostjo pri promociji dogodka\, tudi sami prispevate k varovanju amazonskega pragozda.\nZa ogled filma se zbirajo prostovoljni prispevki.\nNa povezavi posredujemo kratek sinopsis in predstavitev snemalne ekipe. \n\n\nOrganizacija: Alen Ivankovič. \nDodatne informacije: 051 645 930 \nEmail: kaxinawa.si@gmail.com \n\n\n\nPovezava do originalnega članka
URL:https://kultura.maribor.si/dogodek/eskawata-kayawai-duh-sprememb-2022-08-11-19-00-00/
LOCATION:Večnamenska dvorana
CATEGORIES:Delavnice,Dogodki
ATTACH;FMTTYPE=image/jpeg:https://kultura.maribor.si/wp-content/uploads/2022/08/Ninawa_b.jpg
END:VEVENT
END:VCALENDAR