BEGIN:VCALENDAR
VERSION:2.0
PRODID:-//Kultura Maribor - ECPv6.2.8.1//NONSGML v1.0//EN
CALSCALE:GREGORIAN
METHOD:PUBLISH
X-WR-CALNAME:Kultura Maribor
X-ORIGINAL-URL:https://kultura.maribor.si
X-WR-CALDESC:Events for Kultura Maribor
REFRESH-INTERVAL;VALUE=DURATION:PT1H
X-Robots-Tag:noindex
X-PUBLISHED-TTL:PT1H
BEGIN:VTIMEZONE
TZID:Europe/Paris
BEGIN:DAYLIGHT
TZOFFSETFROM:+0100
TZOFFSETTO:+0200
TZNAME:CEST
DTSTART:20260329T010000
END:DAYLIGHT
BEGIN:STANDARD
TZOFFSETFROM:+0200
TZOFFSETTO:+0100
TZNAME:CET
DTSTART:20261025T010000
END:STANDARD
END:VTIMEZONE
BEGIN:VEVENT
DTSTART;TZID=Europe/Paris:20260120T180000
DTEND;TZID=Europe/Paris:20260505T180000
DTSTAMP:20260426T055546
CREATED:20260114T020327Z
LAST-MODIFIED:20260119T084615Z
UID:111337-1768932000-1778004000@kultura.maribor.si
SUMMARY:Podobe iz Theresienstadta. Risarski dnevnik Gisele Rottonara (1873–1943)
DESCRIPTION:Odprtje razstaveV sklopu prireditev Šoa – spominjajmo se\, s katerimi v Sloveniji obeležujemo mednarodni dan spomina na žrtve holokavsta\, vas vabimo na odprtje razstave Podobe iz Theresienstadta. Risarski dnevnik Gisele Rottonara (1873–1943). \nOdprtje bo v torek\, 20. januarja 2026\, ob 18. uri v Sinagogi Maribor. \nRazstavo bo odprl dr. Konrad Bühler\, veleposlanik Republike Avstrije v Sloveniji\, predstavil pa jo bo njen kurator dr. Benjamin Grilj z Inštituta za judovsko zgodovino Avstrije v St. Pöltnu. Nekaj besed o razstavi bo spregovorila tudi Elfriede Kreuzer\, lastnica risb. \nV kulturnem programu bodo nastopili dijaki Prve gimnazije Maribor pod mentorstvom Brigite Praprotnik in Sanje Šabeder Jaušovec ter violinist Matjaž Antončič in pianist Adam Kamplet. \nPrijazno vabljeni! \nOdprtje razstave so podprli Inštitut za judovsko zgodovino Avstrije\, dežela Spodnja Avstrija\, Avstrijski kulturni forum in Avstrijsko veleposlaništvo v Ljubljani ter Sinagoga Maribor in MOM. \n\nPovezava do originalnega članka
URL:https://kultura.maribor.si/dogodek/podobe-iz-theresienstadta-risarski-dnevnik-gisele-rottonara-1873-1943-2026-01-20-18-00-00-2026-01-20-00-00-00/
LOCATION:Maribor center / Židovska ulica 4
CATEGORIES:Dogodki,Razstave
ATTACH;FMTTYPE=image/jpeg:https://kultura.maribor.si/wp-content/uploads/2026/01/b4ee3d51-e6f7-4dc9-84c0-d542e9ef56d7.jpg
END:VEVENT
BEGIN:VEVENT
DTSTART;TZID=Europe/Paris:20260327T190000
DTEND;TZID=Europe/Paris:20260508T190000
DTSTAMP:20260426T055546
CREATED:20260326T133417Z
LAST-MODIFIED:20260326T133417Z
UID:117432-1774638000-1778266800@kultura.maribor.si
SUMMARY:Razstava Dominik Štibernik: AVTOR
DESCRIPTION:Umetniška praksa Dominika Štibernika je pogosto povezana s pojmi\, kot sta praznina ali manko. Tam\, kjer bi morda pričakovali umetniški objekt\, se namesto tega pogosto pojavi odsotnost. Posledično se pričakovanje in želja premakneta na rob galerijskega prostora — v nestabilne\, prehodne in obrobne dimenzije izkušnje. \nVendar pa bo obiskovalec\, ki bi takšno razočaranje pričakoval\, na razstavi Avtor v Galeriji Tkalka najverjetneje ostal brez njega — ali pa se bo vsaj nepričakovano soočil z lastnim zgrešenim pričakovanjem. Z deli\, kot so Selfie (2025)\, Herbarij (2026)\, Bela slika (2025) ter Umetnikova gesta I in II (2026)\, umetnik vstopa v nekoliko drugačno ustvarjalno fazo. V tem okviru še posebej izstopa delo Bela slika: nedotaknjeno belo platno\, ki ga umetnik pusti zavito v originalno embalažo in ga kot takega zapre v pleksi stekleno škatlo. Delo se umešča v način produkcije\, ki je Štiberniku že dolgo blizu\, vendar se tukaj razkriva na nov način — kot presečišče njegovega prepoznavnega »zgodnejšega« pristopa in trenutnega premika v razmišljanju. Ta premik se bolj neposredno ukvarja z vprašanji avtorstva\, avtoritete umetnikove odločitve ali konceptualnega namena\, hkrati pa odpira razmislek o strukturah moči\, vpisanih v umetnostno zgodovino. Nedvomno najbolj izstopajoče delo na razstavi je hiperrealistični avtoportret Selfie\, ki neposredno in brez zadržkov postavlja vprašanje: ali je biti »velik umetnik« nekaj resničnega in avtentičnega ali zgolj prepričljivo uprizorjena predstava za množice? \nKurator: Niko ČajičUmetnik: Dominik Štibernik \n\nPovezava do originalnega članka
URL:https://kultura.maribor.si/dogodek/razstava-dominik-stibernik-avtor/
LOCATION:Maribor center / Galerija Tkalka\, Tkalski prehod 4\, 2000 Maribor
CATEGORIES:Dogodki,Razstave
ATTACH;FMTTYPE=image/png:https://kultura.maribor.si/wp-content/uploads/2026/03/Posnetek-zaslona-2026-03-26-143245.png
END:VEVENT
BEGIN:VEVENT
DTSTART;TZID=Europe/Paris:20260330T100000
DTEND;TZID=Europe/Paris:20260424T170000
DTSTAMP:20260426T055546
CREATED:20260325T020115Z
LAST-MODIFIED:20260326T122855Z
UID:116954-1774864800-1777050000@kultura.maribor.si
SUMMARY:Razstava Čebele – Naše življenje
DESCRIPTION:Na osnovi potrditve Generalne skupščine Organizacije združenih narodov\, so članice 20. decembra 2017\, soglasno potrdile predlog Slovenije in 20. maj razglasile za svetovni dan čebel. \nLeta 2019 je bila prva razstava na tematiko in z naslovom ČEBELE- NAŠE ŽIVLJENJE postavljena v galeriji ATTEMS na gradu Štatenberg\, kjer so jo slavnostno odprli podpredsednik Čebelarske zveze Slovenije g.  Janez Vencelj\, evropska poslanka ga. Tanja Fajon in član vlade g. Milan Brglez. \nRazstava je kasneje v organizaciji Likovnega društva PALETA Slovenska Bistrica potovala v lokalne šole in vrtce\, vključno z otroškimi delavnicami in društvenimi mentorji\, v Čebelarsko društvo Slovenska Bistrica in  Čebelarsko zvezo  v Lukovici\, predstavljena na tradicionalni prireditvi Podobe bistriških domačij\, otvoritvi šolskega čebelnjaka v OŠ Pohorskega odreda\, v prostorih Ministrstva za kmetijstvo gozdarstvo in prehrano v Ljubljani\, Mozirskem gaju v Mozirju. Zadnja 21. razstava je bila postavljena na ljubljanskem gradu na mednarodni prireditvi ZLATA ČEBELA ob podelitvi le-te poljski čebelarski zvezi. \n\nPovezava do originalnega članka
URL:https://kultura.maribor.si/dogodek/razstava-cebele-nase-zivljenje-2026-03-30-10-00-00-2026-03-30-17-00-00-2/
LOCATION:Maribor center / Vodni stolp
CATEGORIES:Dogodki,Razstave
ATTACH;FMTTYPE=image/jpeg:https://kultura.maribor.si/wp-content/uploads/2026/03/cebele01-jpg.jpg
END:VEVENT
BEGIN:VEVENT
DTSTART;TZID=Europe/Paris:20260331T100000
DTEND;TZID=Europe/Paris:20260507T150000
DTSTAMP:20260426T055546
CREATED:20260331T020256Z
LAST-MODIFIED:20260331T072349Z
UID:117756-1774951200-1778166000@kultura.maribor.si
SUMMARY:Ženske in brezdomstvo
DESCRIPTION:Na razstavi so predstavljene fotografije žensk iz sedmih različnih držav z izkušnjo brezdomstva\, ki so sodelovale v mednarodnem projektu. \nVabljeni na razstavo na temo ženskega brezdomstva. Na razstavi so predstavljene fotografije žensk iz sedmih različnih držav z izkušnjo brezdomstva\, ki so sodelovale v mednarodnem projektu. \nS projektom želimo opozoriti na žensko plat zgodbe\, njeno ranljivost in drugačnost v primerjavi z moško. Kdo je ženska\, ki nima doma\, in kaj to zanjo pomeni? Kaj pomeni živeti na ulici\, biti v moškem zavetišču ali živeti pri partnerju\, ki te pretepa in žali\, a je to še vedno manj nevarno kot ulica?\nKdo so ženske\, ki so za večino nevidne? \nS tem projektom jim želimo dati glas in prostor. \nProjekt Erasmus+ Ženske in brezdomstvo je povezal osem organizacij iz osmih držav ter omogočil dragoceno izmenjavo znanja in praks na skupnih izobraževalnih sejah med projektom \n\nPovezava do originalnega članka
URL:https://kultura.maribor.si/dogodek/zenske-in-brezdomstvo-2026-03-31-10-00-00-2026-03-31-15-00-00/
LOCATION:Maribor center / Razstavišče Vetrinjski
CATEGORIES:Dogodki,Razstave
ATTACH;FMTTYPE=image/jpeg:https://kultura.maribor.si/wp-content/uploads/2026/03/slika-razstava-jpg-6.jpg
END:VEVENT
BEGIN:VEVENT
DTSTART;TZID=Europe/Paris:20260331T100000
DTEND;TZID=Europe/Paris:20260508T150000
DTSTAMP:20260426T055546
CREATED:20260331T020339Z
LAST-MODIFIED:20260331T072824Z
UID:117775-1774951200-1778252400@kultura.maribor.si
SUMMARY:»NAGRAJENKE DLUM 2025 – Intimna materija:  Natalija R. Črnčec\, Katja Majer\, Slađana Matić Trstenjak«
DESCRIPTION:Vljudno vabljeni na otvoritev razstave v torek\, 31. 3. 2026\, ob 18. uri\, v Galeriji DLUM\, Židovska ul. 10\, Maribor. Kurator razstave: Mario Berdič Codella. \nRazstava bo na ogled do 8. 5. 2026\, od torka do petka\, med 10. in 15. uro\, ob sobotah\, med 10. in 13. uro. \nOrganizator: Društvo likovnih umetnikov Maribor – Društvo DLUM. \n\nPovezava do originalnega članka
URL:https://kultura.maribor.si/dogodek/nagrajenke-dlum-2025-intimna-materija-natalija-r-crncec-katja-majer-sla-ana-mati-trstenjak-2026-03-31-10-00-00-2026-05-08-15-00-00-2/
LOCATION:Maribor center / Galerija DLUM\, Židovska ul. 10\, Maribor.
CATEGORIES:Dogodki,Razstave
ATTACH;FMTTYPE=image/jpeg:https://kultura.maribor.si/wp-content/uploads/2026/03/f8022522-d3c8-4750-a719-234e10932344-1.jpg
END:VEVENT
BEGIN:VEVENT
DTSTART;TZID=Europe/Paris:20260402T000000
DTEND;TZID=Europe/Paris:20260425T235900
DTSTAMP:20260426T055546
CREATED:20260326T020114Z
LAST-MODIFIED:20260326T123501Z
UID:117217-1775088000-1777161540@kultura.maribor.si
SUMMARY:Razstava ilustracij Darke Erdelji\, Teje Milavec in Tamare Rimele
DESCRIPTION:2. april\, mednarodni dan knjig za otroke \nV Mariborski knjižnici pripravljamo veliko razstavo ilustracij Darke Erdelji\, Teje Milavec in Tamare Rimele\, ki se bo skupaj s programom selila po Mariboru vse do jeseni. Pripravljamo jo ob 2. aprilu\, ko obeležujemo mednarodni dan knjig za otroke in svetovni dan zavedanja o avtizmu na pobudo Mednarodne zveze za mladinsko književnost IBBY. \nRazstava bo na ogled na trgu Leona Štuklja od 2. do 25. aprila 2026. \nOd aprila do konca maja tudi v Pionirski knjižnici (TPC City)\, Pionirski knjižnici Nova vas\, Knjižnici Nova vas\, Knjižnici Tabor\, Knjižnici Kamnica\, Knjižnici Pobrežje\, Knjižnici Tezno\, Knjižnici Pekre\, Knjižnici Hoče\, Knjižnici Pesnica\, Knjižnici Studenci\, Knjižnici Bistrica ob Dravi\, Knjižnici Šentilj\, Knjižnici Lovrenc na Pohorju\, Knjižnici Duplek\, Knjižnici Janka Glazerja Ruše\, Knjižnici Selnica ob Dravi\, Knjižnici Rače in Knjižnici Kungota. \nVabljeni na ogled! \n\nPovezava do originalnega članka
URL:https://kultura.maribor.si/dogodek/razstava-ilustracij-darke-erdelji-teje-milavec-in-tamare-rimele-2026-04-02-00-00-00-2026-04-25-23-59-00-2/
LOCATION:Maribor center / Trg Leona Štuklja\, Maribor
CATEGORIES:Dogodki,Razstave
ATTACH;FMTTYPE=image/jpeg:https://kultura.maribor.si/wp-content/uploads/2026/03/e2d9a098-c9a4-44dc-a823-6ee5ec10eefe-1.jpg
END:VEVENT
BEGIN:VEVENT
DTSTART;TZID=Europe/Paris:20260407T180000
DTEND;TZID=Europe/Paris:20260430T150000
DTSTAMP:20260426T055546
CREATED:20260319T020902Z
LAST-MODIFIED:20260324T094008Z
UID:116206-1775584800-1777561200@kultura.maribor.si
SUMMARY:[Kulturni inkubator] Stella Klajnšek: Črno-belo. Razen če ni.
DESCRIPTION:RAZSTAVA STELLE KLAJNŠEK\nČRNO-BELO. RAZEN ČE NI.\nOtvoritev: Torek\, 7. aprila 2026 // ob 18.00 // Kulturni inkubator \nV torek\, 7. aprila 2026\, se ob 18. uri v Kulturnem inkubatorju odpira razstava Črno-belo. Razen če ni. Avtorica je mlada umetnica Stella Klajnšek\, ki je enega svojih največjih hobijev – risanje – pretvorila v samostojno razstavo. Ta bo na ogled do konec aprila\, vstop je brezplačen. \nStella Klajnšek je stara devetnajst let\, risanje pa je eden izmed njenih največjih hobijev. Z umetnostjo se ukvarja že od malih nog. \nSpomnim se poletij\, ko sva z babico skupaj preživljali čas ob slikanju. Prav njej se lahko zahvalim za svojo ljubezen do umetnosti\, saj me je kljub moji otroški nerodnosti\, čečkarijam in popačenim risbam vedno potrpežljivo spodbujala\, naj vztrajam in nadaljujem svojo risarsko pot. \nČez nekaj časa je Stella Klajnšek čopič za nekaj časa odložila in odkrila veselje do risanja s svinčnikom. Nastajalo je vedno več risb\, vendar kljub temu nad svinčnikom ni bila popolnoma navdušena. Imela jem občutek\, da še vedno išče nekaj\, kar bi jo pri risanju resnično navdihnilo. Lahko bi rekli\, da ji je majhna škatlica z ogljem\, ki jo je dobila za rojstni dan\, odprla nove možnosti za moje ustvarjanje. \n\n\n\n\n\n\nOglje mi je bilo vedno predstavljeno kot nekaj s čimer človek ustvarja abstraktne risbe\, saj se hitro lomi in ni primeren za detajle. Kljub temu sem se odločila\, da me to nebo ustavilo in da bom le poskusila nekaj narisati. Končni izid mojega poskus ni bil le en izdelek\, temveč nov najljubši stil in rastoča kolekcija risb. \nSkozi odraščanje ni razvila ljubezni samo do ustvarjanja\, ampak tudi do sveta\, ki nas obkroža. Obkroženi smo z naravo in živalmi\, česar se včasih sploh ne zavedamo. Prav zato so nastale risbe\, ki jih je združila v razstavo z naslovom Črno-belo. Razen če ni. Meni\, da ljudje naravne lepote več ne znamo ceniti in jo izkoriščamo ter spreminjamo v nekaj monotonega. \nMoje risbe prikazujejo svet\, na katerega pomisli vsak tretji človek\, pa še to takrat ko je že prepozno. Želim prikazati nekaj kar mi pomeni veliko in kar bi moralo biti na prvem mestu\, ko pomislimo posegati v naravo. Prav zato rišem vse vrste živali\, od morskih do tistih\, ki krožijo po zraku\, saj so vse vredne našega občudovanja. \nPrvo delo Stelle Klajnšek iz kolekcije\, s katero se ukvarja že dve leti in vsebuje 18 del\, je bil majhen kenguru. Skozi svoja dela pa se razvija in poskuša čim bolje upodobit njihov karakter\, njihove značilnosti in posebnosti. \n\n\n\n\n\n\nPovezava do originalnega članka
URL:https://kultura.maribor.si/dogodek/kulturni-inkubator-stella-klajnsek-crno-belo-razen-ce-ni-2026-04-07-18-00-00-2026-04-30-15-00-00-2/
LOCATION:Kulturni inkubator
CATEGORIES:Dogodki,Razstave
ATTACH;FMTTYPE=image/jpeg:https://kultura.maribor.si/wp-content/uploads/2026/03/2025281080x1350px29-1.jpg
END:VEVENT
BEGIN:VEVENT
DTSTART;TZID=Europe/Paris:20260409T000000
DTEND;TZID=Europe/Paris:20260430T000000
DTSTAMP:20260426T055546
CREATED:20260410T020420Z
LAST-MODIFIED:20260414T080311Z
UID:119583-1775692800-1777507200@kultura.maribor.si
SUMMARY:FOTOGRAFSKA RAZSTAVA DIALOG TELES MIHA KACAFURE
DESCRIPTION:Razstava v soorganizaciji s Fotoklubom Maribor raziskuje odnos med telesom\, gibom in minljivostjo odrskega trenutka. Ujema tisto\, kar je sicer bežno – ples\, izraz in prisotnost\, ter ga s fotografijo pretvarja v trajen vizualni zapis. \nMihael Kacafura (1955)\, magister poslovnih ved\, stanuje v Mariboru. Od leta 2011 je aktiven član Fotokluba Maribor\, od leta 2020 pa tudi Digitalnega kluba Celje. V tem času je sodeloval na preko 200 salonih v 45 različnih državah\, razstavljal v 25 državah ter prejel več kot 150 različnih medalj\, diplom\, priznanj in pohval. Razstava bo na ogled do konca aprila. \n\nPovezava do originalnega članka
URL:https://kultura.maribor.si/dogodek/fotografska-razstava-dialog-teles-miha-kacafure-2026-04-09-00-00-00-2026-04-30-00-00-00/
LOCATION:Maribor center / Avla Univerzitetne knjižnice Maribor (Gospejna ulica 10\, Maribor)
CATEGORIES:Dogodki,Razstave
ATTACH;FMTTYPE=image/jpeg:https://kultura.maribor.si/wp-content/uploads/2026/04/04c0a0ff-0d04-4812-92c0-722a70e79c83-1.jpg
END:VEVENT
BEGIN:VEVENT
DTSTART;TZID=Europe/Paris:20260412T000000
DTEND;TZID=Europe/Paris:20260605T000000
DTSTAMP:20260426T055546
CREATED:20260401T020412Z
LAST-MODIFIED:20260414T122105Z
UID:118173-1775952000-1780617600@kultura.maribor.si
SUMMARY:Otvoritev razstave: Tomaž Pandur – Iskanje in definiranje lepote
DESCRIPTION:Poklon ustvarjalcu\, ki je s svojo vizijo spremenil podobo slovenskega gledališča. \n»Umetnost je iskanje in definiranje lepote. To je bistvo našega bivanja in obstoja.« – Tomaž Pandur \nOb deseti obletnici smrti režiserja Tomaž Pandur pripravljajo Drama SNG Maribor\, Festival Borštnikovo srečanje in Umetnostna galerija Maribor skupni program v poklon enemu najpomembnejših slovenskih gledaliških ustvarjalcev. \nRazstava v UGM Kabinet skozi črno-bele gledališke fotografije fotografa Angelo Božac in arhivsko gradivo predstavlja šest ključnih Pandurjevih uprizoritev iz obdobja njegovega umetniškega vodenja mariborske Drame med letoma 1989 in 1996: Faust\, Hamlet\, Carmen\, La divina commedia (Inferno\, Purgatorio in Paradiso)\, Ruska misija in Babylon. Te predstave so v devetdesetih letih močno zaznamovale mariborsko in slovensko gledališče ter ga postavile na mednarodni zemljevid. Razstava razkriva Pandurjev izrazit vizualni slog\, njegovo fascinacijo z lepoto\, simboliko in ustvarjanjem novih odrskih svetov\, ki so postali prepoznavni del njegove umetniške poetike. \nAvtorice razstave: Livija Pandur\, Tanja Lužar (Drama SNG Maribor)\, Živa Kleindienst (UGM)\nKoordinacija: Sarita Zupanc \nOTVORITEV: nedelja\, 12. april\, 11.00\n \nZa več informacij o razstavi imate tukaj. \n\nPovezava do originalnega članka
URL:https://kultura.maribor.si/dogodek/otvoritev-razstave-tomaz-pandur-iskanje-in-definiranje-lepote-2026-04-12-00-00-00-2026-06-05-00-00-00/
LOCATION:657581418_1612049137432187_2009364075541795509_n
CATEGORIES:Dogodki,Razstave
ATTACH;FMTTYPE=image/jpeg:https://kultura.maribor.si/wp-content/uploads/2026/04/657581418_1612049137432187_2009364075541795509_n.jpg
END:VEVENT
BEGIN:VEVENT
DTSTART;TZID=Europe/Paris:20260416T170000
DTEND;TZID=Europe/Paris:20260507T180000
DTSTAMP:20260426T055546
CREATED:20260414T020111Z
LAST-MODIFIED:20260414T081326Z
UID:119696-1776358800-1778176800@kultura.maribor.si
SUMMARY:RAZSTAVA: NAPETOST SVETLOBE - GREGOR PRATNEKER
DESCRIPTION:Razstava slik Gregorja Pratnekerja. \nSlikar Gregor Pratneker je posebej za naše razstavišče v Trafiki ob parku ustvaril novo serijo umetniških del pod skupnim naslovom Napetost svetlobe. Kaj in kako naj ostane “v napetosti”\, bo pa naša mala hiška v Mestnem parku zagotovo dobila vse odtenke svetlobe. Slikar Gregor Pratneker (1973) se je s slikarstvom začel ukvarjati v devetdesetih. Živi in ustvarja v Mariboru. \nLeta 2006 je diplomiral na Oddelku za likovno umetnost na Pedagoški fakulteti v Mariboru z diplomsko nalogo “Slikarske vedute Maribora”. Med leti 2007 in 2012 je podiplomsko študiral na Akademiji za likovno umetnost in oblikovanje v Ljubljani\, kjer je tudi leta 2012 magistral z nalogo “Abstrahiranje in deformacije oblik v mojem slikarstvu”. \nV zadnjem ustvarjalnem obdobju se posveča predvsem krajinam – gozdovom\, ki pa jih lahko slika plein air ali v ateljeju. Je prejemnik več domačih in tujih nagrad. \nRazstava bo na ogled do 7. maja in sicer: \n– ob torkih in četrtkih od 16:00 do 18:00 \n– ob sobotah od 10:00 do 12:00 \n\nPovezava do originalnega članka
URL:https://kultura.maribor.si/dogodek/napetost-svetlobe-2026-04-16-17-00-00-2026-05-07-18-00-00/
LOCATION:Maribor center / Trafika ob Mestnem parku
CATEGORIES:Dogodki,Razstave
ATTACH;FMTTYPE=image/jpeg:https://kultura.maribor.si/wp-content/uploads/2026/04/napetnost-svetlobe-visit-maribor-pohorje-slovenia-1.jpg
END:VEVENT
BEGIN:VEVENT
DTSTART;TZID=Europe/Paris:20260423T130000
DTEND;TZID=Europe/Paris:20260525T180000
DTSTAMP:20260426T055546
CREATED:20260415T020600Z
LAST-MODIFIED:20260416T092939Z
UID:119939-1776949200-1779732000@kultura.maribor.si
SUMMARY:Študentke_i ALUO: Mimogrede pomembno
DESCRIPTION:23. 4. 2026 ob 19.00\, OBRAT \nŠtudentke_i ALUO: Mimogrede pomembno\nV četrtek\, 23. 4. 2026\, te ob 19.00 vabimo v OBRAT – prostor umetnosti in participacije na otvoritev skupinske razstave študentk_ov Akademije za likovno umetnost in oblikovanje Univerze v Ljubljani z naslovom »Mimogrede pomembno«. \n\n\n\n\n\n\n\n\n\n\n\n\n\n\nRazstava bo v OBRATu na ogled vsak delavnik med 13.00 in 18.00 do 22. 5. 2026.\n\n\n\n\n\n\nRazstavljena dela študentk_ov ljubljanske ALUO odsevajo fragmente duha časa\, na katerega smo navezane_i in obenem vanj ujete_i. Njegove pozitivne in negativne lastnosti umetnice_ki razkrivajo na svojstvene pristope\, ga v določenih trenutkih privzdigujejo\, v drugih prevprašujejo. S svojimi deli subtilno\, a učinkovito razkrivajo\, da velika slika nikoli ni črno-bela\, ampak je neločljivi konglomerat zmešnjave. Dela sicer ne vsebujejo neposredne kritike sodobnosti\, v njih se namesto tega skriva povabilo k razmisleku o tem\, kje se nahajamo\, kaj so naše vrednote\, kaj je tisto\, česar res ne potrebujemo\, in kje so meje naše resničnosti. Kot taka ob tankočutnem tehtanju kontrastov našega življenja nudijo poglobljen filozofski eksistencialni premislek o življenju samem\, s tem pa se tudi vzpostavljajo kot pomenljiva in relevantna umetniška dela. \n\n\n\n\n\n\n\n\n\n\n\n\n\nKalina Naskovski Perne\, Krsitina Zupan\, Spran GPT\, 2025\, foto_ Nada Žgank.jpg\n\n\n\n\n\n\n\n\n\nNa skupinski razstavi »Mimogrede pomembno« sodelujejo: Kalina Naskovski Perne & Kristian Župan\, kolektiv BRAVO (Pika Basaj\, Ana and Neža Urbiha)\, Klara Kracina\, Vita Eva Wesseisen. \n\n\n\n\n\n\nKuratorstvo: Ana Grobler in Sebastian Krawczyk \n\n\n\n\n\n\nRazstava je nastala v produkciji Galeriji Alkatraz in Akademijo za likovno umetnost in oblikovanje Univerze v Ljubljani\, je del sodelovanja Pekarne Magdalenske mreže z Galerijo Alkatraz\, AKC Metelkova mesto. \n\n\n\n\n\n\n\n\n\n\n\n\n\n\n\n\n\n\n\n\n\n\n\n\n\nPovezava do originalnega članka
URL:https://kultura.maribor.si/dogodek/studentke-i-aluo-mimogrede-pomembno-2026-04-23-19-00-00-2/
LOCATION:OBRAT
CATEGORIES:Dogodki,Razstave
ATTACH;FMTTYPE=image/jpeg:https://kultura.maribor.si/wp-content/uploads/2026/04/Kalina-Naskovski-Perne-Krsitina-Zupan-Spran-GPT-2025-foto_-Nada-Zgank-1.jpg
END:VEVENT
BEGIN:VEVENT
DTSTART;TZID=Europe/Paris:20260424T170000
DTEND;TZID=Europe/Paris:20260424T170000
DTSTAMP:20260426T055546
CREATED:20260307T020002Z
LAST-MODIFIED:20260316T132702Z
UID:115311-1777050000-1777050000@kultura.maribor.si
SUMMARY:Arhitekta bova!  4+
DESCRIPTION:Arhitekta bova!  4+\n\nManica K. Musil\n\n\nNagrajena slikanica bo zaživela na odru\, v prostoru; v njem pa dva majhna arhitekta\, ki nas nasmejita in spodbujata\, da mislimo in si domišljamo oblikovanje. \n\n\nNakup kart \n\n\nPovezava do originalnega članka
URL:https://kultura.maribor.si/dogodek/arhitekta-bova-4-2026-04-24-17-00-00/
LOCATION:Velika dvorana
CATEGORIES:Dogodki,Kulturno-umetnostna vzgoja
ATTACH;FMTTYPE=image/jpeg:https://kultura.maribor.si/wp-content/uploads/2026/03/9789617164985-1-scaled.jpg
END:VEVENT
BEGIN:VEVENT
DTSTART;TZID=Europe/Paris:20260424T170000
DTEND;TZID=Europe/Paris:20260424T170000
DTSTAMP:20260426T055546
CREATED:20260417T020114Z
LAST-MODIFIED:20260421T122711Z
UID:120239-1777050000-1777050000@kultura.maribor.si
SUMMARY:BALKANSKA POT: Predstavitev knjige urednic Marijane Hameršak\, Ive Pleše in Teje Škokić
DESCRIPTION:Monografije je skupinsko delo avtorjev iz Hrvaške\, Slovenije in Srbije\, ki prihajajo iz različnih akademskih disciplin\, združuje pa jih zanimanje za etnografsko raziskovanje režima iregulariziranih migracij v kritični perspektivi. \nMonografija s podnaslovom Pojmovnik evropskega režima iregulariziranih migracij na periferiji Evropske unije\, ki so jo uredile Marijana Hameršak\, Iva Pleše in Tea Škokić v sodelovanju z Uršulo Lipovec Čebron in Jelko Zorn\, kritično obravnava sedanji migracijski režim\, ki ga oblikujejo iregularizirana in kriminalizirana migrantska gibanja čez države na jugovzhodnih zunanjih kopenskih mejah Evropske unije. \nZ opredelitvijo ključnih pojmov (na primer Avtonomija\, Čakanje\, Gejm\, Solidarnost\, Zvok)\, njihovih različnih pomenov\, genealogij\, prekrivanj ter ambivalentnosti pokaže na kompleksnost\, večplastnost in fluidnost migracij. \nPogovor z avtorji monografije\, ki bo potekal v slovenščini in hrvaščini\, bo moderirala Ana Svetel. \nVeseli bomo vašega obiska! \n\nPovezava do originalnega članka
URL:https://kultura.maribor.si/dogodek/balkanska-pot-predstavitev-knjige-urednic-marijane-hamersak-ive-plese-in-teje-skoki-2026-04-24-17-00-00-2026-04-24-00-00-00-2/
LOCATION:Maribor center / Glazerjeva dvorana Univerzitetne knjižnice Maribor (Gospejna ulica 10\, Maribor)
CATEGORIES:Dogodki,Literatura
ATTACH;FMTTYPE=image/png:https://kultura.maribor.si/wp-content/uploads/2026/04/balkanska_pot_knjiga_predstavitev.png
END:VEVENT
BEGIN:VEVENT
DTSTART;TZID=Europe/Paris:20260424T170000
DTEND;TZID=Europe/Paris:20260424T233000
DTSTAMP:20260426T055546
CREATED:20260324T121928Z
LAST-MODIFIED:20260324T123129Z
UID:116921-1777050000-1777073400@kultura.maribor.si
SUMMARY:Majhno osvobojeno ozemlje · #6 · in izid antologije ob 5. obletnici Dveh lun
DESCRIPTION:Pred davnimi petimi leti se je na simbolni 1. maj odprlo novo ustvarjalno vesolje: Dve luni\, zavod za poetizacijo sveta\, sta zamežikali v svet in pretegnili umetniške sile. Najprej sta se kobacali\, nato naredili prve prireditvene korake\, zdaj sta pismeni že do te mere\, da izdajata tudi knjige.\nZato bomo 5. obletnico Dveh lun proslavili z izdajo antologije avtorjev mlade in najmlajše generacije iz vzhodne Slovenije! V antologiji predstavljamo perspektivne avtorje\, s katerimi smo spletli sodelovanje do zdaj. Uredile so jo 𝗔𝗹𝗷𝗮 𝗣𝘂𝘀̌𝗶𝗰̌\, 𝗔𝗺𝗮𝗱𝗲𝗷𝗮 𝗥𝗲𝗸\, 𝗚𝗹𝗼𝗿𝗶𝗮 𝗗𝘇̌𝗮𝗻𝗸𝗶𝗰́ in 𝗡𝗶𝗻𝗮 𝗠𝗲𝗱𝘃𝗲𝗱\, ki je napisala obsežno spremno besedo.\nUvodoma bomo večer odprli kot nam je v navadi – z rednim programom Majhnega osvobojenega ozemlja\, na katerem se predstavljajo pesniki 𝗠𝗮𝘁𝗶𝗷𝗮 𝗣𝗼𝗱𝗯𝗿𝗲𝘇𝗻𝗶𝗸\, 𝗠𝗮𝗿𝘁𝗶𝗻 𝗠𝗶𝗸𝗼𝗹𝗶𝗰̌\, kantavtorica 𝗘𝗹𝗶 𝗦̌𝗸𝗮𝗹𝗲𝗿 𝗶𝗻 glasbeni producent 𝗝𝗮𝘀̌ 𝗛𝗲𝗹𝗲𝗿.\nVabljeni na slavje z bogatim programom!\nP R O G R A M· · ·17.00–19.00· 𝗕𝗿𝗼𝘀̌(𝗸)𝗶𝗿𝗮𝗻𝗮 𝗽𝗼𝗲𝘇𝗶𝗷𝗮 (ustvari si svojo literarno priponko)· 𝗦𝗹𝗲𝗽𝗶 𝘇𝗺𝗲𝗻𝗲𝗸 𝘀 𝗸𝗻𝗷𝗶𝗴𝗼· · ·19.00 · 𝗡𝗮𝘀𝘁𝗼𝗽 𝗺𝗹𝗮𝗱𝗶𝗵 𝗹𝗶𝘁𝗲𝗿𝗮𝘁𝗼𝘃𝑝𝑜𝑒𝑧𝑖𝑗𝑎Matija Podbreznik𝑝𝑜𝑒𝑧𝑖𝑗𝑎 + 𝑝𝑒𝑟𝑓𝑜𝑟𝑚𝑎𝑛𝑠Martin Mikolič𝑝𝑜𝑒𝑧𝑖𝑗𝑎 + 𝑔𝑙𝑎𝑠𝑏𝑎Eli Škaler· · ·21.00 · 𝗠𝗮𝗿𝗮𝘁𝗼𝗻𝘀𝗸𝗼 𝗯𝗿𝗮𝗻𝗷𝗲 𝗶𝗻 𝗽𝗿𝗲𝗱𝘀𝘁𝗮𝘃𝗶𝘁𝗲𝘃 𝗮𝗻𝘁𝗼𝗹𝗼𝗴𝗶𝗷𝗲· · ·23.00 · 𝗣𝗿𝗲𝗱𝗽𝗿𝗲𝗺𝗶𝗲𝗿𝗮 𝗞𝗹𝗲𝘁𝗻𝗲 𝗺𝗮𝗿𝗺𝗲𝗹𝗮𝗱𝗲 𝟰 z Jašem Helerjem (DJ set)· · ·00.00Zdravica na 5 let!\n· · ·Gostiteljica večera je 𝗡𝗶𝗻𝗮 𝗠𝗲𝗱𝘃𝗲𝗱.Program bo povezovala 𝗔𝗷𝗱𝗮 𝗦𝘁𝗿𝗮𝗷𝗻𝗮𝗿.Avtorica Slepega zmenka s knjigo je 𝗔𝗹𝗷𝗮 𝗣𝘂𝘀̌𝗶𝗰̌.Grafično podobo projekta sta ustvarili 𝗝𝗼𝘃𝗮𝗻𝗮 Đ𝘂𝗸𝗶𝗰́ in 𝗠𝗮𝘀̌𝗮 𝗣𝘂𝘀̌𝗻𝗶𝗸.Dogodek je brezplačen.· · ·𝗠𝗮𝗷𝗵𝗻𝗼 𝗼𝘀𝘃𝗼𝗯𝗼𝗷𝗲𝗻𝗼 𝗼𝘇𝗲𝗺𝗹𝗷𝗲 𝗷𝗲 𝗽𝗹𝗮𝘁𝗳𝗼𝗿𝗺𝗮 𝘇𝗮 𝗽𝗿𝗼𝗺𝗼𝗰𝗶𝗷𝗼 𝗽𝗲𝘀𝗻𝗶𝘀̌𝗸𝗲 𝗺𝗶𝘀𝗹𝗶 𝗶𝗻 𝘁𝗶𝘀𝘁𝗶𝗵\, 𝗸𝗶 𝗷𝗼 𝘀𝗻𝘂𝗷𝗲𝗷𝗼\, 𝘀 𝗽𝗼𝘀𝗲𝗯𝗻𝗼 𝗽𝗼𝘇𝗼𝗿𝗻𝗼𝘀𝘁𝗷𝗼 𝗱𝗼 𝗺𝗹𝗮𝗱𝗶𝗵 𝘂𝘀𝘁𝘃𝗮𝗿𝗷𝗮𝗹𝗰𝗲𝘃.Dogodek pripravljata Dve luni\, zavod za poetizacijo sveta\, v sodelovanju z Vetrinjcem – BarCodo\, Vetrinjskim dvorom – Narodnim domom ter skupnostjo mariborskih neodvisnih kulturnih producentov.\nSofinanciran je s strani Mestne občine Maribor.\n\n\nPovezava do originalnega članka
URL:https://kultura.maribor.si/dogodek/majhno-osvobojeno-ozemlje-%c2%b7-6-%c2%b7-in-izid-antologije-ob-5-obletnici-dveh-lun/
LOCATION:Vetrinjc – BarCoda
CATEGORIES:Alternativa,Dogodki,Literatura
ATTACH;FMTTYPE=image/jpeg:https://kultura.maribor.si/wp-content/uploads/2026/03/652855763_1209334694616498_2379580781338138408_n.jpg
END:VEVENT
BEGIN:VEVENT
DTSTART;TZID=Europe/Paris:20260424T200000
DTEND;TZID=Europe/Paris:20260424T210000
DTSTAMP:20260426T055546
CREATED:20260324T123047Z
LAST-MODIFIED:20260324T123047Z
UID:116931-1777060800-1777064400@kultura.maribor.si
SUMMARY:ŠtudenTeater: Kdo sem?
DESCRIPTION:Predstava Kdo sem? te vljudno povabi v gledališki svet\, kjer Rok in Ana preizprašujeta pot\, ki ju je privedla do tega\, da sta ustvarila to predstavo. Ko se sprašujeta\, kdo sta\, ugotovita\, da ves čas igrata\, ne da bi hotela igrati. Tako ju pot pelje skozi njuni otroštvi\, ko sta si žela biti igralca\, do tega\, da sta igralca\, in do tega\, da bosta igralca. Predstava nam pokaže svet\, v katerem so podrte sanje samo izziv\, ki ga moraš premagati. Da so želje\, ki jih Rok in Ana delita s publiko\, lahko na istem mestu tudi izpolnjene\, saj je med odrskim in gledališkim svetom vse mogoče. Svoje želje\, sanje in dosežke delita s publiko in si jo sposodita kot ogledalo za svetove. Svet\, ki je lahko kritičen. Svet\, ki uresničuje sanje. Svet\, ki podira sanje. Svet\, kjer se na eni strani pojavlja Čehova Utva in na drugi Shakespearov Macbeth\, ki neomajno želita performativno nastopiti in zaživeti v njunem lastnem momentu. \nAvtorja in igralca:\nAna Ropić\, Rok Prašnikar \nMentorja:\nMinca Lorenci\, Luka Ostrež \nTrajanje:\n50 min \nProdukcija:\nMoment \n\nPovezava do originalega članka
URL:https://kultura.maribor.si/dogodek/studenteater-kdo-sem/
LOCATION:Maribor center / Intimni oder GT22\, Glavni trg 22\, Maribor
CATEGORIES:Dogodki,Gledališče
ATTACH;FMTTYPE=image/jpeg:https://kultura.maribor.si/wp-content/uploads/2026/03/655579254_1533055135490776_1845337685834000648_n.jpg
END:VEVENT
END:VCALENDAR