BEGIN:VCALENDAR
VERSION:2.0
PRODID:-//Kultura Maribor - ECPv6.2.8.1//NONSGML v1.0//EN
CALSCALE:GREGORIAN
METHOD:PUBLISH
X-ORIGINAL-URL:https://kultura.maribor.si
X-WR-CALDESC:Events for Kultura Maribor
REFRESH-INTERVAL;VALUE=DURATION:PT1H
X-Robots-Tag:noindex
X-PUBLISHED-TTL:PT1H
BEGIN:VTIMEZONE
TZID:Europe/Paris
BEGIN:DAYLIGHT
TZOFFSETFROM:+0100
TZOFFSETTO:+0200
TZNAME:CEST
DTSTART:20250330T010000
END:DAYLIGHT
BEGIN:STANDARD
TZOFFSETFROM:+0200
TZOFFSETTO:+0100
TZNAME:CET
DTSTART:20251026T010000
END:STANDARD
BEGIN:DAYLIGHT
TZOFFSETFROM:+0100
TZOFFSETTO:+0200
TZNAME:CEST
DTSTART:20260329T010000
END:DAYLIGHT
BEGIN:STANDARD
TZOFFSETFROM:+0200
TZOFFSETTO:+0100
TZNAME:CET
DTSTART:20261025T010000
END:STANDARD
END:VTIMEZONE
BEGIN:VEVENT
DTSTART;TZID=Europe/Paris:20250412T090000
DTEND;TZID=Europe/Paris:20260321T180000
DTSTAMP:20260424T000904
CREATED:20250402T020146Z
LAST-MODIFIED:20251014T105850Z
UID:87488-1744448400-1774116000@kultura.maribor.si
SUMMARY:200-urni tečaj za učitelja joge v Mariboru
DESCRIPTION:Pridružite se nam na obsežnem 200-urnem usposabljanju Spanda Vinyasa\, da postanete spreten učitelj joge. \nPridružite se nam na obsežnem 200-urnem usposabljanju Spanda Vinyasa\, da postanete spreten učitelj joge. V skladu z modrostjo in tradicijo joge\, ajurvede\, petih elementov ter sodobnega razumevanja anatomije in biomehanike boste preoblikovali svojo lastno prakso in zapustili to usposabljanje samozavestno in kompetentno za poučevanje organske\, integralne metode Spanda Vinyasa. Tečaj je odlična izbira za vse\, ki vas zanima bolj dinamična vadba – vinyasa joga. \nVelika prednost tečaja je\, da vas naučimo Spanda metode sekvenciranja jogijskih ur. To pomeni\, da pridobite zelo strukturirano\, logično in organizirano metodo\, s katero lahko učinkovito učite tako popolne začetnike kot tudi tiste\, ki imajo že nekaj izkušenj z vadbo asan. \nPoleg tega vas spoznamo tudi z zahtevnejšo Spanda Tattva Flow jogo\, ki je primerna za naprednejše praktike. Fizični del tečaja izvajamo na srečanjih v Asteya studiu\, medtem ko teoretični del predelate v svojem tempu preko vnaprej posnetih predavanj. \n\nPovezava do originalnega članka
URL:https://kultura.maribor.si/dogodek/200-urni-tecaj-za-ucitelja-joge-v-mariboru-2025-04-12-09-00-00-2026-03-21-18-00-00/
LOCATION:Okolica / Asteya studio\, Miklavčeva ulica 7\, 2000 Maribor
CATEGORIES:Dogodki
ATTACH;FMTTYPE=image/jpeg:https://kultura.maribor.si/wp-content/uploads/2025/04/64c94ca4-4420-47bc-850d-5b2d0194686f-1.jpg
END:VEVENT
BEGIN:VEVENT
DTSTART;TZID=Europe/Paris:20250830T100000
DTEND;TZID=Europe/Paris:20251005T180000
DTSTAMP:20260424T000904
CREATED:20250819T020204Z
LAST-MODIFIED:20250827T064738Z
UID:97968-1756548000-1759687200@kultura.maribor.si
SUMMARY:Cikel Navdih: Predpojavno
DESCRIPTION:Tokratna razstava ponuja nekoliko drugačen pogled na ustvarjalni proces. Skicirka ni le izhodišče za razstavo\, ampak je razstavni prostor\, zasnovan kot skicirka v prostoru. \nSlikarka Simona Šuc je aktualno razstavo zastavila po navdihu skicirke. Skicirka je prostor beleženja ustvarjalnih idej\, je nekakšno križišče misli\, vtisov in kratkih beležk o tem in onem\, je prazen prostor\, namenjen prvi materializaciji abstraktne ideje. \nAvtorica projekta je k sodelovanju povabila avtorice in avtorje\, ki bi jih lahko našli na straneh njene skicirke\, avtorice in avtorje\, katerih delo rezonira z njenim delom\, tiste\, ki so del njenega ustvarjalnega sveta in ki jo tako ali drugače navdihujejo. Na nehierarhični način so na razstavo umeščena tudi dela vabljenih avtoric in avtorjev: Mateje Kavčič\, Barbare Buttinger Förster\, Helen Czerski\, Boruta Gombača\, Ivane Petan\, Clifforda Possuma Tjapaltjarria in Simone Šuc. \nNaslov tokratne skicirke je Predpojavno. \nAvtorice in avtorji vsak na svoj način razmišljajo o izmuzljivi in težko ubesedljivi dimenziji\, ki obstaja ob fizični dimenziji sveta. \n\nPovezava do originalnega članka
URL:https://kultura.maribor.si/dogodek/cikel-navdih-predpojavno-2025-08-30-10-00-00-2025-10-05-18-00-00/
LOCATION:Maribor center / UGM Kabinet\, Strossmayerjeva ulica 6
CATEGORIES:Dogodki,Razstave
ATTACH;FMTTYPE=image/jpeg:https://kultura.maribor.si/wp-content/uploads/2025/08/39017c70-fa1c-45c9-a4a7-e8aea6a1b7be.jpg
END:VEVENT
BEGIN:VEVENT
DTSTART;TZID=Europe/Paris:20250907T000000
DTEND;TZID=Europe/Paris:20251010T000000
DTSTAMP:20260424T000904
CREATED:20250823T020103Z
LAST-MODIFIED:20250828T093449Z
UID:98431-1757203200-1760054400@kultura.maribor.si
SUMMARY:Mariborska sinagoga – kulturni spomenik državnega pomena
DESCRIPTION:V času Evropskih dnevov judovske kulture organiziramo dneve odprtih vrat. \nV času Evropskih dnevov judovske kulture organiziramo dneve odprtih vrat. \nTakrat si lahko Sinagogo Maribor ogledate brezplačno v naslednjih terminih: \n\n7. september\, 10:00 – 14:00\n29. september – 3. oktober\, 8:00 – 16:00\n6.-10. oktober\, 8:00 – 16:00\n\nNekdanja mariborska sinagoga je edina ohranjena srednjeveška sinagoga v Sloveniji. Danes v njej domuje Center judovske kulturne dediščine Sinagoga Maribor\, stavba sinagoge pa je zaščitena kot kulturnozgodovinski spomenik državnega pomena. \nObiskovalci si bodo lahko v sklopu dneva odprtih vrat ogledali nekdanjo sinagogo in izvedeli kaj več o judovski skupnosti\, ki jo je nekoč uporabljala. \nPovezava do originalnega članka
URL:https://kultura.maribor.si/dogodek/mariborska-sinagoga-kulturni-spomenik-drzavnega-pomena-2025-09-07-00-00-00-2025-10-10-00-00-00/
LOCATION:Maribor center / Židovska ulica 4
CATEGORIES:Dogodki
ATTACH;FMTTYPE=image/jpeg:https://kultura.maribor.si/wp-content/uploads/2025/08/11c6b7ac-4d69-4890-a724-243f7b2e40f6.jpg
END:VEVENT
BEGIN:VEVENT
DTSTART;TZID=Europe/Paris:20250908T180000
DTEND;TZID=Europe/Paris:20251004T130000
DTSTAMP:20260424T000904
CREATED:20250903T020129Z
LAST-MODIFIED:20250903T065856Z
UID:98908-1757354400-1759582800@kultura.maribor.si
SUMMARY:Béatrice Lartigue: Razkrivanje arhitekture
DESCRIPTION:odprtje samostojne razstave Béatrice Lartigue: Razkrivanje arhitekture \nVljudno vabljeni na odprtje razstave Razkrivanje arhitekture francoske umetnice Béatrice Lartigue\, ki bo v ponedeljek\, 8. septembra 2025\, ob 18. uri v razstavišču artKIT. Razstava Razkrivanje arhitekture v projektih Nevidna mesta in Nedokončano mesto vzpostavlja subtilen diptih in dialog med preteklim in potencialnim mestom\, kjer je arhitektura tako nosilka kolektivnega spomina zgodovinske arhitekture in hkrati vizija za urbano\, spekulativno generirano formo prihodnosti mesta. \nNedokončano mesto (2025) uteleša organizem v nenehni mutaciji\, ki fragmentira\, dekonstruira in se ponovno rojeva. Nasprotno pa Nevidna mesta (2020) razkrivajo krhke odtise spomenikov\, kjer odsotnost in spomin preoblikujeta obrise realnosti. Skupaj ti dve deli tketa dialog med prihodnostjo in spominom\, metamorfozo in izginotjem in kjer arhitektura postane pripoved in stvar časa. \nRazstava nas vabi\, da razmišljamo o mestu kot živem bitju in izrazu oprijemljivega spomina. \n\nPovezava do originalnega članka
URL:https://kultura.maribor.si/dogodek/b-atrice-lartigue-razkrivanje-arhitekture-2025-09-08-18-00-00-2025-10-04-13-00-00/
LOCATION:Maribor center / artKIT\, Glavni trg 14\, Maribor
CATEGORIES:Dogodki,Razstave
ATTACH;FMTTYPE=image/jpeg:https://kultura.maribor.si/wp-content/uploads/2025/09/b550ed14-520a-4332-9ab9-90836641cc99.jpg
END:VEVENT
BEGIN:VEVENT
DTSTART;TZID=Europe/Paris:20250917T180000
DTEND;TZID=Europe/Paris:20251031T203000
DTSTAMP:20260424T000904
CREATED:20250913T020058Z
LAST-MODIFIED:20250915T061549Z
UID:99681-1758132000-1761942600@kultura.maribor.si
SUMMARY:Branko Koniček: Zapuščine
DESCRIPTION:Zbirka fotografskega eseja Branka Konička nas popelje v čas in prostore\, kjer ni ljudi. \nVljudno vabljeni na otvoritev fotografske razstave Branka Konička “ZAPUŠČINE”\, ki poteka v okviru Festivala fotografije Maribor. \nNa tej razstavi avtor raziskuje odnos naše družbe do kulturne dediščine – ali jo negujemo ali pa pustimo\, da propada. Skozi infrardeči pogled nam ponuja razmislek o tem\, kako ravnamo z zapuščino\, ki so nam jo zaupali naši predniki in tisto\, ki jo puščamo za seboj mi. \nZbirka fotografskega eseja Branka Konička nas popelje v čas in prostore\, kjer ni ljudi. Zgradili smo poti\, da nas pripeljejo nazaj\, a to\, da bi lahko izvedeli\, zakaj so se poti sploh naredile\, so misteriozna uganka popotovanja. Redkokdaj vidimo iz druge perspektive\, še posebej\, ko hodimo mimo z drugim namenom. \nBranko Koniček je s fotografskim esejem predstavil ganljiv in misel spodbujajoč afekt nostalgije in zapuščine. Z zbirko nas opozarja in do neke mere tudi graja\, naj bomo pozorni na preteklost. S svojimi fotografijami zares ujame čudovit čas\, ostane v zunanjosti zgradb\, počasti dušo arhitekture in naravne elemente uporablja za edinstveno ohranjanje omenjenega afekta. Izpostavlja slike brez ljudi\, saj je dovolj že\, da objasni\, kaj smo ustvarili in kaj od tega ostaja. Sporoča nam\, da se staramo in da starost predstavlja živeto življenje in ohranjanje. Narava je toplina in v objektivu zajeti fantazijski štirje letni časi v intervalnem razmerju\, pogojeni v pomladni razcvetelosti\, v neomajni minljivosti in časovnem relativizmu\, so neizpodbiten zakon Matere narave. Gledalec in fotograf sta bralec in pripovedovalec v tukaj in sedaj z učiteljico preteklosti in zgodovine. Če vidimo sliko\, kaj je prvinska\, očitna stvar\, ki jo bomo videli?\nSporočilo dediščine\, sled preteklosti\, ki sedaj pravi: »Narava mi dovoli\, da sem star\, zato sem še tukaj.«\nTinkara Roza Kosi\nmag. zakonskih in družinskih študijev \n\nBranko Koniček\, AFIAP\nFotoklub Maribor\nBranko Koniček se je rodil leta 1957 in je član Fotokluba Maribor od leta 1981.\nS svojo fotografsko ustvarjalnostjo je sodeloval na več kot 200 razstavah po vsem svetu\, kjer je bilo sprejetih več kot 500 njegovih fotografij. Prejel je 28 nagrad in pohval\, večkrat se je predstavil tudi na samostojnih razstavah doma in v tujini.\nV Fotoklubu Maribor je aktivno deloval na številnih področjih. Z veliko predanostjo se je zavzemal za razvoj in ugled kluba\, umetniškega ateljeja ter Fotogalerije Stolp. Za svoje delo je prejel naziv zaslužnega člana. Leta 2006 mu je Zveza kulturnih društev Maribor podelila priznanje z plaketo za izjemen prispevek k dosežkom mariborskega fotografskega kroga. Branko Koniček ustvarja izključno v tehniki digitalne infrardeče črno-bele fotografije\, kjer dosega izjemne uspehe in prepoznavnost. \n\nPovezava do originalnega članka
URL:https://kultura.maribor.si/dogodek/branko-konicek-zapuscine-2025-09-17-18-00-00-2025-09-17-20-30-00-2/
LOCATION:Maribor center / Preddvorana
CATEGORIES:Dogodki,Razstave
ATTACH;FMTTYPE=image/jpeg:https://kultura.maribor.si/wp-content/uploads/2025/09/img-0166a-scaled-jpg.jpg
END:VEVENT
BEGIN:VEVENT
DTSTART;TZID=Europe/Paris:20250926T000000
DTEND;TZID=Europe/Paris:20251005T000000
DTSTAMP:20260424T000904
CREATED:20250827T020123Z
LAST-MODIFIED:20250827T020123Z
UID:98525-1758844800-1759622400@kultura.maribor.si
SUMMARY:Mednarodni festival računalniške umetnosti 2025: MFRU31
DESCRIPTION:Ezoterična ekotehnika. Iracionalna komputacija in zarotniško mreženje. \nLjudske kode\, kompostna vezja in tehno-rituali: nove ekologije nastajajo izven omrežja in izven središč. Komputacija podivja\, omrežja se spojijo z nadnaravnim. Mednarodni festival računalniške umetnosti (MFRU) vse od svoje ustanovitve leta 1995 opravlja pionirsko delo na področju razstavljanja in razvoja novih medijev v Sloveniji in širši regiji ter predstavlja vodilne umetnike_ce in teoretike_čarke\, ki raziskujejo družbene\, gospodarske\, politične in ekološke vplive računalniških tehnologij. \nLetošnja edicija se bo pod naslovom Ezoterična ekotehnika: Iracionalna komputacija in zarotniško mreženje tematsko osredotočila na podtalne in skrivne povezave med medijskimi tehnologijami\, uporabniki\, znanjem in kroženjem informacij. \nFestival bo skozi prizmo alternativnih\, mističnih in subverzivnih metod in atipičnega razumevanja digitalnih tehnologij raziskoval vzpostavljanje novih družbenih zavezništev in odpornih skupnostnih omrežij. \nPovezava do originalnega članka
URL:https://kultura.maribor.si/dogodek/mednarodni-festival-racunalniske-umetnosti-2025-mfru31-2025-09-26-00-00-00-2025-10-05-00-00-00/
LOCATION:Maribor center / Različne lokacije\, Maribor (SI)
ATTACH;FMTTYPE=image/png:https://kultura.maribor.si/wp-content/uploads/2025/08/dogodki-77-1.png
END:VEVENT
BEGIN:VEVENT
DTSTART;TZID=Europe/Paris:20250926T000000
DTEND;TZID=Europe/Paris:20251005T000000
DTSTAMP:20260424T000904
CREATED:20250827T020119Z
LAST-MODIFIED:20250924T125333Z
UID:98523-1758844800-1759622400@kultura.maribor.si
SUMMARY:Mednarodni festival računalniške umetnosti 2025: MFRU31
DESCRIPTION:Ezoterična ekotehnika. Iracionalna komputacija in zarotniško mreženje. \nLjudske kode\, kompostna vezja in tehno-rituali: nove ekologije nastajajo izven omrežja in izven središč. Komputacija podivja\, omrežja se spojijo z nadnaravnim. Mednarodni festival računalniške umetnosti (MFRU) vse od svoje ustanovitve leta 1995 opravlja pionirsko delo na področju razstavljanja in razvoja novih medijev v Sloveniji in širši regiji ter predstavlja vodilne umetnike_ce in teoretike_čarke\, ki raziskujejo družbene\, gospodarske\, politične in ekološke vplive računalniških tehnologij. \nLetošnja edicija se bo pod naslovom Ezoterična ekotehnika: Iracionalna komputacija in zarotniško mreženje tematsko osredotočila na podtalne in skrivne povezave med medijskimi tehnologijami\, uporabniki\, znanjem in kroženjem informacij. \nFestival bo skozi prizmo alternativnih\, mističnih in subverzivnih metod in atipičnega razumevanja digitalnih tehnologij raziskoval vzpostavljanje novih družbenih zavezništev in odpornih skupnostnih omrežij. \n\nPovezava do originalnega članka
URL:https://kultura.maribor.si/dogodek/mednarodni-festival-racunalniske-umetnosti-2025-mfru31-2025-09-26-00-00-00-2025-10-05-00-00-00-2/
LOCATION:Mednarodni festival računalniške umetnosti 2025: MFRU31
CATEGORIES:Dogodki,Festivali
ATTACH;FMTTYPE=image/png:https://kultura.maribor.si/wp-content/uploads/2025/08/dogodki-77.png
END:VEVENT
BEGIN:VEVENT
DTSTART;TZID=Europe/Paris:20251002T170000
DTEND;TZID=Europe/Paris:20251002T170000
DTSTAMP:20260424T000904
CREATED:20250924T020122Z
LAST-MODIFIED:20250926T064849Z
UID:100912-1759424400-1759424400@kultura.maribor.si
SUMMARY:SODOBNA SLOVENSKA POEZIJA: Predstavitev trojezične antologije
DESCRIPTION:Predstavitev trojezične antologije Sodobna slovenska poezija/Slowenische Gegenwartslyrik/Slovenian Poetry Today organiziramo v sodelovanju s Slovenskim inštitutom na Dunaju. \nV jubilejnem mesecu oktobru bomo 35. obletnico Avstrijske čitalnice Univerzitetne knjižnice Maribor obeležili z različnimi dogodki in prireditvami. Vljudno vas vabimo na predstavitev trojezične antologije Sodobna slovenska poezija/Slowenische Gegenwartslyrik/Slovenian Poetry Today\, ki jo organiziramo v sodelovanju s Slovenskim inštitutom na Dunaju. \nAntologijo\, ki jo je izdal avstrijski PEN klub\, bodo po uvodnem nagovoru Herberta Seherja predstavili Lev Detela\, Peter Kersche\, Herbert-Harry Kuhner in Irmgard Kuhner. \nVeselimo se ponovnega srečanja z vami! \n\nPovezava do originalnega članka
URL:https://kultura.maribor.si/dogodek/sodobna-slovenska-poezija-predstavitev-trojezicne-antologije-2025-10-02-17-00-00-2025-10-02-00-00-00/
LOCATION:Maribor center / UKM\, Gospejna ulica 10\, Maribor
CATEGORIES:Dogodki,Literatura
ATTACH;FMTTYPE=image/jpeg:https://kultura.maribor.si/wp-content/uploads/2025/09/23235630-9d24-47c8-b541-165bded13eca.jpg
END:VEVENT
BEGIN:VEVENT
DTSTART;TZID=Europe/Paris:20251002T173000
DTEND;TZID=Europe/Paris:20251002T190000
DTSTAMP:20260424T000904
CREATED:20250925T020105Z
LAST-MODIFIED:20250926T064901Z
UID:101141-1759426200-1759431600@kultura.maribor.si
SUMMARY:Pogovor z Marijem Čukom
DESCRIPTION:Z Marijem Čukom se bo pogovarjala Tonja Jelen. \nMarij Čuk\, pesnik\, pisatelj\, esejist in scenarist\, učitelj\, novinar in urednik\, aktualni predsednik Društva slovenskih pisateljev\, je letos objavil roman Zlato zrno. Do sedaj je napisal deset pesniških zbirk\, številne radijske igre in satirične nadaljevanke ter vrsto dram\, ki so bile uprizorjene v Slovenskem stalnem gledališču v Trstu. Izdal je pet romanov. Za svoje delo je prejel številna priznanja in nagrade. Osrednji junak romana Zlato zrno Leopold Teofit vstopi na vlak\, ki naj bi ga pripeljal do zlatega zrna njegovega najglobljega hrepenenja. \nZa Teofita sprehod po mestu in okolici postane marsikaj: priložnost za razreševanje odnosa z očetom; nežna reminiscenca na odnos z ženo Nevio\, njuno veliko ljubezen in preizkušnjo neozdravljive bolezni; predvsem pa se med ležernim sprehajanjem prebuja hrepenenja po vsem\, kar se ima po srečanju s skrivnostno žensko še zgoditi. \nPripovedi dajeta šaljivo noto Teofitov plišasti spremljevalec Ronči in policijski inšpektor. \n\nPovezava do originalnega članka
URL:https://kultura.maribor.si/dogodek/pogovor-z-marijem-cukom-2025-10-02-17-30-00-2025-10-02-19-00-00/
LOCATION:Maribor center / Knjigarna Beletrina\, Grajski trg 2
CATEGORIES:Dogodki,Literatura
ATTACH;FMTTYPE=image/jpeg:https://kultura.maribor.si/wp-content/uploads/2025/09/fea6bea6-4dda-4add-811a-fd64db1be410-3.jpg
END:VEVENT
BEGIN:VEVENT
DTSTART;TZID=Europe/Paris:20251002T180000
DTEND;TZID=Europe/Paris:20251002T180000
DTSTAMP:20260424T000904
CREATED:20250923T020149Z
LAST-MODIFIED:20250926T064920Z
UID:100828-1759428000-1759428000@kultura.maribor.si
SUMMARY:Literarni večer z Urško Klakočar Zupančič
DESCRIPTION:Pogovor pisatelja Toneta Partljič z Urško Klakočar Zupančič o njenem literarnem ustvarjanju \nBralni klub Marica vas vabi v četrtek\, 2. oktobra ob 18. uri v Kulturno dvorano Toneta Partljiča v Pesnici pri Mariboru na literarni večer z URŠKO KLAKOČAR ZUPANČIČ. Z avtorico se bo o njenih literarnih delih pogovarjal pisatelj Tone Partljič. \nVljudno vabljeni! \n\nPovezava do originalnega članka
URL:https://kultura.maribor.si/dogodek/literarni-vecer-z-ursko-klakocar-zupancic-2025-10-02-18-00-00-2025-10-02-00-00-00/
LOCATION:281317b9-93ad-4f90-915e-26836fb7967e
CATEGORIES:Dogodki,Literatura
ATTACH;FMTTYPE=image/jpeg:https://kultura.maribor.si/wp-content/uploads/2025/09/281317b9-93ad-4f90-915e-26836fb7967e.jpg
END:VEVENT
END:VCALENDAR