BEGIN:VCALENDAR
VERSION:2.0
PRODID:-//Kultura Maribor - ECPv6.2.8.1//NONSGML v1.0//EN
CALSCALE:GREGORIAN
METHOD:PUBLISH
X-WR-CALNAME:Kultura Maribor
X-ORIGINAL-URL:https://kultura.maribor.si
X-WR-CALDESC:Events for Kultura Maribor
REFRESH-INTERVAL;VALUE=DURATION:PT1H
X-Robots-Tag:noindex
X-PUBLISHED-TTL:PT1H
BEGIN:VTIMEZONE
TZID:Europe/Paris
BEGIN:DAYLIGHT
TZOFFSETFROM:+0100
TZOFFSETTO:+0200
TZNAME:CEST
DTSTART:20240331T010000
END:DAYLIGHT
BEGIN:STANDARD
TZOFFSETFROM:+0200
TZOFFSETTO:+0100
TZNAME:CET
DTSTART:20241027T010000
END:STANDARD
END:VTIMEZONE
BEGIN:VEVENT
DTSTART;TZID=Europe/Paris:20240202T000000
DTEND;TZID=Europe/Paris:20241230T000000
DTSTAMP:20260425T164115
CREATED:20240126T075917Z
LAST-MODIFIED:20240126T103458Z
UID:68885-1706832000-1735516800@kultura.maribor.si
SUMMARY:Spekter. 70 let Zbirke UGM
DESCRIPTION:Na veliki novi razstavi v Umetnostni galeriji Maribor razpiramo spekter pogledov\, pozicij\, oblik v umetniških delih iz Zbirke UGM in v umetnosti razstavne dejavnosti same. \nOtvoritev: petek\, 2. februar 2024\, 19.00\n2. februar 2024–3. december 2025 \nKakor umetniško delo tvorijo številni elementi\, ki jih z uporabo veščin in orodij v harmonije spretno kombinirajo in soočajo njihovi avtorji in avtorice\, je tudi razstava umetniška forma sama zase\, ob snovanju katere veljajo načela\, sorodna snovanju umetniškega dela – kjer so umetniška dela sestavni elementi konglomerata celote. \n»Le čevlje sodi naj kopitar. Po izobrazbi nisem umetnostni zgodovinar\, temveč industrijski oblikovalec\, zato sem v vlogi avtorja postavitve primarno posegal po ključih formalizma – barve\, teksture in oblike – kriterijih\, ki so po definiciji del moje profesionalne domene. Osrednje vodilo pri postavitvi razstave\, od izbora do načina predstavitve del\, prostorskih intervencij (barve in obloge sten\, način okvirjanja in obešanja)\, je preizpraševanje ideje standarda.« — David Tavčar \nUmetnostna galerija Maribor v letu\, ko praznujemo 70 let\, vabi k obisku nove občasne postavitve naše zbirke. Tokratno postavitev je zasnoval oblikovalec David Tavčar\, ki je v preteklem letu prečesal Zbirko UGM in iz nje izbral več kot 250 umetnin\, ikoničnih\, manj znanih ali prvič razstavljenih\, ter jih v sedmih sobanah in dveh dvoranah postavil v razgibano avtorsko doživetje. \nUmetnostna galerija Maribor od leta 1954 domuje v palači na Strossmayerjevi ulici\, ki zaradi prostorskih omejitev ne dopušča sočasne stalne postavitve zbirke in velikih občasnih razstav. Ta izziv v galeriji že vrsto let premagujemo tako\, da na občasnih postavitvah Zbirke UGM v vedno novih konstelacijah del in načinih predstavitve ponudimo svež premislek o naši zbirki ter zgodovini umetnosti preteklega stoletja v mestu\, regiji in Sloveniji. \nČe je kuratorka Nadja Gnamuš pred desetimi leti na razstavi 60! Panorama zasnovala postavitev zbirke okoli vsebinskih in tematskih sklopov (osebno\, umaknjeni subjekt\, kulturne krajine in politično)\, pred štirimi leti pa smo 100+ vrhuncev iz Zbirke UGM postavili v kronološkem in slogovnem zaporedju\, se Spekter osredotoča na formalne aspekte vizualne umetnosti: barva\, oblika\, material\, tekstura\, kompozicija. Prav tako smo v pričakovanju širitve v nove razstavne prostore na Rotovškem trgu posebno pozornost namenili prostorom našega do sedaj edinega domovanja in z oblikovalskimi konturami izpostavili najbolj značilne in karizmatične poteze palače na Strossmayerjevi. Pod taktirko Davida Tavčarja so prostori Umetnostne galerije Maribor postali prizorišča razstavljalskih eksperimentov in interpretacij zgodovinskih oblik postavitev umetnosti: od salonskega principa\, principa bele kocke\, do skicoznih postavitev in povsem originalnih novih form. \nOblikovalec David Tavčar je prodoren mlad oblikovalec\, znan zlasti po oblikovanju tekstila za mednarodne modne hiše in podjetja s tradicijo\, interierjih in lastni blagovni znamki. V oblikovanju ga odlikuje sproščena in igriva poteza risbe z roko\, smisel za humor in neizčrpen vir referenc na zgodovino umetnosti\, obrti in oblikovanja. Tavčar podobe niza v zaporedja in mreže ter tako ustvarja prepoznavne vzorce\, ki od bližnjih detajlov do učinka od daleč tvorijo kompleksno in suvereno celoto. Umetnostna galerija Maribor je Tavčarju\, kot izrazito svojstvenemu connoisseurju umetnosti\, zaupala in podala carte blanche\, da s svojim pogledom in uporabo del iz Zbirke UGM splete bogato tapiserijo formalnih umetnostnih asociacij in konverzacij. \n\nPovezava do originalnega članka
URL:https://kultura.maribor.si/dogodek/spekter-70-let-zbirke-ugm-2024-02-02-00-00-00-2025-12-03-00-00-00/
LOCATION:Maribor center / Umetnostna galerija Maribor (Strossmayerjeva 6\, Maribor)
CATEGORIES:Razstave
ATTACH;FMTTYPE=image/jpeg:https://kultura.maribor.si/wp-content/uploads/2024/01/spekter.jpg
END:VEVENT
BEGIN:VEVENT
DTSTART;TZID=Europe/Paris:20240221T000000
DTEND;TZID=Europe/Paris:20241130T000000
DTSTAMP:20260425T164115
CREATED:20250218T143954Z
LAST-MODIFIED:20250219T083314Z
UID:84477-1708473600-1732924800@kultura.maribor.si
SUMMARY:Maribor je naš!
DESCRIPTION:Z nastankom jugoslovanske države je Maribor postal pomembno obmejno mesto. Predstavljal je severozahodna vrata Jugoslavije v svet. Mesto je postalo prometna os med Alpami in Beogradom ter ostalim Balkanom kot tudi med Dunajem in Trstom. \nLeta 1910 je v Mariboru živelo 27.994 prebivalcev v 1269 stanovanjskih objektih. Leta 1921 se je število prebivalcev povečalo na 30.739 prebivalcev\, stanovanjskih poslopij v mestu pa je bilo že 1455. Ob zadnjem štetju prebivalstva v Kraljevini Jugoslaviji leta 1931 je v Mariboru živelo 33.921 ljudi\, število stanovanjskih nepremičnin pa je naraslo na 1834. Kot nov dejavnik mariborskega prebivalstva so med letoma 1918 in 1941 nastopili Primorci\, ki so jugoslovanskemu Mariboru s svojo značajsko neposrednostjo vtisnili nov pečat. \nMed januarjem 1919 in aprilom 1921 so mestno upravo v Mariboru vodili vladni komisarji dr. Vilko Pfeifer\, nato pa dr. Josip Leskovar in za njim še Ivo Poljanec. Prve občinske volitve so bile razpisane za 26. april 1921. Največ glasov so prejeli socialisti\, iz njihovih vrst so izvolili tudi župana Viktorja Grčarja. Spodnještajerski Nemci se prvih občinskih volitev v Mariboru niso udeležili. Izid prvih občinskih volitev v Mariboru in okoliških občinah\, kjer so tudi zmagali socialisti\, je bil precej drugačen kot v drugih slovenskih občinah. \nDruge občinske volitve so bile 21. septembra 1924. Klerikalci Slovenske ljudske stranke in liberalci Jugoslovanske demokratske stranke so skupaj z Narodno socialistično stranko nastopili na občinskih volitvah v Mariboru kot Narodni blok. Samostojno so šli na volitve mariborski Nemci z Domačo gospodarsko stranko. Narodni blok je na drugih občinskih volitvah dobil 32 mandatov. Nemci in socialistična stranka so vsak dobili po štiri mandate v občinskem odboru\, komunistična delavska skupina pa en mandat. Novi župan je postal predstavnik Slovenske ljudske stranke dr. Josip Leskovar. \nZadnje občinske volitve med obema vojnama so bile leta 1927. S 14 mandati je zmagala Slovenska ljudska stranka\, takoj za njo so bili socialisti z 12 mandati. Šest mandatov je dobila Jugoslovanska demokratska stranka\, pet pa Domača gospodarska stranka Nemcev. Mestni svet je 24. januarja 1928 za župana izvolil dr. Alojzija Juvana iz vrst Slovenske ljudske stranke. V zadnjem izvoljenem občinskem odboru so kot mestni odborniki sedeli že vsi bodoči župani in podžupani (dr. Alojzij Juvan in Franjo Žebot iz Slovenske ljudske stranke ter dr. Franjo Lipold iz Jugoslovanske demokratske stranke). \nOb uvedbi kraljeve šestojanuarske diktature leta 1929 je bil razpuščen tudi mestni občinski svet. Že čez nekaj dni je veliki župan Mariborske oblasti postavil novo občinsko upravo z županom dr. Alojzijem Juvanom. Kasneje ga je nasledil liberalec dr. Franjo Lipold. Do konca Kraljevine Jugoslavije mestna občina ni mogla imeti drugačne politične usmeritve\, kot je bila tista v državi. \nZadnja\, največja sprememba v sestavi organov mestne občine\, se je zgodila jeseni 1935\, ob spremembi vlade v Beogradu\, ko je postal ban Dravske banovine dr. Marko Natlačen iz Slovenske ljudske stranke. Takrat so v Mariboru mestno občino z večino mestnih svetnikov prevzeli pristaši klerikalne stranke. Župan je ponovno postal dr. Alojzij Juvan\, podžupan pa Franjo Žebot. \nMed letoma 1918 in 1941 je na upravni razvoj mestne občine negativno vplivalo dejstvo\, da je Maribor proti svoji volji\, kot edina mestna občina v Jugoslaviji\, ostajal v občinskih mejah\, ki jih je določil zakon o občinah iz leta 1850. Njegova predmestja so še naprej ostajala samostojne občine. \n\nPovezava do originalnega članka
URL:https://kultura.maribor.si/dogodek/maribor-je-nas-2024-02-21-00-00-00/
LOCATION:Maribor center / Muzej narodne osvoboditve (Ulica heroja Tomšiča 5)\, Fotografski muzej (Koroška 19)\, Trafika – Muzej za enega (Trg revolucije)
CATEGORIES:Dogodki,Razstave
ATTACH;FMTTYPE=image/jpeg:https://kultura.maribor.si/wp-content/uploads/2025/02/maribor-je-nas.jpg
END:VEVENT
BEGIN:VEVENT
DTSTART;TZID=Europe/Paris:20240606T180000
DTEND;TZID=Europe/Paris:20241231T190000
DTSTAMP:20260425T164115
CREATED:20240528T093617Z
LAST-MODIFIED:20240529T110150Z
UID:73068-1717696800-1735671600@kultura.maribor.si
SUMMARY:[MLADE ARKADE] Razstava Tare Rubinič
DESCRIPTION:MLADE ARKADE \nZemlja in Luna si posojata Sonce — Življenje in Smrt si delita oder\nRazstava Tare Rubinič \n  \nMladinski kulturni center Maribor (MKC Maribor) odpira novo zunanje razstavišče v Kulturni četrti Židovska\, kjer pod okriljem MKC Maribor deluje Galerija Media Nox. Razstavišče se nahaja na zunanjih arkadah pred galerijo\, prva bo v njem razstavljala mlada umetnica Tara Rubinič\, ki je pripravila razstavo z naslovom Zemlja in Luna si posojata Sonce — Življenje in Smrt si delita oder. Uradno odprtje razstave in s tem tudi razstavišča Mlade arkade bo v četrtek\, 6. junija 2024\, ob 18. uri. \nNovo zunanje razstavišče Mlade arkade\, ki se nahaja na zunanjih arkadah na stavbi Židovskega trga pred Galerijo Media Nox\, bo razstavljalo dela mladih umetnikov do 29. leta starosti. Mladi umetniki bodo tako dobili priložnost\, da se predstavijo in so videni tudi v zunanjem javnem prostoru Kulturne četrti Židovska. \nPrva razstavljalka Mladih arkad je Tara Rubinić (2004)\, vizualna umetnica mlajše generacije\, ki se predstavlja z delom Zemlja in Luna si posojata Sonce — Življenje in Smrt si delita oder. \nTara Rubinić (2004) je vizualna umetnica mlajše generacije\, ki se še uveljavlja v svetu umetnosti in je študentka na ALUO. Risala in ustvarjala je že od otroštva\, vendar se je šele med času korone slikanju in ustvarjanju poglobljeno posvetila in zelo hitro napredovala ter razvila svoj slog. Med karanteno je bila udeležena tudi v kratkem mentorstvu za začetnike v Ravnikar Gallery Space. Prejela je že nekaj nagrad\, med drugim poleti 2020 na natečaju Zine Vitrine z zinom Otrok Deček Dom\, v letu 2023 pa je prejela nagrado Mladi na Ex Tempore v Piranu. \nZemlja in Luna si posojata Sonce — Življenje in Smrt si delita oder\nTara Rubinič se predstavlja z dvema deloma\, v katerih naslavlja naravna nasprotja\, kot sta plima in oseka; noč in dan; rojstvo ter smrt; grajenje in rušenje. Kljub močnim kontrastom v naravi življenje ni črno-belo in se vse med seboj povezuje in dopolnjuje. \n\n\n\n\n\n\n\n\n\n\n\nFotografija: Janez Klenovšek \n\n\n\n\n\n\n\n\nDeli sta nastala na več slojih folije\, kar simbolizira slojevitost življenja tako v družbi kot tudi v naravi. Na posameznike vpliva ogromno faktorjev\, tako narava\, kot družba\, odnosi\, navsezadnje pa tudi lastna občutenja in razmišljanja\, kar vodi v slojevitost nas samih in naših življenj. Sama umetnica je tudi uporabila material\, ki ni tipični umetniški medij\, temveč gre za plastiko\, ki je trenutno povsod. Z uporabo plastičnih slojev\, je dala vsakdanjemu materialu novo namembnost kot tudi opozorilo – plastika je dandanes takorekoč vsepovsod. \nTarini deli zaznamuje uporaba močnih barv in kontrastov\, predvsem pa je močna simbolika\, ki ustvarja dialog med obema deloma. \nBesedilo pripravila Martina Frangež\, kuratorka Mladih arkad \n\n\n\n\n\n\nPovezava do originalnega članka
URL:https://kultura.maribor.si/dogodek/mlade-arkade-razstava-tare-rubinic-2024-06-06-18-00-00-2024-12-31-19-00-00/
LOCATION:Galerija Media Nox
CATEGORIES:Dogodki,Razstave
ATTACH;FMTTYPE=image/jpeg:https://kultura.maribor.si/wp-content/uploads/2024/05/09A9225-74-Kopija.jpg
END:VEVENT
BEGIN:VEVENT
DTSTART;TZID=Europe/Paris:20240822T180000
DTEND;TZID=Europe/Paris:20241013T000000
DTSTAMP:20260425T164115
CREATED:20240821T065156Z
LAST-MODIFIED:20240821T090903Z
UID:75894-1724349600-1728777600@kultura.maribor.si
SUMMARY:Alja Horvat / Idila
DESCRIPTION:22. avgust – 13. oktober 2024 \nOblikovalka in ilustratorka Alja Horvat se v UGM Šopu predstavlja s serijo ilustracij Idila. \nUmetnico Aljo Horvat navdihujejo 60. in 70. leta prejšnjega stoletja\, muzeji in narava\, v kateri preprosto si in uživaš. \nNjene kompozicije za slike\, oblačila in druge uporabne predmete so prepoznavne po vzorcih stiliziranih oblik cvetja in zelenja\, ki dajejo občutek\, da sta med njimi lahni vetrič in mehka\, presevajoča svetloba. V njenih zunanjih ali notranjih prostorih pogosto stojijo\, sedijo ali so zleknjene ženske. \nUstvarja podobe različnih žensk\, svetlolasih in temnolasih\, temnopoltih in svetlopoltih\, ter z njimi nevsiljivo spregovori o drugačnosti. Ženska je v sliki sama\, v družbi drugih žensk\, v paru z moškim\, pogosto je z njo žival. V roki lahko poleg lončnice drži tudi knjigo ali mobilni telefon. V idiličnem okolju narave\, vrtov ali v razkošnih sobanah s tapetami ali pregrinjali s cvetličnimi vzorci se zdi zazrta v svoj notranji svet in vprašamo se\, ali je ta svet odsev zunanjega sveta ali pa je morda povsem drugačen. \nKustosinja: Brigita Strnad \n\nPovezava do originalnega članka
URL:https://kultura.maribor.si/dogodek/alja-horvat-idila-2024-08-22-18-00-00-2024-10-13-00-00-00/
LOCATION:Maribor center / UGM Šop\, Strossmayerjeva ulica 6
CATEGORIES:Dogodki,Razstave
ATTACH;FMTTYPE=image/jpeg:https://kultura.maribor.si/wp-content/uploads/2024/08/805e409b-7b19-439b-aff0-538878cc215d.jpg
END:VEVENT
BEGIN:VEVENT
DTSTART;TZID=Europe/Paris:20240913T190000
DTEND;TZID=Europe/Paris:20241012T130000
DTSTAMP:20260425T164115
CREATED:20240906T101732Z
LAST-MODIFIED:20240910T063954Z
UID:76802-1726254000-1728738000@kultura.maribor.si
SUMMARY:Janja Batič: Moje ilustrirano življenje
DESCRIPTION:Odprtje razstave Moje ilustrirano življenje Janje Batič \nVljudno vabljeni na odprtje razstave Janje Batič Moje ilustrirano življenje\, ki bo v petek\, 13. septembra 2024\, ob 19. uri v razstavišču artKIT. \nVizualni dnevnik Janje Batič je svojstvena umetnina\, ki ga umetnica širi na različne ustvarjalne medije. Tako najdemo utrinke vsakdanjosti na digitalnih risbah\, vezeninah\, vzglavnikih in kot zadnji medij\, ki se je pridružil\, v prostorski postavitvi. Ustvarjamo\, da lahko večkrat podoživimo življenje. \nPrvič v trenutku\, ko ga prvič živimo in zaznamo\, in za nazaj\, v zamiku drobcev časa\, v katerem se podoživeti trenutek v spominu drugače usede v srce\, a ga okusimo in podoživimo vendarle lahko večkrat. Med mestom\, kjer smo\, in mestom\, kamor gremo\, se nahaja opazovalčev prostor\, ki je sam kreator in vir\, saj življenje prihaja iz nas. \n\nPovezava do originalnega članka
URL:https://kultura.maribor.si/dogodek/janja-batic-moje-ilustrirano-zivljenje-2024-09-13-19-00-00-2024-10-12-13-00-00/
LOCATION:Maribor center / artKIT\, Glavni trg 14\, Maribor
CATEGORIES:Dogodki,Razstave
ATTACH;FMTTYPE=image/jpeg:https://kultura.maribor.si/wp-content/uploads/2024/09/dogodki-banner-19.jpg
END:VEVENT
BEGIN:VEVENT
DTSTART;TZID=Europe/Paris:20240916T170000
DTEND;TZID=Europe/Paris:20241031T170000
DTSTAMP:20260425T164115
CREATED:20240910T093630Z
LAST-MODIFIED:20240910T093631Z
UID:76912-1726506000-1730394000@kultura.maribor.si
SUMMARY:HINKO KRAPEK - ČLOVEK SVOJEGA ČASA
DESCRIPTION:Ponedeljek\, 16. septembra 2024\, ob 17. uri\, preddverje Osrednje knjižnice TPC City\, Ulica Vita Kraigherja 5\, Maribor \nVabimo vas na odprtje razstave in predstavitev monografije o fotografu Hinku Krapku. Na ogled bo prav tako del Krapkovih razglednic iz zbirke Primoža Premzla. Razstava je nastala v soorganizaciji Mestne knjižnice Ivan Goran Kovačič iz Karlovca in Muzejev mesta Karlovec. \nPokrovitelj razstave je Veleposlaništvo Republike Slovenije v Zagrebu\, finančno jo je podprla Karlovška županija. \nFotograf Hinko Krapek se je rodil 27. marca 1841 v mestu Brno na Češkem. \nSvojo fotografsko pot je začel na Dunaju\, kasneje leta 1869 pa je odprl lasten fotografski atelje v Mariboru. Svoje fotografsko delovanje razširi tudi na Hrvaško kjer je nekaj časa ustvarjal v Zagrebu in kasneje predvsem v Karlovcu vse do konca leta 1896. Ukvarjal se je predvsem s portretno fotografijo\, znan pa je tudi po svojem obsežnem opusu fotografij kulturno zgodovinskih spomenikov\, pokrajin in mestnih vedut\, ki imajo veliko zgodovinsko vrednost v smislu dokumentiranja kulturne in zgodovinske dediščine. \nHinko Krapek je bil tudi prvi promotor turizma na območju Plitviških jezer. Zaslovel pa je tudi s svojim ogromnim opusom razglednic iz Slovenije kot tudi Hrvaške\, kjer velja za enega izmed pionirjev izdajanja razglednic.
URL:https://kultura.maribor.si/dogodek/hinko-krapek-clovek-svojega-casa/
LOCATION:Maribor center / TC City Maribor\, Mariborska knjižnica (Ulica Vita Kraigherja 5\, Maribor)
CATEGORIES:Dogodki,Literatura,Razstave
ATTACH;FMTTYPE=image/jpeg:https://kultura.maribor.si/wp-content/uploads/2024/09/e-vabilo-hinko-krapek-mbk.b2e48d0f068cb62ab899646cc57e5757.jpg
END:VEVENT
BEGIN:VEVENT
DTSTART;TZID=Europe/Paris:20241008T163000
DTEND;TZID=Europe/Paris:20241008T193000
DTSTAMP:20260425T164115
CREATED:20240904T055640Z
LAST-MODIFIED:20240924T081449Z
UID:76541-1728405000-1728415800@kultura.maribor.si
SUMMARY:Fotografiranje za ZIZ koledar 2025
DESCRIPTION:Fotografiranje za ZIZ koledar 2025Koledar\, katerega namen je deobjektifikacija prsi in teles\, je produkt skupinskega projekta odprte narave – vabimo vse\, ki bi želele_i prispevati k vizualni podobi ZIZ koledarja 2025\, da se nam javite kot model. Dobrodošla VSA oprsja vseh barv\, oblik\, struktur\, z dodatki ali brez.\nFotografiranje bo v torek\, 8. oktobra\, med 16.30 in 19.30\, v Mariboru. \n𝗣𝗿𝗶𝗷𝗮𝘃𝗲 𝗱𝗼 𝟭. 𝟭𝟬. 𝗼𝘇. 𝗱𝗼 𝘇𝗮𝗽𝗼𝗹𝗻𝗶𝘁𝘃𝗲 𝗺𝗲𝘀𝘁: https://forms.gle/UjMSGgYGHd4Eg1nF9 \nW: ziz.si | FB: ZIZ | IG: @drustvo_ziz | E: info@ziz.si\nDogodek organizira ZIZ s koproducentom Narodni dom Maribor.Povezava do originalnega članka
URL:https://kultura.maribor.si/dogodek/fotografiranje-za-ziz-koledar-2025-2024-10-08-16-30-00-2024-10-08-19-30-00/
LOCATION:de3aa32b-a13c-4e61-a826-28de0e6684c0
CATEGORIES:Dogodki,Festivali,Gledališče
ATTACH;FMTTYPE=image/jpeg:https://kultura.maribor.si/wp-content/uploads/2024/09/de3aa32b-a13c-4e61-a826-28de0e6684c0-1.jpg
END:VEVENT
BEGIN:VEVENT
DTSTART;TZID=Europe/Paris:20241008T170000
DTEND;TZID=Europe/Paris:20241008T180000
DTSTAMP:20260425T164115
CREATED:20241003T110343Z
LAST-MODIFIED:20241007T114738Z
UID:77736-1728406800-1728410400@kultura.maribor.si
SUMMARY:Knjižnični cikel: AVTOBIOGRAFSKI SPOMINI DR. IVANA JUREČKA
DESCRIPTION:Pogovor o knjigi AVTOBIOGRAFSKI SPOMINI DR. IVANA JUREČKA \nKdo je bil Ivan Jurečko? Deček iz okolice Slovenske Bistrice\, ki je ob začetku prve svetovne vojne končal študij medicine\, bil vojaški zdravnik\, sodni izvedenec na mariborskem sodišču\, predavatelj\, specialist za živčne in duševne bolezni in še mnogo več. \nDr. Gregor Antoličič\, avtor 50. zvezka v seriji Gradivo za zgodovino Maribora in mag. Nina Hriberšek Vuk iz Mariborske knjižnice bosta predstavila zanimivo življenje mariborskega zdravnika\, ki je v spominih opisal svoje življenje od otroštva na deželi in študija do obeh svetovnih vojn in časa med njima. Prav biografije oz. osebni spomini\, kot so Jurečkovi\, nam ponujajo priložnost\, da spoznavamo mišljenje in delovanje ljudi\, ki so živeli v obdobju tektonskih premikov v človeški zgodovini. \nKako so se posamezniki znašli v teh časih? Kakšno je bilo vsakdanje življenje nekoga na fronti prve svetovne vojne ali pa med ujetništvom v času druge svetovne vojne? Na takšna in mnoga druga vprašanja lahko najdemo odgovore tudi v pričujočih spominih. \n\nPovezava do originalnega članka
URL:https://kultura.maribor.si/dogodek/knjiznicni-cikel-avtobiografski-spomini-dr-ivana-jurecka-2024-10-08-17-00-00-2024-10-08-18-00-00/
LOCATION:Maribor center / Glazerjeva dvorana Univerzitetne knjižnice Maribor\, Gospejna ulica 10.
CATEGORIES:Dogodki,Literatura
ATTACH;FMTTYPE=image/jpeg:https://kultura.maribor.si/wp-content/uploads/2024/10/avtobiografski-spomini.jpg
END:VEVENT
BEGIN:VEVENT
DTSTART;TZID=Europe/Paris:20241008T190000
DTEND;TZID=Europe/Paris:20241008T220000
DTSTAMP:20260425T164115
CREATED:20240926T060042Z
LAST-MODIFIED:20240930T101411Z
UID:77509-1728414000-1728424800@kultura.maribor.si
SUMMARY:Tekma državnega prvenstva v hokeju: Člani - Jesenice
DESCRIPTION:Adrenalin bo na vrhuncu! \nVabljeni na tekmo državnega prvenstva\, ko se bodo domači junaki pomerili z ekipo Jesenic. Napet boj\, izjemno vzdušje in zabava za vse generacije – podprite svoje favorite. \nMaribor bo v torek\, 8. oktobra\, gostil tekmo državnega prvenstva\, kjer se bodo naši fantje pomerili z Jeseničani. Tekma obeta napet dvoboj\, poln hitrih akcij in borbe do zadnje sekunde. Ledna dvorana Maribor bo pokala po šivih z izjemnim vzdušjem. \nPripeljite otroke in prijatelje ter uživajte v popoldnevu športa in zabave. Bodite del hokejske zgodbe in podprite naš klub na poti do zmage. Vsak navijač šteje! \nKdaj in kje?  \n📅 Torek\, 8. oktober 2024 \n🕒 Začetek ob 19:00 \n📍 Ledna dvorana Maribor\, Koresova ulica 7 \nVstopnice: Na voljo na blagajni pred dvorano ali na spletni strani www.lisjaki.net. \nVeč o cenah in vrstah vstopnic preberite na spletni strani. \nNe zamudite hokejskega spektakla – postanite del hokejske zgodbe! \n\nPovezava do originalnega članka
URL:https://kultura.maribor.si/dogodek/tekma-drzavnega-prvenstva-v-hokeju-clani-jesenice-2024-10-08-19-00-00-2024-10-08-22-00-00/
LOCATION:Maribor center / Ledna dvorana Maribor\, Koresova ulica 7
CATEGORIES:Dogodki
ATTACH;FMTTYPE=image/png:https://kultura.maribor.si/wp-content/uploads/2024/09/hokejska-tekma-lisjaki-1.png
END:VEVENT
BEGIN:VEVENT
DTSTART;TZID=Europe/Paris:20241008T190000
DTEND;TZID=Europe/Paris:20241012T000000
DTSTAMP:20260425T164115
CREATED:20240916T050327Z
LAST-MODIFIED:20240924T081427Z
UID:77081-1728414000-1728691200@kultura.maribor.si
SUMMARY:6. ZIZ festival
DESCRIPTION:dnevi mariborske alternativne gledališke produkcije \nVsem gradbenim jamam\, propadlim projektom\, vsem neizpolnjenim obljubam in novim platojem navkljub Maribor niti betonska džungla ni. Maribor usiha\, Maribor izumira. Maribor postaja puščava. \n6. ZIZ festival opozarja\, da mesto\, ki svoj karakter zabetonira na račun spoliranega videza in všečnosti turistom\, ne postane gojišče idej in preboja\, pač pa pogorišče ugaslih zgodb in pogašenega upanja. V pustinji ostajajo le redko posejane oaze. V njih pa\, če zapremo oči\, odzvanja to\, kar je bilo\, in tisto\, kar bi lahko postalo. Neodvisna gledališka umetnost v drugem največjem mestu v državi\, centru vzhodne kohezijske regije\, sedežu slovenske Štajerske\, ponosnem in pokončnem mestu … ne izbori kaj več od fatamorgane. A kljub temu ostajamo. Vrata naše Kasablanke so široko odprta. \nV pretekli ZIZ sezoni je premiero doživelo sedem uprizoritev mariborskih neodvisnih producentov\, sprehod po mariborski pustinji bo zaokrožila 11. Gala ZIZ. \nProdukcija: Društvo ZIZ \nKoprodukcija: Narodni dom Maribor \nPovezava do originalnega članka
URL:https://kultura.maribor.si/dogodek/6-ziz-festival-2024-10-08-19-00-00-2024-10-12-00-00-00/
LOCATION:Maribor center / Narodni dom Maribor\, GT22
CATEGORIES:Dogodki,Festivali,Gledališče
ATTACH;FMTTYPE=image/jpeg:https://kultura.maribor.si/wp-content/uploads/2024/09/c70d9a28-5113-4493-99b8-a41b27727ae5.jpg
END:VEVENT
BEGIN:VEVENT
DTSTART;TZID=Europe/Paris:20241008T193000
DTEND;TZID=Europe/Paris:20241008T193000
DTSTAMP:20260425T164115
CREATED:20241006T212206Z
LAST-MODIFIED:20241007T114757Z
UID:77830-1728415800-1728415800@kultura.maribor.si
SUMMARY:Opera Lucia di Lammermoor
DESCRIPTION:Tragična opera v treh dejanjih \nLucia di Lammermoor\, ena najznamenitejših oper Gaetana Donizettija\, temelji na romanu Walterja Scotta o mladi Lucii Ashton\, ki zaradi družinskih pritiskov opusti ljubezen do Edgarda Ravenswooda in se prisiljeno poroči z drugim. Zaradi nemogoče ljubezni Lucia zblazni\, kar opera prikaže s pretresljivo pevsko in psihološko globino. \nDonizetti je z mojstrsko vokalno virtuoznostjo in tragičnim zapletom ustvaril opero\, ki ostaja ikonična upodobitev ženske\, ujetnice neuslišane ljubezni in družinskih pritiskov. \n\nPovezava do originalnega članka
URL:https://kultura.maribor.si/dogodek/opera-lucia-di-lammermoor-2024-10-08-19-30-00-2024-10-08-00-00-00/
LOCATION:Maribor center / Slovensko narodno gledališče Maribor\, Slovenska ulica 27\, 2000 Maribor
CATEGORIES:Dogodki,Gledališče
ATTACH;FMTTYPE=image/jpeg:https://kultura.maribor.si/wp-content/uploads/2024/10/opera-opera-lucia-di-lammermoor-sng-visit-maribor-2.jpg
END:VEVENT
BEGIN:VEVENT
DTSTART;TZID=Europe/Paris:20241008T200000
DTEND;TZID=Europe/Paris:20241008T200000
DTSTAMP:20260425T164115
CREATED:20240916T050306Z
LAST-MODIFIED:20240924T082236Z
UID:77059-1728417600-1728417600@kultura.maribor.si
SUMMARY:Oaza sredi mrtvega mesta
DESCRIPTION:otvoritev 6. ZIZ festivala \nVelikani so padli\, zob časa njihove dimnike melje v prah. Stekla praznih vitrin duši sipek pesek. Krik s suhih ustnic vpijočega odnaša veter\, ki brusi prazne ulice. Žgoče sonce cvre preproste sanje\, da je pod zemljo še dovolj prostora za življenje. Kljub temu\, ali ravno zato\, ZIZ ponovno postavlja tendo\, vlači šlauf in premika teglce\, da že šestič postavi oazo v gledališki puščavi Maribora. \nŠesti ZIZ festival odpiramo s svežino novonastalega materiala\, z zametki avtorskih besedil\, nastalih pod krovno temo “Maribor: mrtvo mesto”. Bralnouprizorjenemu kolažu bo sledil poklon ZIZovemu popotniku\, ki se iz puščave ni vrnil. \nOtvoritveni dogodek. 8. 10.\, 20.00 / Klet Narodnega doma Maribor \nProst vstop\, ZIZšank dela. \nZIZ festival je produkcija Društva ZIZ. \nKoproducent: Narodni dom Maribor – Vetrinjski dvor \nSoorganizatorji: KID Kibla\, MKC Maribor\, Pekarna Magdalenske mreže Maribor\, Moment Festivala NE sofinancira Mestna občina Maribor. \n\nPovezava do originalnega članka
URL:https://kultura.maribor.si/dogodek/oaza-sredi-mrtvega-mesta-2024-10-08-20-00-00-2024-10-08-00-00-00/
LOCATION:Maribor center / Narodni dom Maribor
CATEGORIES:Dogodki,Festivali,Gledališče
ATTACH;FMTTYPE=image/jpeg:https://kultura.maribor.si/wp-content/uploads/2024/09/01d8dc72-044c-4070-a038-b79561ebf213.jpg
END:VEVENT
END:VCALENDAR