BEGIN:VCALENDAR
VERSION:2.0
PRODID:-//Kultura Maribor - ECPv6.2.8.1//NONSGML v1.0//EN
CALSCALE:GREGORIAN
METHOD:PUBLISH
X-WR-CALNAME:Kultura Maribor
X-ORIGINAL-URL:https://kultura.maribor.si
X-WR-CALDESC:Events for Kultura Maribor
REFRESH-INTERVAL;VALUE=DURATION:PT1H
X-Robots-Tag:noindex
X-PUBLISHED-TTL:PT1H
BEGIN:VTIMEZONE
TZID:Europe/Paris
BEGIN:DAYLIGHT
TZOFFSETFROM:+0100
TZOFFSETTO:+0200
TZNAME:CEST
DTSTART:20240331T010000
END:DAYLIGHT
BEGIN:STANDARD
TZOFFSETFROM:+0200
TZOFFSETTO:+0100
TZNAME:CET
DTSTART:20241027T010000
END:STANDARD
END:VTIMEZONE
BEGIN:VEVENT
DTSTART;TZID=Europe/Paris:20240110T180000
DTEND;TZID=Europe/Paris:20240215T180000
DTSTAMP:20260425T210703
CREATED:20240104T135608Z
LAST-MODIFIED:20240105T111826Z
UID:67546-1704909600-1708020000@kultura.maribor.si
SUMMARY:Slikoviti svetovi Luigija Kasimirja
DESCRIPTION:Razstava Mladi kustos 2024\nSlikoviti svetovi Luigija Kasimirja\nGalerija Media Nox\, Maribor\, 10. 1. 2024–15. 2. 2024 \nŠtudenti 3. letnika dodiplomskega študija na Oddelku za umetnostno zgodovino Filozofske fakultete Univerze v Mariboru v Galeriji Media Nox razstavljajo izbrana dela na Ptuju rojenega grafika Luigija Kasimirja (1881–1962). Že za časa svojega življenja evropsko priznan umetnik je zapustil kakovostne grafike\, ki so nastale kot spomini na njegove domače kraje\, potovanja v bližnje in tudi bolj oddaljene kraje (Bruck\, Salzburg\, München\, London\, Rim\, New York in drugam) ter kot dokumenti vojnega opustošenja. Na razstavi so predstavljene skrbno izbrane romantične vedute in grafike s pomembno dokumentarno vrednostjo. \nMladi kustosi: Marko Balažič\, Monika Gerečnik\, Ana Pleteršek\, Rebeka Prelog\, Jan Slaček\, Lara Tumpej\, Lucija Zemljič \nOtvoritev razstave bo v sredo\, 10. januarja\, ob 18. uri v Galeriji Media Nox.  \nVabljeni! \n\n\n\n\n\n\n\n\n\n\n\n\n\n\n\n\n\nPovezava do originalnega članka
URL:https://kultura.maribor.si/dogodek/galerija-media-nox-slikoviti-svetovi-luigija-kasimirja-2024-01-10-18-00-00-2024-02-15-18-00-00/
LOCATION:Galerija Media Nox
CATEGORIES:Razstave
ATTACH;FMTTYPE=image/jpeg:https://kultura.maribor.si/wp-content/uploads/2024/01/SL17-scaled.jpg
END:VEVENT
BEGIN:VEVENT
DTSTART;TZID=Europe/Paris:20240116T160000
DTEND;TZID=Europe/Paris:20240125T160000
DTSTAMP:20260425T210703
CREATED:20240115T130744Z
LAST-MODIFIED:20240117T120917Z
UID:68223-1705420800-1706198400@kultura.maribor.si
SUMMARY:Razstava: Izzivi oblikovanja
DESCRIPTION:Razstava Srednje šole za oblikovanje Maribor \nIZZIV OBLIKOVANJA\n16. – 25. januar 2024 @ Kulturni inkubator \nV razstavišču Kulturnega inkubatorja so dijaki Srednje šole za oblikovanje Maribor pripravili razstavo Izzivi oblikovanja\, s katero želijo širši publiki predstaviti rezultate svojega dela. \nOtvoritev razstave bo v torek\, 16. januarja\, ob 16. uri\, razstava pa bo nato na ogled še do 25. januarja. \nVabljeni! \n\n\n\n\n\n\n\n\n\n\n\n\n\n\nPovezava do originalnega članka
URL:https://kultura.maribor.si/dogodek/razstava-izzivi-oblikovanja-2024-01-16-16-00-00-2024-01-25-16-00-00/
LOCATION:Kulturni inkubator
CATEGORIES:Razstave
ATTACH;FMTTYPE=image/jpeg:https://kultura.maribor.si/wp-content/uploads/2024/01/419210421_419087983781861_3114326267151456007_n.jpg
END:VEVENT
BEGIN:VEVENT
DTSTART;TZID=Europe/Paris:20240119T000000
DTEND;TZID=Europe/Paris:20240201T000000
DTSTAMP:20260425T210703
CREATED:20240119T074223Z
LAST-MODIFIED:20240205T073019Z
UID:68630-1705622400-1706745600@kultura.maribor.si
SUMMARY:Vodstvo po razstavi Slikoviti svetovi Luigija Kasimirja
DESCRIPTION:Avtorji bodo obiskovalce popeljali po razstavi\, ki so jo pripravili v sklopu projekta Mladi kustos. \nŠtudenti 3. letnika na Oddelku za umetnostno zgodovino Filozofske fakultete Univerze v Maroboru so v sklopu projekta Mladi kustos v Galeriji Media Nox pripravili razstavo Slikoviti svetovi Luigija Kasimirja.  Na razstavi so predstavljene skrbno izbrane vedute in grafike s pomembno dokumentarno vrednostjo. \nNa Prešernov dan avrtorji razstave vabijo na voden ogled razstave\, ki bo v Galeriji Media Nox potekal ob 11. uri. \nGalerija bo sicer na ta praznični dan odprta med 10. in 14. uro ter 15. in 18. uro. Razstava je na ogled do 15. februarja. \n\nPovezava do originalnega članka
URL:https://kultura.maribor.si/dogodek/vodstvo-po-razstavi-slikoviti-svetovi-luigija-kasimirja-2024-02-08-11-00-00-2024-02-08-18-00-00/
LOCATION:Galerija Media Nox\nŽidovska ulica 12 Maribor\, Upravna enota Maribor\, 2000 Slovenia
CATEGORIES:Razstave
ATTACH;FMTTYPE=image/jpeg:https://kultura.maribor.si/wp-content/uploads/2024/01/97d2fe4a-8d88-4978-a87e-3ceb0861ca52.jpg
END:VEVENT
BEGIN:VEVENT
DTSTART;TZID=Europe/Paris:20240119T190000
DTEND;TZID=Europe/Paris:20240225T190000
DTSTAMP:20260425T210703
CREATED:20240108T091817Z
LAST-MODIFIED:20240108T091819Z
UID:67808-1705690800-1708887600@kultura.maribor.si
SUMMARY:LARA JERANKO MARCONI / NOREC
DESCRIPTION:Lara Jeranko Marconi / Norec\nUGM Kabinet\, Strossmayerjeva ulica 6\n19. januar 2024–25. februar 2024\notvoritev: petek\, 19. januar 2024\, 19.00 \nkustosinja: Majda Božeglav Japelj (Obalne galerije Piran) \nZ veseljem predstavljamo razstavo del Lare Jeranko Marconi\, slikarke in ilustratorke iz Kopra\, ki je nastala v sodelovanju z Obalnimi galerijami Piran. \nIzbrana dela\, nastala v obdobju zadnjih petih let (2018-2022)\, so vključena v različne tematske cikle z zgovornimi naslovi: Ikone\, Relikvije\, Portreti\, Tapiserije\, Korespondenca\, Mape … Nič manj pomemben oziroma ključen je naslov razstave: Norec. V Tarotu vseprisotna figura je naselila tudi magični svet Larinih  podob. Avtorica ga upodablja kot počlovečeno živalsko bitje\, volkec\, ki v svojih številnih preobrazbah vstopa v kompleksno zaporedje dogodkov na stenskih in prostorskih tapiserijah\, v filigransko stkane reliefne papirnate strukture\, v mehko izvezene podobe na platnu in risbe. V seriji 21 risb Blue tarot norec pooseblja čistost duha\, veselje\, radost\, pozitivno razpoloženje\, ki pa v naslednjem trenutku lahko nezavedno zdrsne v obup in slutnjo lastnega konca. Na nek način ohranja podobo tragičnega lika\, ta ponazarja človekovo pot skozi življenje\, polnem takih in drugačnih izkušenj. \nLarin svet rastlinskih arabesk in počlovečenih živalskih figur je pogosto pripovedno strnjen na monokromnih barvnih površinah\, kjer se v sredinski krožni kompoziciji odvija dramatično zgoščen formalno-vsebinski  tekst. V teh postmodernih herbarijih\, ob katerih se spomnimo na onirični svet holandskega renesančnega slikarja Hieronimusa Boscha\, je čutiti neslišno vibriranje rastlin. Te se v vročični energiji predstavljanja gostijo\, razraščajo\, prepletajo oziroma goltajo neme prebivalce prostorsko in časovno nedoločljivih prostorov\, domišljijskih krajin. \nŽivalska bitja s človeškimi potezami so v stanju nenehne preobrazbe\, levitve\, kot nekakšni hibridi\, ki pod krinko ene skrivajo podobo druge živalske vrste. V gledalcu vzbujajo nasprotujoča si čustva. Neprikrito občudovanje se izmenjuje z občutkom nelagodja\, saj s subtilno eleganco na nek način razkrivajo nadvse kruta dejanja: na pol prerezana\, s sulico prebodena ali celo razčetverjena živalska telesa\, katerih posamezni kosi se lahko zatem pojavijo v drugem ciklu. V  mislih imamo del postavitve z naslovom Relikvije\, ki spominja na Kabinet čudes (Wunderkammer) iz 16. in 17. stoletja. Gre za privilegirane prostore\, v katerih so se hranile zanimive\, predvsem pa redke najdbe predmetov in naravnih heterogenih podob\, z namenom spodbujanja predstav o novih\, drugačnih podobah sveta. V omenjenem ciklu torej najdemo dragocene ostanke preminulih živih bitij ki so\, skupaj z botanično zbirko redkih rastlin\, skrbno razvrščena v steklene relikviarije. \nNavidezno normalen kontekst z elementi absurda\, ki ga zaznavamo v delu primorske umetnice\, zahteva od gledalca pozornost in zbrano opazovanje. Pravzaprav gre za dokaj neobičajen pristop v sodobnem času hitrega in površnega konzumiranja vsega\, ne zgolj podob. Larine krhke papirnate stvaritve\, prepojene z lirično otožnostjo\, skozi katero se pretaka jedka ironija\, govorijo o skrivnostni naravi življenja in človekovega odnosa do sveta. Namigujejo na generično in spremenljivo moč umetnosti; so kot nekakšni talismani\, žive entitete\, z magično sposobnostjo vplivanja\, preoblikovanja posameznika in s tem celotnega sveta. \nLara Jeranko Marconi (Koper\, 1984)\, slikarka in ilustratorka iz Kopra\, se je likovno formirala na beneški Akademiji lepih umetnosti. Uvršča se med izbrane slovenske vizualne umetnike mlajše generacije. Za njeno ustvarjalno rast je bil pomemben 52. Beneški bienale\, ko je imela priložnost sodelovati s slovitim umetnikom Raymondom Pettibonom. Svojo prvo osebno razstavo v Sloveniji je postavila v Galeriji Insula v Izoli leta 2008.  Deset let kasneje je v koprski Galeriji Loža sodelovala na mednarodni skupinski razstavi Maravee Mind. Lara Marconi Jeranko je perspektivna umetnica\, ki je na določeni stopnji svojega raziskovanja zamenjala čopič za škarje in njena prepoznavna stalnica so postale izrezanke (papercutting). V znamenju te posebne likovne zvrsti je tudi njena tokratna osebna razstava.
URL:https://kultura.maribor.si/dogodek/lara-jeranko-marconi-norec/
LOCATION:UGM Kabinet\n6 Strossmayerjeva ulica Maribor\, Upravna enota Maribor\, 2000 Slovenia
CATEGORIES:Dogodki,Razstave
ATTACH;FMTTYPE=image/jpeg:https://kultura.maribor.si/wp-content/uploads/2024/01/Lara_Jeranko_Marconi__Korespondenc_I__2021__izrezanka__rocno_izdelan_papir_in_zlati_listici__50_x_70_cm.jpg
END:VEVENT
BEGIN:VEVENT
DTSTART;TZID=Europe/Paris:20240125T150000
DTEND;TZID=Europe/Paris:20240125T150000
DTSTAMP:20260425T210703
CREATED:20240104T135028Z
LAST-MODIFIED:20240108T090233Z
UID:67462-1706194800-1706194800@kultura.maribor.si
SUMMARY:Veliki mojstri z violončelom in akordeonom
DESCRIPTION:3. koncert Mladinskega cikla 2023/2024. \nProfesorja glasbe bosta predstavila violončelo in akordeon kot glasbeni duo ter najširšemu občinstvu približala zvoke baroka in kompozicije najsodobnejšega časa. Članoma novoustanovljene zasedbe komorna igra ni tuja\, saj ob mnogih solističnih nastopih tudi redno koncertirata v različnih manjših\, večjih in celo orkestrskih zasedbah. Sebastian Bertoncelj je poleg tega dejaven na raziskovalnem področju in se poglablja v historično izvajalsko prakso komorne glasbe Johannesa Brahmsa\, Andrej Kos pa je glavnino svojega študija posvetil velikemu mojstru baroka. Program za njune koncerte je premišljeno izbran in sledi njunemu poznavalskemu področju. Dobitnika številnih nagrad\, soustvarjalca mnogih festivalov in pedagoga iščeta nove načine\, priložnosti in občinstvo\, kjer lahko predstavita izbrano glasbo. \n\nPovezava do originalnega članka
URL:https://kultura.maribor.si/dogodek/veliki-mojstri-z-violoncelom-in-akordeonom-2024-01-25-15-00-00-2024-01-25-00-00-00/
LOCATION:Maribor center / Dvorana Union (Prešernova ulica 3\, Maribor)
CATEGORIES:Dogodki,Glasba
ATTACH;FMTTYPE=image/jpeg:https://kultura.maribor.si/wp-content/uploads/2024/01/69394d18-627a-4dbd-a6d4-02c3da097a16.jpg
END:VEVENT
BEGIN:VEVENT
DTSTART;TZID=Europe/Paris:20240125T180000
DTEND;TZID=Europe/Paris:20240125T190000
DTSTAMP:20260425T210703
CREATED:20240116T102843Z
LAST-MODIFIED:20240117T121143Z
UID:68235-1706205600-1706209200@kultura.maribor.si
SUMMARY:Literarno-zgodovinski večer: »Maribor je bil danes odvraten«
DESCRIPTION:Literarno-zgodovinski večer ob 140-letnici rojstva in 80-letnici smrti Josipa Vandota\, kultnega avtorja Kekčevih pripovedk\, ki je začetek druge svetovne vojne doživel v Mariboru. Opis mesta v prvih dnevih vojne\, kot ga zapisal v Daleč od Prisanka. \nČetrtek\, 25. januarja\, ob 18. uri v Kulturni dvorani Toneta Partljiča\, Pesnica pri Mariboru 41 \nNa cvetno nedeljo\, 6. aprila 1941\, začne Vandot popisovati usodne dogodke mesta\, ki je še včeraj kazalo slovenski obraz. S pretresljivo iskrenostjo in prezirom Maribor tistega časa označi kot »odvratno«\, »zoprno« in »ogabno« mesto\, polno »nemškutarske sodrge«. Po začetku vojne začno Nemci – sprva pod krinko prijaznih osvajalcev – opravljati vpise\, popise\, preglede\, poizvedbe\, špijonaže\, a že kmalu prerastejo v nepopustljive izvrševalce anekdotične Hitlerjeve komande »napravite mi to deželo zopet nemško«. \nLiterarni večer\, ki ga je pripravila dramaturginja Maja Borin\, bosta vodila dramska igralca Ksenija Mišič in Vojko Belšak. \nArhivsko gradivo\, ki bo razkrilo dokumentaristično plat dogodka\, so pripravile: mag. Nina Gostenčnik\, Mojca Kosi\, Sabina Lešnik in Špela Valadžija.  \nV soorganizaciji Mariborske knjižnice\, Drame SNG Maribor in Pokrajinskega arhiva Maribor. \n\nPovezava do originalnega članka
URL:https://kultura.maribor.si/dogodek/literarno-zgodovinski-vecer-maribor-je-bil-danes-odvraten-2024-01-25-18-00-00-2024-01-25-19-00-00/
LOCATION:Kulturni dvorani Toneta Partljiča
CATEGORIES:Dogodki
ATTACH;FMTTYPE=image/jpeg:https://kultura.maribor.si/wp-content/uploads/2024/01/b08f3aea-4ffa-49a9-8ae0-a1950f31f0a7.jpg
END:VEVENT
BEGIN:VEVENT
DTSTART;TZID=Europe/Paris:20240125T190000
DTEND;TZID=Europe/Paris:20240125T190000
DTSTAMP:20260425T210703
CREATED:20240111T222729Z
LAST-MODIFIED:20240112T121541Z
UID:68113-1706209200-1706209200@kultura.maribor.si
SUMMARY:Maja & Stela v Vetrinjcu
DESCRIPTION:Maja Novak (vokal) in Stela Gašparič (klaviature) sta študentki prvega letnika glasbene pedagogike v Mariboru. Maja prihaja iz Majšperka\, Stela iz Maribora. Čas za vajo si najdeta v prostih urah med predavanji. Spoznali sta se oktobra in hitro ugotovili\, da ju skupno muziciranje slovenskih ter hrvaških popevk in balad osrečuje\, zato bi to srečo radi podelili naprej na samostojnem koncertu. \nVstop je prost\, prispevki za muzičarki pa dobrodošli. \n\n\nVetrinjc – BarCoda \n\n\n\nPovezava do originalnega članka
URL:https://kultura.maribor.si/dogodek/maja-stela-v-vetrinjcu-2024-01-25-19-00-00/
LOCATION:Vetrinjc – BarCoda
CATEGORIES:Dogodki,Glasba
ATTACH;FMTTYPE=image/jpeg:https://kultura.maribor.si/wp-content/uploads/2024/01/416833884n_b.jpg
END:VEVENT
END:VCALENDAR