BEGIN:VCALENDAR
VERSION:2.0
PRODID:-//Kultura Maribor - ECPv6.2.8.1//NONSGML v1.0//EN
CALSCALE:GREGORIAN
METHOD:PUBLISH
X-WR-CALNAME:Kultura Maribor
X-ORIGINAL-URL:https://kultura.maribor.si
X-WR-CALDESC:Events for Kultura Maribor
REFRESH-INTERVAL;VALUE=DURATION:PT1H
X-Robots-Tag:noindex
X-PUBLISHED-TTL:PT1H
BEGIN:VTIMEZONE
TZID:Europe/Paris
BEGIN:DAYLIGHT
TZOFFSETFROM:+0100
TZOFFSETTO:+0200
TZNAME:CEST
DTSTART:20230326T010000
END:DAYLIGHT
BEGIN:STANDARD
TZOFFSETFROM:+0200
TZOFFSETTO:+0100
TZNAME:CET
DTSTART:20231029T010000
END:STANDARD
BEGIN:DAYLIGHT
TZOFFSETFROM:+0100
TZOFFSETTO:+0200
TZNAME:CEST
DTSTART:20240331T010000
END:DAYLIGHT
BEGIN:STANDARD
TZOFFSETFROM:+0200
TZOFFSETTO:+0100
TZNAME:CET
DTSTART:20241027T010000
END:STANDARD
END:VTIMEZONE
BEGIN:VEVENT
DTSTART;TZID=Europe/Paris:20231027T000000
DTEND;TZID=Europe/Paris:20240107T000000
DTSTAMP:20260425T210608
CREATED:20230712T090514Z
LAST-MODIFIED:20231023T065026Z
UID:38813-1698364800-1704585600@kultura.maribor.si
SUMMARY:It's Okay to Cry
DESCRIPTION:Mednarodna skupinska razstava It’s Okay to Cry se osredotoča na raziskovanje različnih manifestacij čustev v sodobni družbi. \nOtvoritev: petek\, 27. oktober 2023\, 19.00 \nkuratorji: Mednarodni festival fotografije ORGAN VIDA (Barbara Gregov\, Lovro Japundžić\, Lea Vene) \nČas\, v katerem živimo\, zaznamujeta vse večja nestabilnost in negotovost ter posledično kolektivno nihanje med čustvenimi skrajnostmi – obupom in ekstazo\, globoko tesnobo in lahkotno evforijo\, potrebo po nadzoru in smislu ali prepuščanjem kaosu in sprejemanjem nesmisla. Izhajajoč iz družbene dimenzije čustev in čustvovanja\, razstava predstavlja umetniška dela\, ki obravnavajo prevladujoča negativna čustva\, kot sta apatija ali tesnoba\, pa tudi umetniška dela\, ki predstavljajo protiutež palete čustev ter raziskujejo in/ali si predstavljajo različne čustvene dimenzije dis/u/topij\, domišljije in fantazije. \nRazstava It’s Okay to Cry izhaja iz in obenem razširja konceptualni okvir 12. festivala Organ Vida z naslovom No Tears Left to Cry\, ki je potekal jeseni 2022 v Zagrebu\, obenem pa predstavlja že drugo uspešno sodelovanje med UGM in Organ Vida. \n\nPovezava do originalnega članka
URL:https://kultura.maribor.si/dogodek/it-s-okay-to-cry-2023-10-27-00-00-00-2024-01-07-00-00-00/
LOCATION:Maribor center / Umetnostna galerija Maribor (Strossmayerjeva 6\, Maribor)
CATEGORIES:Razstave
ATTACH;FMTTYPE=image/jpeg:https://kultura.maribor.si/wp-content/uploads/2023/07/695a744f-24ec-45e9-b2e6-ac70d9e8fcb8.jpg
END:VEVENT
END:VCALENDAR