BEGIN:VCALENDAR
VERSION:2.0
PRODID:-//Kultura Maribor - ECPv6.2.8.1//NONSGML v1.0//EN
CALSCALE:GREGORIAN
METHOD:PUBLISH
X-WR-CALNAME:Kultura Maribor
X-ORIGINAL-URL:https://kultura.maribor.si
X-WR-CALDESC:Events for Kultura Maribor
REFRESH-INTERVAL;VALUE=DURATION:PT1H
X-Robots-Tag:noindex
X-PUBLISHED-TTL:PT1H
BEGIN:VTIMEZONE
TZID:UTC
BEGIN:STANDARD
TZOFFSETFROM:+0000
TZOFFSETTO:+0000
TZNAME:UTC
DTSTART:20210101T000000
END:STANDARD
TZID:Europe/Paris
BEGIN:DAYLIGHT
TZOFFSETFROM:+0100
TZOFFSETTO:+0200
TZNAME:CEST
DTSTART:20220327T010000
END:DAYLIGHT
BEGIN:STANDARD
TZOFFSETFROM:+0200
TZOFFSETTO:+0100
TZNAME:CET
DTSTART:20221030T010000
END:STANDARD
END:VTIMEZONE
BEGIN:VEVENT
DTSTART;TZID=UTC:20210617T000000
DTEND;TZID=UTC:20221231T000000
DTSTAMP:20260426T041649
CREATED:20211123T111147Z
LAST-MODIFIED:20211219T183024Z
UID:10507-1623888000-1672444800@kultura.maribor.si
SUMMARY:Razstava: Vino naše vsakdanje
DESCRIPTION:Otvoritev: četrtek\, 17. junija 2021\, ob 18. uri\, viteška dvorana\, vhod z Grajske ulice.\nRazstava s prikazom delovnih šeg in navad sledi koledarskemu letu v vinogradu\, vzporedno pa pripoveduje o vlogi vina v vsakdanjem življenju\, ob velikih življenjskih prelomnicah in ob praznikih. \nVino predstavi kot živilo\, poživilo\, naravno zdravilo\, njegove temne plati in nakazuje razloge za njegovo vseprisotnost v našem kulturnem okolju. Obiskovalcem je na razstavi na voljo interaktivna miza\, ki ponuja vpogled v slavnostne jedilnike različnih zgodovinskih obdobij. Prikazuje odnos do hrane in vina ter spremembe\, ki so se dogajale za bogataško mizo od 15. do 20. stoletja. \nFOTO: Pivski vrč\, bilikum\, 1900\, Šmarje pri Jelšah \nOgled razstave:\n\ntorek-sobota: 10.00-18.00\n\n\n\n\n\n\n\n\nPovezava do originalnega članka
URL:https://kultura.maribor.si/dogodek/razstava-vino-nase-vsakdanje-2021-06-17-00-00-00-2022-12-31-00-00-00/
LOCATION:Pokrajinski muzej\n2 Grajska ulica Maribor\, Upravna enota Maribor\, 2000 Slovenia
CATEGORIES:Razstave
ATTACH;FMTTYPE=image/jpeg:https://kultura.maribor.si/wp-content/uploads/2021/11/vino-nase-vsakdanje-1.jpg
END:VEVENT
BEGIN:VEVENT
DTSTART;TZID=Europe/Paris:20220208T120000
DTEND;TZID=Europe/Paris:20221231T000000
DTSTAMP:20260426T041649
CREATED:20220127T124710Z
LAST-MODIFIED:20220202T112721Z
UID:16526-1644321600-1672444800@kultura.maribor.si
SUMMARY:Nevidni Maribor: Nadvojvoda Janez\, oče Meranovega
DESCRIPTION:»Zvestoba dobremu staremu\, vendar tudi posluh za novo.« \n»… Lep dan\, zahajajoče sonce\, mir. Bog obvarji to božansko deželo\, sem si mislil\, v tvojih rokah sta mir in sreča te mile pokrajine. Z lepoto si jo zaznamoval in vanjo naselil dobre ljudi …« (iz dnevnika Nadvojvode Janeza) \n\nVljudno vas vabimo na ogled nove muzejske postavitve na Meranovem\, ki vas bo popeljala po zgodovini posesti na drugačen način. Otvoritev\, ki bo potekala v torek\, 8. februarja 2022\, ob 12. uri\, je prva v seriji mariborskih obeležij 200. obletnice prihoda nadvojvode Janeza na Meranovo in v Maribor. \n\n\nNadvojvoda Janez Habsburško-Lotarinški je leta 1822 kupil posestvo\, danes znano kot Meranovo. Ime je dobilo po njegovem sinu\, grofu Francu Meranskem. Z velikimi stroški jo je spremenil v vzorno vinogradniško posest. Na njej je uvedel porenske sorte vinske trte\, s čimer je ustvaril možnost za dvig kakovosti vinogradništva v Podravju. Prvi uspeh se je pokazal že ob trgatvi leta 1826\, ki se je je nadvojvoda Janez osebno udeležil. Na tem posestvu je nadvojvodo in njegovo ženo Ano Plochl leta 1830 obiskal tudi sam avstrijski cesar Franc I. s soprogo Karolino Avgusto\, sicer Janezov brat. \n\nVinogradi so postali tako ugledni in znani\, da so na posesti v današnjem Hrastju leta 1832 ustanovili viničarsko šolo\, ki je poudarjala pomen praktične izobrazbe. Vrhunec teh prizadevanj pa je bila ustanovitev Štajerske deželne sadjarsko-vinarske šole v Mariboru leta 1872. Kot velik dosežek sistematičnega prepletanja kmetijstva\, kulture\, raziskovanja in izobraževanja je potrebno omeniti oceno prvovrstnosti vina sorte rizlinga z Meranovega leta 1855 na veliki mednarodni razstavi kmetijskih\, industrijskih in umetnostnih izdelkov v Parizu.\nVsebine raziskujemo in jih z umetniškimi postopki in ambientalnimi postavitvami predstavljamo na nove načine\, od fizičnih objektov do izkušenj najnovejših tehnologij.\n\nRazstava bo na ogled do konca leta 2022.\nZa odpiralni čas prosimo\, da nas predhodno kontaktirate na kibla@kibla.org.\n\n\n———–\n\nProjekt je nastal v sodelovanju s Fakulteto za kmetijstvo in biosistemske vede Univerze v Mariboru.\nNevidni Maribor je pilotni projekt Mreže RUK v izvedbi KIBLA2LAB. Naložbo sofinancirata Republika Slovenija in Evropska unija iz Evropskega sklada za regionalni razvoj.\n\n\n\n\n\nPovezava do originalnega članka
URL:https://kultura.maribor.si/dogodek/nevidni-maribor-nadvojvoda-janez-oce-meranovega-2022-02-08-12-00-00-2022-12-31-00-00-00/
LOCATION:Vinske ceste / Posestvo Meranovo\, Vrhov Dol 14\, 2341 Limbuš
CATEGORIES:Razstave
ATTACH;FMTTYPE=image/jpeg:https://kultura.maribor.si/wp-content/uploads/2022/01/hibridna-razstava-nadvojvoda-janez.jpg
END:VEVENT
BEGIN:VEVENT
DTSTART;TZID=Europe/Paris:20220901T180000
DTEND;TZID=Europe/Paris:20221204T000000
DTSTAMP:20260426T041649
CREATED:20220831T114757Z
LAST-MODIFIED:20220831T125829Z
UID:25538-1662055200-1670112000@kultura.maribor.si
SUMMARY:Luka Hernet / Bežim\, vendar ostajam
DESCRIPTION:Fotograf Luka Hernet se na svoji prvi samostojni razstavi predstavlja s fotografskimi podobami domačega mesta. Maribor odstira v novi luči.Fotografije so nastale v času\, ko je bilo javno življenje povsem ustavljeno in ko so bila potovanja\, tudi čisto blizu\, nemogoča. Takrat smo mnogi odkrivali domače okolje – in ga včasih videli povsem na novo\, iz druge perspektive. »Fotografije so beg iz udobnega\, domačega okolja. Kljub temu\, da je to mesto moj dom\, sem si takrat želel pobegniti nekam drugam. Te fotografije so moj beg.« Rezultat je zanimiva vaja v slogu – poiskati tujost v domačem okolju\, zamisliti si situacijo v drugi realnosti\, preslikati znan prizor v drug svet\, pobegniti\, a stati na mestu. »V seriji sem želel fotografirati objekte – stanovanjske\, industrijske\, športne\, komercialne – kakor da so v drugem kraju. Recimo v nekakšni industrijski coni Amerike ali blokovski utopiji v Angliji.« Predvsem za Mariborčane so Hernetove fotografije tako lep souvenir\, razglednice iz tujih krajev\, ko je naše mesto v času pandemije skozi Hernetov objektiv potovalo daleč stran. \n  \n\nPovezava do originalnega članka
URL:https://kultura.maribor.si/dogodek/luka-hernet-bezim-vendar-ostajam-2022-09-01-18-00-00-2022-12-04-00-00-00/
LOCATION:Maribor center / UGM Šop\, Strossmayerjeva 6
CATEGORIES:Razstave
ATTACH;FMTTYPE=image/jpeg:https://kultura.maribor.si/wp-content/uploads/2022/08/eb2641ac-8549-4c07-8127-3b0b89715c48.jpg
END:VEVENT
BEGIN:VEVENT
DTSTART;TZID=Europe/Paris:20221103T090000
DTEND;TZID=Europe/Paris:20221117T180000
DTSTAMP:20260426T041649
CREATED:20221028T124839Z
LAST-MODIFIED:20221102T142512Z
UID:27494-1667466000-1668708000@kultura.maribor.si
SUMMARY:Festival Mladi Maribor 2022
DESCRIPTION:V deveti ediciji festivala Mladi Maribor\, ki se bo zgodil na več kot 10-ih lokacijah\, predstavljamo pestro paleto možnosti za udejstvovanje in aktiviranje! \nV sklopu letošnjega Festivala Mladi Maribor te med 3. in 17. novembrom 2022 vabimo\, da se kvalitetnih ustvarjalnih\, izobraževalnih\, športnih in zabavnih dogodkov\, ki so ti lahko v pomoč tudi pri odločanju o prihodnosti\, udeležiš na več kot 10-ih različnih lokacijah v mestu in tudi preko spleta. \n\n\n\n\n\n\n\n\n\n\n\n\n\n\n\nV prvem delu festivala te vabimo\, da raziščeš mladinske prostore v Mariboru. \n\n\n\n\n\nCELOTEN PROGRAM\n\n\n\n\n\nČe si dijak_inja ali študent_ka in se še odločaš o svoji prihodnosti\, te v drugem delu festivala vabimo\, da obiščeš Karierni sejem – sejem poklicev in izobraževanja. \n\n\n\n\n\nKARIERNI SEJEM\n\n\n\n\n\n\n\n\n\n\nOrganizacija: MKC Maribor \nPartnerji: KUD Coda\, Pekarna Magdalenske mreže\, Slovenska filantropija\, Slam zverine\, Društvo Salezijanski mladinski center Maribor\, Center eksperimentov Maribor\, Standup avtmigeci\, Zavod PIP\, Zveza prijateljev mladine Maribor\, Kulturno društvo mladinski center Indijanez\, Študentska organizacija Univerze v Mariboru\, Popotniško združenje Slovenije \nPodpora: Mestna občina Maribor\, Urad RS za mladino \n\n\n\n\n\nPovezava do originalnega članka
URL:https://kultura.maribor.si/dogodek/festival-mladi-maribor-2022-2022-11-03-09-00-00-2022-11-17-18-00-00/
LOCATION:MKC Maribor
CATEGORIES:Alternativa,Delavnice,Dogodki,Festivali,Glasba
ATTACH;FMTTYPE=image/jpeg:https://kultura.maribor.si/wp-content/uploads/2022/10/FB-cover-1640x640-1.jpg
END:VEVENT
BEGIN:VEVENT
DTSTART;TZID=Europe/Paris:20221107T180000
DTEND;TZID=Europe/Paris:20221121T190000
DTSTAMP:20260426T041649
CREATED:20221021T074355Z
LAST-MODIFIED:20221025T084931Z
UID:27071-1667844000-1669057200@kultura.maribor.si
SUMMARY:Vino na meji / Vino na granici
DESCRIPTION:Razstava \nOtvoritev razstave bo 7. 11. 2022 ob 18.00. \nV času med 7. in 21. novembrom 2022 bo v organizaciji Pokrajinskega arhiva Maribor v Vodnem stolpu na Lentu na ogled razstava Vino na meji / Vino na granici\, ki je nastala v sodelovanju treh slovenskih in treh hrvaških arhivov. \nGre za predstavitev arhivskega gradiva\, ki ga hranijo arhivi in je vezano na vino ter predstavljeno v šestih sklopih: \n1. Iz zemlje gre v trto\n2. Iz trte gre v grozdje\n3. Iz grozdja gre v sode\n4. Iz sodov gre v flaše\n5. Iz flaše gre v glažke\n6. Iz glažkov gre v glave \nVabljeni!  \n\nPovezava do originalnega članka
URL:https://kultura.maribor.si/dogodek/vino-na-meji-vino-na-granici-2022-11-07-10-00-00-2022-11-21-19-00-00/
LOCATION:Maribor center / Vodni stolp na Lentu (Usnjarska ulica 10\, Maribor)
CATEGORIES:Dogodki,Razstave
ATTACH;FMTTYPE=image/jpeg:https://kultura.maribor.si/wp-content/uploads/2022/10/vino-na-meji_vino-na-granici-2.jpg
END:VEVENT
BEGIN:VEVENT
DTSTART;TZID=Europe/Paris:20221109T000000
DTEND;TZID=Europe/Paris:20221210T000000
DTSTAMP:20260426T041649
CREATED:20221109T114141Z
LAST-MODIFIED:20221109T125130Z
UID:27747-1667952000-1670630400@kultura.maribor.si
SUMMARY:MATJAŽ DUH: PORTALI in WAR PIGS
DESCRIPTION:09. November 2022\n\n\n\n\n\n\n\nLikovno raztavišče \nDr. Matjaž Duh na tokratni samostojni razstavi predstavlja izbor slik iz dveh vzporednih slikarskih ciklov\, Portali in War Pigs. \nV Portalih je upodobil nadrealistične vedute domišljijskih gradov\, pogosto opremljenih z napisi v glagolici\, posredujoč tako likovni celoti skrivnostno srednjeveško vzdušje\, medtem ko se v ciklu War Pigs posveča tematiki nesmiselnosti vojne\, pri čemer na slikovnih površinah upodablja arhaično porumenele dokumentarne fotografije v črno-beli tehniki in s tem ustvarja iluzijo pravih posnetkov\, ki kot da bi bili pribiti na ograje. \nRazstava bo na ogled od 11. novembra do 10. decembra. \n\n\n\n\n\n\nPovezava do originalnega članka
URL:https://kultura.maribor.si/dogodek/matjaz-duh-portali-in-war-pigs/
LOCATION:Likovno raztavišče
CATEGORIES:Dogodki,Razstave
ATTACH;FMTTYPE=image/jpeg:https://kultura.maribor.si/wp-content/uploads/2022/11/mduh_art-2.jpg
END:VEVENT
BEGIN:VEVENT
DTSTART;TZID=Europe/Paris:20221111T000000
DTEND;TZID=Europe/Paris:20221130T000000
DTSTAMP:20260426T041649
CREATED:20221110T105050Z
LAST-MODIFIED:20221110T115759Z
UID:27839-1668124800-1669766400@kultura.maribor.si
SUMMARY:NA MARIBORSKIH GRIČIH: Kalvarija – Mestni vrh – Piramida
DESCRIPTION:Izložba UKM \n»Kalvarija maha Piramidi z glogovo vejo\, na Mestnem hribu utripa klopotčevo srce« – pogled na mariborske griče nekoč in danes. \nIzbor iz gradiva Univerzitetne knjižnice Maribor in tehnična izvedba: Toni Krepek. \nNa ogled od 11. do 30. novembra 2022. \n\n\n\n\n\n\nPovezava do originalnega članka
URL:https://kultura.maribor.si/dogodek/na-mariborskih-gricih-kalvarija-mestni-vrh-piramida/
LOCATION:Univerzitetna knjižnica Maribor\n10 Gospejna ulica Maribor\, Upravna enota Maribor\, 2000 Slovenia
CATEGORIES:Dogodki,Razstave
ATTACH;FMTTYPE=image/jpeg:https://kultura.maribor.si/wp-content/uploads/2022/11/grici.jpg
END:VEVENT
BEGIN:VEVENT
DTSTART;TZID=Europe/Paris:20221113T190000
DTEND;TZID=Europe/Paris:20221119T000000
DTSTAMP:20260426T041649
CREATED:20221104T122103Z
LAST-MODIFIED:20221109T130854Z
UID:27614-1668366000-1668816000@kultura.maribor.si
SUMMARY:Filmske nedelje (in sobote) v Lutkovnem: Temne strani ljubezni in seksualnosti
DESCRIPTION:13. in 19. 11. 2022 ob 19.00\, Lutkovno gledališče Maribor \nFilmske nedelje (in sobote) v Lutkovnem:\nPlan Cul La Praline – temne strani ljubezni in seksualnosti\nČe tudi vas navdušujejo kurve\, sprehodi po temnih gozdovih\, skritih vrtičkih\, med različnimi ljubimci in ljubimkami v ognjevitih vlogah\, ste na pravem mestu. Pridružite se nam v vzburljivem večeru kratkih animiranih filmov\, ki s humorjem prikazujejo temnejšo\, a vseeno vibrantno plat ljubezni in spolnosti. \n\n\n\n\n\n\n\n\n\n\n\n\n\n\n\n\n\n\n\nTematska selekcija nagrajenih kratkih animiranih filmov brez tabujev\, skozi različne animacijske tehnike raziskuje teme\, kot so vpliv ljubosumja na naše nezavedno\, sile maščevanja\, spremembe vetra v partnerskem odnosu in vrtince divje strasti\, a obenem prikazuje tudi\, kako svoji partnerki\, ki je noseča s tretjim otrokom\, povedati\, da ste pravkar izgubili službo in da je najstarejša obrt edino delo\, ki ste ga našli. Nabor filmov\, ki združuje grozljivko\, komedije in celo eksperimentalni film\, je priložnost za raziskovanje bogatega vizualnega sveta sodobne animacije in izjemno doživetje. \n\n\n\n\n\n\n\n\n\n\n\n\n\n\n\n\n\n\n\nProgram:\n\n\n\n\n\n\n\n\n* Toomas pod dolino divjih volkov / Toomas teispool metsikute huntide orgu\n\n\n\n\n\n\n\n\nChintis Lundgren\, Drasko Ivezic (Chintis Lundgreni Animatsioonstuudio / Adriatic Animation / Miyu Productions)\, Estonija\, Hrvaška\, Francija\, 2019\, 18′ \nKo mlad\, privlačen volk Toomas izgubi dobro plačano službo inženirja\, mu ne preostane drugega\, kot da začne služiti družinski kruh kot žigolo. Svoj novi poklic prikriva pred nosečo ženo Viivi\, a tudi ona ima skrivnost: udeležuje se seminarja opolnomočenja žensk\, ki vključuje moške sužnje. Ko Toomas dobi vlogo v seksploatacijskem filmu\, se skrivalnice zelo zapletejo. \n\n\n\n\n\n\n\n\n\n\n\n\n\n\n\n\n\n\n\n\n\n* Povprečna sreča / Average Happiness\n\n\n\n\n\n\n\n\nMaja Gehrig (Langfilm)\, Švica\, 2019\, 7’02” \nMed predstavitvijo v PowerPointu se statistični grafi začnejo osvobajati iz prisilnih jopičev svojih koordinat in prične se popotovanje v čutni svet statistike. Tortni grafikoni se topijo\, puščični prikazi se zvijajo\, razsevni grafikoni\, palični prikazi in borzne krivulje se združijo do skupnega vrhunca. \n\n\n\n\n\n\n\n\n\n\n\n\n\n\n\n\n\n\n\n\n\n* Ledena groza / Filles bleues\, Peur Blanche\n\n\n\n\n\n\n\n\nMarie Jacotey & Lola Halifa-Legrand (Miyu Productions)\, Francija\, 2020\, 9’50” \nPar na provansalskih cestah. Ko Nils Floro prvič pelje na obisk k svojim staršem\, na poti naletita na zasedo. Njo zajamejo\, on pobegne. V noči\, ki jo preživi sredi borovega gozda\, se mora Flora soočiti s svojo negotovostjo. \n\n\n\n\n\n\n\n\n\n\n\n\n\n\n\n\n\n\n\n\n\n* Objemi me tesno / Hold Me Tight\n\n\n\n\n\n\n\n\nLeoluna Tourneur-Robert (Vivi Film\, La Clairière Ouest)\, Francija\, 2021\,6’ \nV osrčju temnega gozda se v eksplozivni poročni paradi srečata dve silhueti\, ki se privlačita in odbijata. Objemi me tesno je grenko-sladka romanca. \n\n\n\n\n\n\n\n\n\n\n\n\n\n\n\n\n\n\n\n\n\n* Divja ljubezen / Wild Love\n\n\n\n\n\n\n\n\nPaul Autric\, Quentin Camus\, Maryka Laudet\, Léa Georges\, Zoé Sottiaux\, Corentin Yvergniaux (2018) \nAlan in Beverly med romantičnim pobegom povzročita nesrečo s smrtnim izidom. Ta zločin ne bo ostal nekaznovan. \n\n\n\n\n\n\n\n\n\n\n\n\n\n\n\n\n\n\n\n\n\n* #21xoxo\n\n\n\n\n\n\n\n\nSine Özbilge\, Belgija\, 2019\, 9’ \n#21xoxo je kratki animirani film\, ki prikazuje nadrealističen in humoren odsev 21. stoletja ~ opisuje dekle in njene nihilistične dogodivščine v vzporednem digitalnem vesolju\, ki se prepleta s hitrimi zmenki\, hipstersko kulturo in post-internet odnosom do življenja. \n\n\n\n\n\n\n\n\n\n\n\n\n\n\n\n\n\n\n\n\n\n* Pentola\n\n\n\n\n\n\n\n\nLeo Černic (CSC – Centro Sperimentale di Cinematografia – Scuola Nazionale di Cinema)\, Italija\, Slovenija 2022\, 7’12’’ \nNi lahko biti junak. Toda ti\, Pentola\, ti si moj superjunak. \n\n\n\n\n\n\n\n\n\n\n\n\n\n\n\n\n\n\n\n\n\n\n\n\n\n\n\n\n\n\n\n\n\n\n\n\n\n\n\nVstopnice si zagotovite na blagajni Lutkovnega gledališča Maribor\, na Vojašniškem trgu 2a. Blagajna je odprta od torka do petka med 10. in 13. uro\, v četrtek tudi med 15. in 18. uro\, v soboto med 9. in 11. uro ter uro pred vsako predstavo. Nakup vstopnic je možen tudi na SPLETU. \nVstopnina: 5 € \n\n\n\n\n\n\n\n\nSpletna stran Film in Maribor\n\n\n\n\n\n\n\n\n\n\n\n\n\n\n\n\n\n\n* Konzorcij Film in Maribor sestavljamo  Pekarna Magdalenske mreže\,    Društvo za razvoj filmske kulture – DRFK\,    Film Factory Maribor\,    Zavod MARS Maribor\,    Društvo Mitra   “Filmske nedelje v Lutkovnem” pripravljamo v sodelovanju z Lutkovnim gledališčem Maribor in Mestno občino Maribor. \n\n\n\n\n\n\n\n\n\n\n\n\n\n\n\n\n\n\n\n\n\n\n\n\n\n\n\n\n\n\n\n\nPovezava do originalnega članka
URL:https://kultura.maribor.si/dogodek/filmske-nedelje-in-sobote-v-lutkovnem-temne-strani-ljubezni-in-seksualnosti-2022-11-13-19-00-00-2022-11-19-00-00-00/
LOCATION:Lutkovno gledališče Maribor
CATEGORIES:Dogodki
ATTACH;FMTTYPE=image/jpeg:https://kultura.maribor.si/wp-content/uploads/2022/11/312610991_491640503005992_5003184263551773067_n-1024x576-1.jpg
END:VEVENT
BEGIN:VEVENT
DTSTART;TZID=Europe/Paris:20221114T000000
DTEND;TZID=Europe/Paris:20221118T000000
DTSTAMP:20260426T041649
CREATED:20221111T223257Z
LAST-MODIFIED:20221114T091017Z
UID:27943-1668384000-1668729600@kultura.maribor.si
SUMMARY:Literarna postaja. Anja Radaljac: Punčica
DESCRIPTION:Pridružujemo se praznovanju – TEDEN SPLOŠNIH KNJIŽNIC Slovenije\nOd ponedeljka\, 14. novembra\, do petka\, 18. novembra \nLiterarna postaja \nANJA RADALJAC: PUNČICA \nSreda\, 16. novembra\, ob 18. uri v Sodnem stolpu\, Pristan 8\, Maribor \nDrugi roman pisateljice in kritičarke Anje Radaljac Punčica\, ki je letos izšel pri založbi Litera\, je izjemno zgoščena in napeta pripoved. Dotika se vseh kompleksnih in aktualnih družbenih tem današnjega časa\, se upira ideji antropocentrizma\, nas spretno vodi v motive ranljivosti in inovativno uporablja spolno nevtralni jezik. Pogovor z avtorico bo vodila Tonja Jelen. \n\n\nPovezava do originalnega članka
URL:https://kultura.maribor.si/dogodek/literarna-postaja-anja-radaljac-puncica-2022-11-16-00-00-00/
LOCATION:Sodni stolp na Lentu
CATEGORIES:Dogodki,Literatura
ATTACH;FMTTYPE=image/png:https://kultura.maribor.si/wp-content/uploads/2022/11/Lit_postaja_Radaljac_nov_3_900x600.png
END:VEVENT
BEGIN:VEVENT
DTSTART;TZID=Europe/Paris:20221115T163000
DTEND;TZID=Europe/Paris:20221115T180000
DTSTAMP:20260426T041649
CREATED:20221026T210541Z
LAST-MODIFIED:20221109T131114Z
UID:27410-1668529800-1668535200@kultura.maribor.si
SUMMARY:Likovna gimnastika za možgane\, 15+
DESCRIPTION:Z likovno pedagoginjo Manjo Jerič. \nVSAK TOREK\, 16.30−18.00. \nVabimo vas k dvomesečnemu raziskovanju\, spoznavanju različnih tehnik in pristopov risanja ter sproščanja ob risbi. \nOb likovno meditativni metodi bomo sprostili ustvarjalni proces in postali avtorji mojstrovin. Z različnimi likovnimi nalogami bomo prevetrili naše možgančke\, ki krepijo nevronske povezave\, širijo percepcijo in krepijo koncentracijo. \nPridruži se lahko prav vsak\, saj za risanje fraktalne risbe ni potrebno likovno predznanje. \nCena za 8 srečanj je 160 EUR\, 80 EUR/mesec. \nVeč informacij na: info@marsmaribor.org \nUdeleženci delavnice prejmejo vso potrebno spodbudo\, materiale in napotke za delo. \nObvezne so prijave. Število mest je omejeno na 10. \nOrganizator si pridržuje pravico do spremembe programa. \n\n\nOrganizator: Zavod Mars Maribor \n\n\n\nPovezava do originalnega članka
URL:https://kultura.maribor.si/dogodek/likovna-gimnastika-za-mozgane-15-2022-11-15-16-30-00-2022-11-15-18-00-00/
LOCATION:Vetrinjski dvor
CATEGORIES:Delavnice,Dogodki
ATTACH;FMTTYPE=image/jpeg:https://kultura.maribor.si/wp-content/uploads/2022/10/10.Ustvarjalni_cetrtki_4_b.jpg
END:VEVENT
BEGIN:VEVENT
DTSTART;TZID=Europe/Paris:20221115T170000
DTEND;TZID=Europe/Paris:20221115T170000
DTSTAMP:20260426T041649
CREATED:20221110T221024Z
LAST-MODIFIED:20221114T090928Z
UID:27876-1668531600-1668531600@kultura.maribor.si
SUMMARY:Pravljična ura za otroke v Pionirski knjižnici (City)\,  Knjižnici Tezno in Knjižnici Rače ob 17. uri
DESCRIPTION:Pravljična ura za otroke \nV torek\, 15. novembra 2022\, ob 17. uri. \nVabljeni v pravljične kotičke Pionirske knjižnice v Trgovskem centru City Maribor\, Knjižnice Tezno in Knjižnice Rače. \n\n\n\n\nPovezava do originalnega članka
URL:https://kultura.maribor.si/dogodek/pravljicna-ura-za-otroke-v-pionirski-knjiznici-city-knjiznici-tezno-in-knjiznici-race-ob-17-uri-2022-11-15-00-00-00/
LOCATION:Vabljeni v pravljične kotičke Pionirske knjižnice v Trgovskem centru City Maribor\, Knjižnice Tezno in Knjižnice Rače
CATEGORIES:Dogodki,Literatura
ATTACH;FMTTYPE=image/png:https://kultura.maribor.si/wp-content/uploads/2022/11/Pravljicne-ure2-JK-09_900x600-4.png
END:VEVENT
BEGIN:VEVENT
DTSTART;TZID=Europe/Paris:20221115T170000
DTEND;TZID=Europe/Paris:20221115T170000
DTSTAMP:20260426T041649
CREATED:20221110T221035Z
LAST-MODIFIED:20221114T090952Z
UID:27878-1668531600-1668531600@kultura.maribor.si
SUMMARY:Knjižnični cikel. PRIMOŽ PREMZL
DESCRIPTION:Pridružujemo se praznovanju – TEDEN SPLOŠNIH KNJIŽNIC Slovenije\nOd ponedeljka\, 14. novembra\, do petka\, 18. novembra \nKnjižnični cikel \nPRIMOŽ PREMZL \nTorek\, 15. novembra\, ob 17. uri v Sodnem stolpu\, Pristan 8\, Maribor \nUmetniški kabinet Primoža Premzla obeležuje 30 let založniškega in galerijskega delovanja. Vse od študentskih let je neutruden zbiratelj mariborskega domoznanskega gradiva in prejemnik dveh Glazerjevih listin v letih 2002 in 2012. \nIz utemeljitve nagrade (2002): »… Brez Premzlovih založniških dosežkov bi marsikatero mariborsko kulturnozgodovinsko pričevanje ostalo še dolgo v ranljivem\, težko dostopnem unikatu ali razpršeno v domala neznanih virih. Po zaslugi njegovih edicij postajajo naša redka ohranjena pričevanja naposled vsakomur dostopna.« \nS Primožem Premzlom se bo pogovarjala mag. Nina Hriberšek Vuk. \n\n\nPovezava do originalnega članka
URL:https://kultura.maribor.si/dogodek/knjiznicni-cikel-primoz-premzl-2022-11-15-00-00-00/
LOCATION:Sodni stolp na Lentu
CATEGORIES:Dogodki,Literatura
ATTACH;FMTTYPE=image/png:https://kultura.maribor.si/wp-content/uploads/2022/11/knj_cikel_predav_Premzl3_900x600.png
END:VEVENT
BEGIN:VEVENT
DTSTART;TZID=Europe/Paris:20221115T180000
DTEND;TZID=Europe/Paris:20221115T180000
DTSTAMP:20260426T041649
CREATED:20221113T184714Z
LAST-MODIFIED:20221114T090746Z
UID:27953-1668535200-1668535200@kultura.maribor.si
SUMMARY:La Place
DESCRIPTION:La Place\nPlesno glasbeni performans\n\nCena vstopnice: 10\,00 EUR \n\n\n\nLA PLACE – Variacije za Telo Ritem Glas\n\nTrg (La Place) je preizpraševanje odnosov\, ki se vzpostavljajo med posamezniki\, med kulturami\, med preteklostjo in sedanjostjo. Je izraz našega upanja po združitvi in razumevanju raznolikosti\, je klic po spoštljivi komunikaciji in harmoničnemu sobivanju\, je to k čemer stremimo: k  prihodnosti zgrajeni na razumevanju. Umetnost je po našem mnenju eden izmed načinov\, ki kaže\, kako lahko sobivajo raznoliki izrazi in s svojim univerzalnim jezikom presega meje\, delitve ter nesoglasja spremeni v novo melodijo/ sozvočje. \nTrg ponuja priložnost\, da se zavemo\, da so naše resnice le majhen delček mozaika\, ki kreira naš planet\, da presežemo ozkoglednost in ponudimo priložnost soobstoju. Namen predstave je vzbuditi razmišljanje o moči sodelovanja in o tem\, koliko nam potrpežljivost in želja po sprejemanju sočloveka odpira možnosti\, da sebe mislimo drugače\, se obogatimo in spoznavamo. \n\nVstopnice: rezervacije na info@baobab.si in uro pred koncertom pri vhodu na Mali oder \n\n\n\n\nPovezava do originalnega članka
URL:https://kultura.maribor.si/dogodek/la-place-2022-11-15-18-00-00/2022-11-15/
LOCATION:Mali oder Narodnega doma
CATEGORIES:Dogodki,Glasba,Gledališče
ATTACH;FMTTYPE=image/jpeg:https://kultura.maribor.si/wp-content/uploads/2022/11/csm_220525_Dan_Afrike_034foto.nada_.zgank_12bb018be9-2.jpg
END:VEVENT
BEGIN:VEVENT
DTSTART;TZID=Europe/Paris:20221115T183000
DTEND;TZID=Europe/Paris:20221115T183000
DTSTAMP:20260426T041649
CREATED:20221026T210544Z
LAST-MODIFIED:20230308T085434Z
UID:27412-1668537000-1668537000@kultura.maribor.si
SUMMARY:ŠOLA KVAČKANJA\, 15+
DESCRIPTION:VSAK TOREK\, 18.30-20.00 \nŠOLA KVAČKANJA\, 15+ \nz ustvarjalko Brigito Klajnšek. \nKvačkanje so poznale naše babice\, prababice\, praprababice. Izdelovale so si obleke\, copatke\, okraske za dom in druge uporabne reči. Tiste bolj spretne so znale skvačkati tudi igrače za otroke. \nTe dragocene veščine ohranja naša Nina Kolšek in jih z veseljem deli z vami. Tedenska delavnica ponuja osnove za vse\, ki vas zanimata kvačka in prejica in bi želeli spoznati drobne skrivnosti velikih mojstrov. Delavnica je tudi prostor druženja\, izmenjevanja znanj in izkušenj. \nCena za tečaj je 30 EUR/mesec \nPRIJAVA: Zavod Mars Maribor \nUdeleženci delavnice prejmejo vse potrebne materiale\, napotke in spodbudo za delo. \nObvezne so prijave. Število mest je omejeno na 10. Minimalno število za izvedbo aktivnosti je 5 oseb. \nOrganizator si pridržuje pravico do spremembe programa. Ravnamo odgovorno do sebe in drugih. \n\n\nOrganizira: Zavod MARS Maribor  \n\n\n\nPovezava do originalnega članka
URL:https://kultura.maribor.si/dogodek/sola-kvackanja-15-2022-11-15-18-30-00/2022-11-15/
LOCATION:Vetrinjski dvor
CATEGORIES:Delavnice,Kulturno-umetnostna vzgoja
ATTACH;FMTTYPE=image/jpeg:https://kultura.maribor.si/wp-content/uploads/2022/10/tecajiKvackanje_13_b.jpg
END:VEVENT
BEGIN:VEVENT
DTSTART;TZID=Europe/Paris:20221115T193000
DTEND;TZID=Europe/Paris:20221115T220000
DTSTAMP:20260426T041649
CREATED:20221102T091554Z
LAST-MODIFIED:20221109T131241Z
UID:27507-1668540600-1668549600@kultura.maribor.si
SUMMARY:Ožuljeni jezik: Besedozvezdja
DESCRIPTION:Kaj je zapisano ali odslamano v zvedah? Kakšne verze pišejo astrološka znamenja? In ali lahko rečemo\, da so poezije v resnici… besedozvezdja? Odgovore bomo iskali na dogodku serije Ožuljeni jezik\, ki bo 15. novembra ob 19:30 v Vetrinjskem dvoru. \nNa torkov jesenski večer\, ko je Luna v levu\, bodo astrologi znali povedati\, da je dober dan za prireditve – torej odličen dan za slam! Zato vas zverine vabimo na drugi Ožuljeni jezik te sezone\, kjer bomo skupaj ugotovili\, kdo zna zares slamat iz zvezd in kako se je vanje zapisala “zloglasna” pesniška zbirka. \nLITERARNI GOSTJE\nTokrat bomo gostili več mladih avtoric_jev\, ki bodo skupaj z urednikom Dejanom Kobanom predstavili novo zbirko založbe Črna skrinjica “Bog si ga d*** na nas”\, ki je v medijih in slovenski javnosti dvignila precej prahu. Tako bomo na lastna ušesa in očesa slišali videli\, ali je ta zbirka res tako kontroverzna in kaj nam pravzaprav predstavlja ter sporoča. Več informacij o zbirki in pesnikih_cah\, ki jo bodo na našem dogodku predstavili\, poste izvedeli tudi iz naših objav v dogodku. \n\n\n\n\n\n\n\n\n\nKAJ JE OŽULJENI JEZIK?\nDogodek je tekmovalnega značaja\, povezuje pa ga improligašica Mojca Frim iz skupine Banda Ferdamana. Ožuljeni jezik vsebuje nastope tekmovalcev in tekmovalk\, ki se drug za drugim predstavijo z avtorsko poezijo. Zmaga tisti/-a\, ki mu/ji gledalci/-ke in poskušalci/-ke tekom večera namenijo največ glasov. \n\nOŽULJENA PRAVILA\n\nNa odru predstavimo dve do tri svoje pesmi\,\nposamezna pesem je dolga največ tri minute\,\nnastopamo brez rekvizitov\, kostumov in glasbil\,\npesem se poskusimo naučiti na pamet\, sicer si med nastopom na glavo poveznemo pokrivalo.\n\nPRIJAVE\nPrijave za nastop zbiramo na ozuljenijezik@gmail.com\, preko zasebnega sporočila na Facebook strani Slam zverine ali na kraju dogodka\, malo pred pričetkom. \nVstopnine ni\, so pa zaželene donacije v podporo delovanja društva Slam zverin. \nObišči tudi:\nhttp://mkc.si/slam-poezija\nFB: Slam zverine\, MKC Črka\, SiSlam \nDogodek organiziramo MKC Maribor – MKC Črka in Pesniško društvo Slam zverine\, v sodelovanju z Bando ferdamano\, Vetrinjskim dvorom\, s finančno podporo Mestne občine Maribor\, Ministrstva za izobraževanje\, znanost in šport – Urada RS za mladino in Javne agencije RS za knjigo \n\n\n\n\n\nPovezava do originalnega članka
URL:https://kultura.maribor.si/dogodek/ozuljeni-jezik-besedozvezdja-2022-11-15-19-30-00-2022-11-15-22-00-00/
LOCATION:Vetrinjski dvor
CATEGORIES:Dogodki
ATTACH;FMTTYPE=image/jpeg:https://kultura.maribor.si/wp-content/uploads/2022/11/Besedozvezdja.jpg
END:VEVENT
END:VCALENDAR