BEGIN:VCALENDAR
VERSION:2.0
PRODID:-//Kultura Maribor - ECPv6.2.8.1//NONSGML v1.0//EN
CALSCALE:GREGORIAN
METHOD:PUBLISH
X-WR-CALNAME:Kultura Maribor
X-ORIGINAL-URL:https://kultura.maribor.si
X-WR-CALDESC:Events for Kultura Maribor
REFRESH-INTERVAL;VALUE=DURATION:PT1H
X-Robots-Tag:noindex
X-PUBLISHED-TTL:PT1H
BEGIN:VTIMEZONE
TZID:Europe/Paris
BEGIN:DAYLIGHT
TZOFFSETFROM:+0100
TZOFFSETTO:+0200
TZNAME:CEST
DTSTART:20240331T010000
END:DAYLIGHT
BEGIN:STANDARD
TZOFFSETFROM:+0200
TZOFFSETTO:+0100
TZNAME:CET
DTSTART:20241027T010000
END:STANDARD
END:VTIMEZONE
BEGIN:VEVENT
DTSTART;TZID=Europe/Paris:20241116T180000
DTEND;TZID=Europe/Paris:20241116T210000
DTSTAMP:20260421T204011
CREATED:20240916T061640Z
LAST-MODIFIED:20240916T061640Z
UID:78500-1731780000-1731790800@kultura.maribor.si
SUMMARY:Karmina Šilec: OVIS Dolgočasne ovce\, ki spreminjajo svet
DESCRIPTION:dokumentarna opera \nOvce so bistvene v človeški zgodbi. Med živalmi je ovca najmočneje vplivala na življenje ljudi. Ključna v človekovi zgodovini nas ta izjemna žival hrani\, zdravi\, oblači\, nam pomaga do blaginje in bede\, graditi imperije in pustošiti krajine\, urejati dom in odkrivati nove kontinente\, graditi mesta in ustvarjati umetnine. Ovce niso le rejne živali\, ki čakajo\, da postanejo ovčetina. OVIS postavlja to vsakdanjo vrsto v ospredje. Raziskuje\, kako močno so ovce vplivale na človeštvo in naravo\, od kod so prišle in česa izjemnega smo se ljudje od njih naučili. \nUspeh ali neuspeh civilizacij je bil odvisen od ovac. Njihova vloga v prehrani je človeka biološko spremenila\, pomembne so v sodobni medicini\, znanosti\, gospodarstvu in industriji\, v mnogih kulturah nosijo velik simbolni pomen. \nOVIS daje tem bitjem priložnost\, da povedo svojo zgodbo. \n\nPovezava do originalnega članka
URL:https://kultura.maribor.si/dogodek/karmina-silec-ovis-dolgocasne-ovce-ki-spreminjajo-svet-2024-11-15-18-00-00-2024-11-15-21-00-00/2024-11-16/
LOCATION:Maribor center / Kulturna četrt Minoriti
CATEGORIES:Dogodki,Glasba,Gledališče
ATTACH;FMTTYPE=image/jpeg:https://kultura.maribor.si/wp-content/uploads/2024/09/01e670de-2c40-4392-9662-4c19d3f9e564-1.jpg
END:VEVENT
BEGIN:VEVENT
DTSTART;TZID=Europe/Paris:20241115T180000
DTEND;TZID=Europe/Paris:20241115T210000
DTSTAMP:20260421T204011
CREATED:20240916T061640Z
LAST-MODIFIED:20241018T065102Z
UID:77105-1731693600-1731704400@kultura.maribor.si
SUMMARY:Karmina Šilec: OVIS Dolgočasne ovce\, ki spreminjajo svet
DESCRIPTION:dokumentarna opera \nOvce so bistvene v človeški zgodbi. Med živalmi je ovca najmočneje vplivala na življenje ljudi. Ključna v človekovi zgodovini nas ta izjemna žival hrani\, zdravi\, oblači\, nam pomaga do blaginje in bede\, graditi imperije in pustošiti krajine\, urejati dom in odkrivati nove kontinente\, graditi mesta in ustvarjati umetnine. Ovce niso le rejne živali\, ki čakajo\, da postanejo ovčetina. OVIS postavlja to vsakdanjo vrsto v ospredje. Raziskuje\, kako močno so ovce vplivale na človeštvo in naravo\, od kod so prišle in česa izjemnega smo se ljudje od njih naučili. \nUspeh ali neuspeh civilizacij je bil odvisen od ovac. Njihova vloga v prehrani je človeka biološko spremenila\, pomembne so v sodobni medicini\, znanosti\, gospodarstvu in industriji\, v mnogih kulturah nosijo velik simbolni pomen. \nOVIS daje tem bitjem priložnost\, da povedo svojo zgodbo. \n\nPovezava do originalnega članka
URL:https://kultura.maribor.si/dogodek/karmina-silec-ovis-dolgocasne-ovce-ki-spreminjajo-svet-2024-11-15-18-00-00-2024-11-15-21-00-00/2024-11-15/
LOCATION:Maribor center / Kulturna četrt Minoriti
CATEGORIES:Dogodki,Glasba,Gledališče
ATTACH;FMTTYPE=image/jpeg:https://kultura.maribor.si/wp-content/uploads/2024/09/01e670de-2c40-4392-9662-4c19d3f9e564-1.jpg
END:VEVENT
END:VCALENDAR