BEGIN:VCALENDAR
VERSION:2.0
PRODID:-//Kultura Maribor - ECPv6.2.8.1//NONSGML v1.0//EN
CALSCALE:GREGORIAN
METHOD:PUBLISH
X-WR-CALNAME:Kultura Maribor
X-ORIGINAL-URL:https://kultura.maribor.si
X-WR-CALDESC:Events for Kultura Maribor
REFRESH-INTERVAL;VALUE=DURATION:PT1H
X-Robots-Tag:noindex
X-PUBLISHED-TTL:PT1H
BEGIN:VTIMEZONE
TZID:Europe/Paris
BEGIN:DAYLIGHT
TZOFFSETFROM:+0100
TZOFFSETTO:+0200
TZNAME:CEST
DTSTART:20240331T010000
END:DAYLIGHT
BEGIN:STANDARD
TZOFFSETFROM:+0200
TZOFFSETTO:+0100
TZNAME:CET
DTSTART:20241027T010000
END:STANDARD
END:VTIMEZONE
BEGIN:VEVENT
DTSTART;TZID=Europe/Paris:20240224T200000
DTEND;TZID=Europe/Paris:20240224T200000
DTSTAMP:20260423T093215
CREATED:20240124T085321Z
LAST-MODIFIED:20240214T155226Z
UID:68720-1708804800-1708804800@kultura.maribor.si
SUMMARY:J. B. P. Molière: Tartuffe
DESCRIPTION:Žlahtna komedija\, ki nastane ob srečanju naivne zaslepljenosti in spletkarske pokvarjenosti. \nLe Tartuffe ou l’Imposteur \nNajslavnejši evropski komediograf Jean Baptiste Poquelin Molière (1622–1673) predstavlja vrh francoske klasicistične komedije\, pisane v večinoma verzificirani obliki in v stilu dramaturgije trojne enotnosti\, ki je svoje motive črpala iz antične rimske in italijanske ter španske renesančne komedije\, pa tudi iz srednjeveških fars in commedie dell arte. Molièrovi odrski junaki so splošno veljavni tipi oziroma karakterji\, ki predstavljajo splošne značilnosti socialnih pojavov ali človeških lastnosti oziroma napak\, na primer skopuh\, svetohlinec\, hipohonder\, rogonosec … Komedija Tartuffe je nastala v najplodnejšem in filozofsko najbolj poglobljenem umetniškem obdobju Molièrovega ustvarjanja. Ime Tartuffe je z leti (in stoletji) postal univerzalni arhetipski izraz dvoličnosti\, licemerstva in svetohlinstva. Pojem je ponarodel in postal splošni simbol za hinavščino\, zlasti cerkveno. Molière je imel z uprizoritvijo velike težave. Takoj po prvi izvedbi (1664) je bila komedija na zahtevo cerkvenih krogov strogo prepovedana in trajalo je do leta 1669\, ko je znova smela na oder (vzrok za to je bil\, da je v tem času kralj Molièrovo gledališko skupino vzel pod svojo zaščito). \nNakup vstopnic\n24. 2. 2024 – nakup\n26. 2. 2024 – nakup\n27. 2. 2024 – nakup\n15. 3. 2024 – nakup\n16. 3. 2024 – nakup\n25. 3. 2024 – nakup\n26. 3. 2024 – nakup\n29. 3. 2024 – nakup\n30. 3. 2024 – nakup\n \n  \n\nPovezava do originalnega članka
URL:https://kultura.maribor.si/dogodek/j-b-p-moli-re-tartuffe-2024-02-24-20-00-00-2024-02-24-00-00-00/2024-02-24/
LOCATION:Maribor center / SNG Maribor\, Dvorana Frana Žižka (Slovenska cesta 27\, Maribor)
CATEGORIES:Dogodki,Gledališče
ATTACH;FMTTYPE=image/jpeg:https://kultura.maribor.si/wp-content/uploads/2024/01/slovensko-narodno-gledalisce-maribor1-slovenia-slovenija-maribor-pohorje-marko-petrej.jpg
END:VEVENT
END:VCALENDAR