BEGIN:VCALENDAR
VERSION:2.0
PRODID:-//Kultura Maribor - ECPv6.2.8.1//NONSGML v1.0//EN
CALSCALE:GREGORIAN
METHOD:PUBLISH
X-ORIGINAL-URL:https://kultura.maribor.si
X-WR-CALDESC:Events for Kultura Maribor
REFRESH-INTERVAL;VALUE=DURATION:PT1H
X-Robots-Tag:noindex
X-PUBLISHED-TTL:PT1H
BEGIN:VTIMEZONE
TZID:Europe/Paris
BEGIN:DAYLIGHT
TZOFFSETFROM:+0100
TZOFFSETTO:+0200
TZNAME:CEST
DTSTART:20220327T010000
END:DAYLIGHT
BEGIN:STANDARD
TZOFFSETFROM:+0200
TZOFFSETTO:+0100
TZNAME:CET
DTSTART:20221030T010000
END:STANDARD
END:VTIMEZONE
BEGIN:VEVENT
DTSTART;TZID=Europe/Paris:20221204T190000
DTEND;TZID=Europe/Paris:20221210T000000
DTSTAMP:20260423T194232
CREATED:20221129T094212Z
LAST-MODIFIED:20221130T083106Z
UID:29088-1670180400-1670630400@kultura.maribor.si
SUMMARY:Filmske nedelje (in sobote) v Lutkovnem: Predpremiera: Primeri inšpektorja Vrenka
DESCRIPTION:4. in 10. 12. 2022 ob 19.00\, Lutkovno gledališče Maribor \nFilmske nedelje (in sobote) v Lutkovnem:\nPredpremiera: Primeri inšpektorja Vrenka\n\n\n\n\n\n\nJesenski sklop Filmske nedelje in sobote v Lutkovnem zaključujemo s predpremiero prvega dela nove sezone slovenske televizijske kriminalistične serije Primeri inšpektorja Vrenka\, z naslovom Nevidni človek. Serija je posneta po romanih Mariborčana Avgusta Demšarja in se pretežno dogaja v Mariboru\, zato prepremierno projekcijo ponujamo prav mariborskemu občinstvu. \n\n\n\n\n\n\nPo nedeljski projekciji se bomo pogovarjali z ekipo serije. \n\n\n\n\n\n\n\n\n\n\n\n\n\n\n\n\n\n\n\n\n* PRIMERI INŠPEKTORJA VRENKA: NEVIDNI ČLOVEK (S02E01)\n\n\n\n\n\n\n\n\nigrana TV nadaljevanka / Boris Jurjaševič / produkcija: TV Slovenija / Slovenija\, 2022\, 44 min / slovenščina \n\n\n\n\n\n\n\n\n\nEKIPA: Režiserja nadaljevanke sta Slobodan Maksimović in Boris Jurjaševič. Avtorsko jedro poleg njiju sestavljajo še direktor fotografije Vladan G. Janković\, scenografka Mateja Medvedić\, kostumografka Katarina Šavs\, oblikovalka maske Lija Ivančič in montažer Jurij Moškon. \nKriminalističnima inšpektorjema Dariju Vargi (Vrenko) in Lotosu Šparovcu (Brajdič) se je v novi sezoni pridružil nov pomočnik – Lovro Zafred (Krajnc). \n\n\n\n\n\n\n\n\n\n\nV Mariboru potekajo zadnje priprave na kongres na temo ekologije\, ki ga organizira ambiciozna direktorica Inštituta Ema Žnidaršič (Pia Zemljič). Poseben gost je mednarodno uveljavljeni strokovnjak\, zamejski Slovenec Peter Divjak (Uroš Fürst). Čeprav je bil izlet kongresnikov na Pohorje\, ki je potekal pod vodstvom Emine sodelavke Marte Jenko (Nina Ivanišin)\, na prvi pogled uspešen\, pa na jutro velikega dogodka Drava naplavi truplo gostujočega kongresnika\, uglednega znanstvenika Divjaka. Ko preiskave pokažejo\, da je Divjak umrl nasilne smrti\, se inšpektor Martin Vrenko (Dario Varga) z novim sodelavcem Tadejem Krajncem (Lovro Zafred) poda v iskanje storilca. \n\n\n\n\n\n\n\n\n\n\nVelik del prizorov je posnet v Mariboru\, v Vetrinjskem dvoru in na Lentu\, like pa so poleg že znanih obrazov – Darija Varge\, Lotosa Šparovca\, Katarine Čas\, Janeza Hočevarja Rifleta uprizorili znani igralci Pia Zemljič\, Nina Ivanišin\, Uroš Fürst in Peter Boštjančič. \n\n\n\n\n\n\n\n\n\n\nPrva sezona nadaljevanke\, ki je bila na Televiziji Slovenija predvajana leta 2021\, je rušila rekorde v gledanosti in je postala najbolje gledana igrana serija na TV Slovenija v tem tisočletju. Drugo sezono Primerov inšpektorja Vrenka si bodo gledalci na ekranih TVS lahko premierno ogledali v začetku leta 2023. \n\n\n\n\n\n\n\n\n\n\n\n\n\n\n\n\n\n\n\n\n\n\n\n\n\n\n\n\n\n\n\n\n\n\n\n\n\n\n\nVstopnice si zagotovite na blagajni Lutkovnega gledališča Maribor\, na Vojašniškem trgu 2a. Blagajna je odprta od torka do petka med 10. in 13. uro\, v četrtek tudi med 15. in 18. uro\, v soboto med 9. in 11. uro ter uro pred vsako predstavo. Nakup vstopnic je možen tudi na SPLETU. \nVstopnina: 5 € \n\n\n\n\n\n\n\n\n\n\n\n\n\n\n\n\n\n\n\nspletna stran film in maribor\n\n\n\n\n\n\n* Konzorcij Film in Maribor sestavljamo  Pekarna Magdalenske mreže\,    Društvo za razvoj filmske kulture – DRFK\,    Film Factory Maribor\,    Zavod MARS Maribor\,    Društvo Mitra   “Filmske nedelje v Lutkovnem” pripravljamo v koprodukciji z Lutkovnim gledališčem Maribor in sofinanciranjem Mestne občine Maribor. \n\n\n\n\n\n\n\n\n\n\n\n\n\n\n\n\n\n\n\n\n\n\n\n\n\n\n\n\n\n\n\n\nPovezava do originalnega članka
URL:https://kultura.maribor.si/dogodek/filmske-nedelje-in-sobote-v-lutkovnem-predpremiera-primeri-inspektorja-vrenka-2022-12-04-19-00-00-2022-12-10-00-00-00/2022-12-04/
LOCATION:Lutkovno gledališče Maribor
CATEGORIES:Dogodki
ATTACH;FMTTYPE=image/jpeg:https://kultura.maribor.si/wp-content/uploads/2022/11/317396687_510412361128806_8256874898417195605_n-1024x576-1.jpg
END:VEVENT
END:VCALENDAR