BEGIN:VCALENDAR
VERSION:2.0
PRODID:-//Kultura Maribor - ECPv6.2.8.1//NONSGML v1.0//EN
CALSCALE:GREGORIAN
METHOD:PUBLISH
X-ORIGINAL-URL:https://kultura.maribor.si
X-WR-CALDESC:Events for Kultura Maribor
REFRESH-INTERVAL;VALUE=DURATION:PT1H
X-Robots-Tag:noindex
X-PUBLISHED-TTL:PT1H
BEGIN:VTIMEZONE
TZID:UTC
BEGIN:STANDARD
TZOFFSETFROM:+0000
TZOFFSETTO:+0000
TZNAME:UTC
DTSTART:20210101T000000
END:STANDARD
END:VTIMEZONE
BEGIN:VEVENT
DTSTART;TZID=UTC:20211211T170000
DTEND;TZID=UTC:20211211T170000
DTSTAMP:20260421T154850
CREATED:20211111T124901Z
LAST-MODIFIED:20211129T090149Z
UID:6085-1639242000-1639242000@kultura.maribor.si
SUMMARY:Ferdo\, veliki ptič 3+
DESCRIPTION:Andreja Peklar / 40 min\n\nPredstava Ferdo\, veliki ptič je nastala po istoimenski slikanici brez besed Andreje Peklar\, za katero je dobila številne slovenske in mednarodne nagrade\, med drugim nagrado Kristine Brenkove\, priznanje Hinka Smrekarja\, slikanica pa se je uvrstila tudi na častno listo IBBY. \nAvtorica zgodbo pripoveduje zgolj skozi podobe\, s čimer mladim bralcem omogoča\, da jo berejo vsak na svoj način. Brez napisanih besed lahko znotraj izjemnih ilustracij vsakdo najde svoje poudarke in simbole. \nZgodba pripoveduje o Ferdu\, ptiču\, ki je prevelik za okolje\, v katerem živi. Toda Ferdo svoje drugačnosti sploh ne opazi; še več: s pridom jo uporablja\, da z njo pomaga manjšim od sebe. Ometa visoke dimnike\, pomaga pri gradnji … Prav vsakemu\, ki potrebuje njegovo drugačnost\, z veseljem priskoči na pomoč. Utrujen in žejen nehote popije vso vodo iz ribnika. Ljudje in živali se ujezijo\, hitro pozabijo na njegova dobra dela in ga izženejo iz mesta. Osamljen Ferdo sam tava po svetu in naposled\nsreča drobno ptičico\, ki mu pomaga napolniti izpraznjen ribnik … \nFerdo\, veliki ptič je simbolov polna zgodba o velikosti in majhnosti\, velikodušnosti in sebičnosti ter o radosti\, ki jo vzbuja medsebojna pomoč. \nRežiserka Katja Povše nam v uprizoritvi predstavlja svoje videnje zgodbe skozi oči Potepuhinje. Ta se nostalgično spominja starih časov\, ki so jih zaznamovali velik ptič nad krošnjami\, otroški smeh v parku in kepice nepozabnega sladoleda … \n\n\n\nPovezava do originalnega članka
URL:https://kultura.maribor.si/dogodek/ferdo-veliki-ptic-3-2021-12-30-17-00-00/2021-12-11/
LOCATION:Mala dvorana
CATEGORIES:Dogodki,Gledališče
ATTACH;FMTTYPE=image/jpeg:https://kultura.maribor.si/wp-content/uploads/2021/11/LAH7321_h.jpg
END:VEVENT
END:VCALENDAR